BEGIN:VCALENDAR
VERSION:2.0
PRODID:-//East Liberty Presbyterian Church - ECPv6.15.20//NONSGML v1.0//EN
CALSCALE:GREGORIAN
METHOD:PUBLISH
X-ORIGINAL-URL:https://cathedralofhope.org
X-WR-CALDESC:Events for East Liberty Presbyterian Church
REFRESH-INTERVAL;VALUE=DURATION:PT1H
X-Robots-Tag:noindex
X-PUBLISHED-TTL:PT1H
BEGIN:VTIMEZONE
TZID:America/New_York
BEGIN:DAYLIGHT
TZOFFSETFROM:-0500
TZOFFSETTO:-0400
TZNAME:EDT
DTSTART:20240310T070000
END:DAYLIGHT
BEGIN:STANDARD
TZOFFSETFROM:-0400
TZOFFSETTO:-0500
TZNAME:EST
DTSTART:20241103T060000
END:STANDARD
BEGIN:DAYLIGHT
TZOFFSETFROM:-0500
TZOFFSETTO:-0400
TZNAME:EDT
DTSTART:20250309T070000
END:DAYLIGHT
BEGIN:STANDARD
TZOFFSETFROM:-0400
TZOFFSETTO:-0500
TZNAME:EST
DTSTART:20251102T060000
END:STANDARD
BEGIN:DAYLIGHT
TZOFFSETFROM:-0500
TZOFFSETTO:-0400
TZNAME:EDT
DTSTART:20260308T070000
END:DAYLIGHT
BEGIN:STANDARD
TZOFFSETFROM:-0400
TZOFFSETTO:-0500
TZNAME:EST
DTSTART:20261101T060000
END:STANDARD
END:VTIMEZONE
BEGIN:VEVENT
DTSTART;TZID=America/New_York:20250316T094500
DTEND;TZID=America/New_York:20250316T104500
DTSTAMP:20260426T003934
CREATED:20250228T113925Z
LAST-MODIFIED:20250228T114414Z
UID:10006463-1742118300-1742121900@cathedralofhope.org
SUMMARY:Lenten LOVE BIG Discussions
DESCRIPTION:Join us during the season of Lent as we use scripture and Rozella Haydée White’s book\, Love Big: The Power of Revolutionary Relationships to Heal the World\, to explore what it means to love God\, love ourselves\, and love others in ways that truly transform us and the world around us. \nWe will meet on Sundays\, March 9–April 13: \n\n9:45–10:45 am\, at the Journey with Scripture Adult Church School Class\, with Rev. Henk Bossers\n12:15–1:30 pm\, after Sanctuary worship\, with Pastor BJ (light refreshments will be provided)\n\nWe will have conversations to explore that week’s sermon and for those who choose\, the companion book\, Love Big: The Power of Revolutionary Relationships to Heal the World. Whether you have walked the Lenten path for decades or this is your first intentional Lenten practice\, you are invited to journey with us—with all your questions\, your wounds\, and your hopes.
URL:https://cathedralofhope.org/event/lenten-love-big-discussions/2025-03-16/
LOCATION:PA
CATEGORIES:Educational & Spiritual Life,Featured Events
ATTACH;FMTTYPE=image/jpeg:https://cathedralofhope.org/wp-content/uploads/2025/02/img_love-big.jpg
END:VEVENT
BEGIN:VEVENT
DTSTART;TZID=America/New_York:20250316T121500
DTEND;TZID=America/New_York:20250316T133000
DTSTAMP:20260426T003934
CREATED:20260323T221849Z
LAST-MODIFIED:20260323T221849Z
UID:10006468-1742127300-1742131800@cathedralofhope.org
SUMMARY:Lenten LOVE BIG Discussions
DESCRIPTION:Join us during the season of Lent as we use scripture and Rozella Haydée White’s book\, Love Big: The Power of Revolutionary Relationships to Heal the World\, to explore what it means to love God\, love ourselves\, and love others in ways that truly transform us and the world around us. \nWe will meet on Sundays\, March 9–April 13: \n\n9:45–10:45 am\, at the Journey with Scripture Adult Church School Class\, with Rev. Henk Bossers\n12:15–1:30 pm\, after Sanctuary worship\, with Pastor BJ (light refreshments will be provided)\n\nWe will have conversations to explore that week’s sermon and for those who choose\, the companion book\, Love Big: The Power of Revolutionary Relationships to Heal the World. Whether you have walked the Lenten path for decades or this is your first intentional Lenten practice\, you are invited to journey with us—with all your questions\, your wounds\, and your hopes.
URL:https://cathedralofhope.org/event/lenten-love-big-discussions/2025-03-16/
LOCATION:PA
CATEGORIES:Educational & Spiritual Life,Featured Events
ATTACH;FMTTYPE=image/jpeg:https://cathedralofhope.org/wp-content/uploads/2025/02/img_love-big.jpg
END:VEVENT
BEGIN:VEVENT
DTSTART;TZID=America/New_York:20250316T121500
DTEND;TZID=America/New_York:20250316T140000
DTSTAMP:20260426T003934
CREATED:20240404T182255Z
LAST-MODIFIED:20250304T141637Z
UID:10006695-1742127300-1742133600@cathedralofhope.org
SUMMARY:Connections Potluck Lunch
DESCRIPTION:The Connections ministry will be hosting a potluck lunch on Sunday\, March 16\, at 12:15 pm\, in the Good Samaritan Room (aka the Soul Food room). The lunch is open to everyone at ELPC. \nPlease RSVP online at bit.ly/4hubZkA to indicate that you’re coming and what food you’ll bring. Come join us for a shared meal and a time to get to know one another more deeply.
URL:https://cathedralofhope.org/event/connections-potluck-lunch-2/
LOCATION:ELPC – Good Samaritan Room\, 116 S. Highland Avenue\, Pittsburgh\, PA\, 15206\, United States
CATEGORIES:Featured Events
GEO:40.4609708;-79.9253554
X-APPLE-STRUCTURED-LOCATION;VALUE=URI;X-ADDRESS=ELPC – Good Samaritan Room 116 S. Highland Avenue Pittsburgh PA 15206 United States;X-APPLE-RADIUS=500;X-TITLE=116 S. Highland Avenue:geo:-79.9253554,40.4609708
END:VEVENT
BEGIN:VEVENT
DTSTART;TZID=America/New_York:20250316T193000
DTEND;TZID=America/New_York:20250316T203000
DTSTAMP:20260426T003934
CREATED:20260323T222011Z
LAST-MODIFIED:20260323T222011Z
UID:10006624-1742153400-1742157000@cathedralofhope.org
SUMMARY:Young Adult Book Club
DESCRIPTION:YAM (Young Adult Ministry for those age 18-40) will be reading Take this Bread by Sara Miles across 7 Sundays this spring. Join us on March 2nd to discuss the first 4 chapters. \n\nMarch 2 after worship in Harambe Room\nMarch 9 at 7:30 pm – Zoom\nMarch 16 at 7:30 pm – Zoom\nMarch 23 after worship in Harambe Room\nMarch 30 at 7:30 pm – Zoom\nApril 6 at 7:30 pm – Zoom\nApril 13 after worship in Harambe Room\n\nContact Sara Hackett for the Zoom link at SaraH@coh.net \nTake this Bread book description: Early one morning\, for no earthly reason\, Sara Miles\, raised an atheist\, wandered into a church\, received communion\, and found herself transformed–embracing a faith she’d once scorned. A lesbian left-wing journalist who’d covered revolutions around the world\, Miles didn’t discover a religion that was about angels or good behavior or piety; her faith centered on real hunger\, real food\, and real bodies. Before long\, she turned the bread she ate at communion into tons of groceries\, piled on the church’s altar to be given away. Within a few years\, she and the people she served had started nearly a dozen food pantries in the poorest parts of their city.\n\nTake This Bread is rich with real-life Dickensian characters–church ladies\, millionaires\, schizophrenics\, bishops\, and thieves–all blown into Miles’s life by the relentless force of her newfound calling. Here\, in this achingly beautiful\, passionate book\, is the living communion of Christ.
URL:https://cathedralofhope.org/event/young-adult-book-club/2025-03-16/
LOCATION:PA
CATEGORIES:Young Adult
ATTACH;FMTTYPE=image/jpeg:https://cathedralofhope.org/wp-content/uploads/2025/02/41807XRaXvL._SY445_SX342_.jpg
END:VEVENT
END:VCALENDAR