BEGIN:VCALENDAR
VERSION:2.0
PRODID:-//East Liberty Presbyterian Church - ECPv6.15.20//NONSGML v1.0//EN
CALSCALE:GREGORIAN
METHOD:PUBLISH
X-ORIGINAL-URL:https://cathedralofhope.org
X-WR-CALDESC:Events for East Liberty Presbyterian Church
REFRESH-INTERVAL;VALUE=DURATION:PT1H
X-Robots-Tag:noindex
X-PUBLISHED-TTL:PT1H
BEGIN:VTIMEZONE
TZID:America/New_York
BEGIN:DAYLIGHT
TZOFFSETFROM:-0500
TZOFFSETTO:-0400
TZNAME:EDT
DTSTART:20240310T070000
END:DAYLIGHT
BEGIN:STANDARD
TZOFFSETFROM:-0400
TZOFFSETTO:-0500
TZNAME:EST
DTSTART:20241103T060000
END:STANDARD
BEGIN:DAYLIGHT
TZOFFSETFROM:-0500
TZOFFSETTO:-0400
TZNAME:EDT
DTSTART:20250309T070000
END:DAYLIGHT
BEGIN:STANDARD
TZOFFSETFROM:-0400
TZOFFSETTO:-0500
TZNAME:EST
DTSTART:20251102T060000
END:STANDARD
BEGIN:DAYLIGHT
TZOFFSETFROM:-0500
TZOFFSETTO:-0400
TZNAME:EDT
DTSTART:20260308T070000
END:DAYLIGHT
BEGIN:STANDARD
TZOFFSETFROM:-0400
TZOFFSETTO:-0500
TZNAME:EST
DTSTART:20261101T060000
END:STANDARD
END:VTIMEZONE
BEGIN:VEVENT
DTSTART;TZID=America/New_York:20250318T080000
DTEND;TZID=America/New_York:20250318T082000
DTSTAMP:20260426T003935
CREATED:20220715T121047Z
LAST-MODIFIED:20240313T135046Z
UID:10003913-1742284800-1742286000@cathedralofhope.org
SUMMARY:Online Prayer Service
DESCRIPTION:ELPC offers an online prayer group each Tuesday morning\, hosted by ELPC member Steve Evrard. These 20-minute sessions feature scripture readings\, responsive prayer\, and interactive dialogue. All are welcome at this opportunity for fellowship and prayer. \nJoin us by clicking the link below\, or you may call in by dialing 929.205.6099. Enter meeting ID 896 9680 6662 and passcode 116 when prompted. \nJoin via Zoom
URL:https://cathedralofhope.org/event/online-prayer-service/2025-03-18/
LOCATION:ELPC – Online\, 116 South Highland Avenue\, Pittsburgh\, PA\, 15206\, United States
CATEGORIES:Church Life
END:VEVENT
BEGIN:VEVENT
DTSTART;TZID=America/New_York:20250318T173000
DTEND;TZID=America/New_York:20250318T183000
DTSTAMP:20260426T003935
CREATED:20250308T202301Z
LAST-MODIFIED:20250311T142111Z
UID:10006841-1742319000-1742322600@cathedralofhope.org
SUMMARY:Living Love: Reading the Bible Queerly
DESCRIPTION:Are you frustrated with how some people use the Bible as a tool against LGBTQIA+ people? What does the Bible really say about same-gender relationships? This introductory offering is for anyone seeking to reconcile and affirm one’s sexuality with one’s faith\, as well as those interested in understanding more. Join us as we study a few supposed “clobber passages” through the lens of love and current biblical scholarship. This study will be held in-person on the campus of ELPC in an environment that openly welcomes and celebrates queer people as beloved children of God.* \nWe will meet for five consecutive Tuesdays\, 5:30–6:30 pm. Registration is now FULL. Please contact Rev. Michael Diaz for more info. MichaelD@coh.net \n\nMarch 11 | Introductions and Judges 19\nMarch 18 | Genesis 19\nMarch 25 | Leviticus 18:22 and 20:13\nApril 1 | Romans 1:17–2:4\nApril 8 | 1 Corinthians 6:9–10\n\n*CONTENT WARNING: Although this offering is primarily a study of scripture\, some of the scriptures will necessitate conversations relating to homophobia\, transphobia\, misogyny\, violence\, and sexual assault.
URL:https://cathedralofhope.org/event/living-love-reading-the-bible-queerly/2025-03-18/
LOCATION:PA
CATEGORIES:Featured Events,LGBTQIA+
END:VEVENT
BEGIN:VEVENT
DTSTART;TZID=America/New_York:20250318T180000
DTEND;TZID=America/New_York:20250318T190000
DTSTAMP:20260426T003935
CREATED:20221206T140805Z
LAST-MODIFIED:20230707T211000Z
UID:10007003-1742320800-1742324400@cathedralofhope.org
SUMMARY:Meditation Hour
DESCRIPTION:“The ladder leading to the Kingdom is concealed within you\, that is\, in your soul”—Saint Isaac of Syria. \nMeditation is the practice of “looking deeply.” In silence and withdrawal from the world of everyday concerns\, we turn our attention inward and calm our bodies and minds. In this emptiness\, we may see the world as if for the first time. We may see others as they are and we may find that the Kingdom of Heaven is truly within us; that we are living in God and God in us. \nThe Spiritual Life Committee invites you to join John Benedict in the Chapel on Tuesdays\, 6–7 pm\, for an hour devoted to meditation. The session will include an opening reading\, silent sitting\, and walking. No experience necessary\, all are welcome. \nJohn Benedict is a retired psychologist and a longtime student and practitioner of Insight Meditation.
URL:https://cathedralofhope.org/event/meditation-hour/2025-03-18/
LOCATION:ELPC – Chapel\, 116 South Highland Avenue\, Pittsburgh\, PA\, 15206\, United States
CATEGORIES:Church Life,Educational & Spiritual Life
ATTACH;FMTTYPE=image/jpeg:https://cathedralofhope.org/wp-content/uploads/2022/12/meditation.jpg
GEO:40.461033;-79.925503
X-APPLE-STRUCTURED-LOCATION;VALUE=URI;X-ADDRESS=ELPC – Chapel 116 South Highland Avenue Pittsburgh PA 15206 United States;X-APPLE-RADIUS=500;X-TITLE=116 South Highland Avenue:geo:-79.925503,40.461033
END:VEVENT
END:VCALENDAR