BEGIN:VCALENDAR
VERSION:2.0
PRODID:-//East Liberty Presbyterian Church - ECPv6.15.20//NONSGML v1.0//EN
CALSCALE:GREGORIAN
METHOD:PUBLISH
X-ORIGINAL-URL:https://cathedralofhope.org
X-WR-CALDESC:Events for East Liberty Presbyterian Church
REFRESH-INTERVAL;VALUE=DURATION:PT1H
X-Robots-Tag:noindex
X-PUBLISHED-TTL:PT1H
BEGIN:VTIMEZONE
TZID:America/Halifax
BEGIN:DAYLIGHT
TZOFFSETFROM:-0400
TZOFFSETTO:-0300
TZNAME:ADT
DTSTART:20240310T060000
END:DAYLIGHT
BEGIN:STANDARD
TZOFFSETFROM:-0300
TZOFFSETTO:-0400
TZNAME:AST
DTSTART:20241103T050000
END:STANDARD
BEGIN:DAYLIGHT
TZOFFSETFROM:-0400
TZOFFSETTO:-0300
TZNAME:ADT
DTSTART:20250309T060000
END:DAYLIGHT
BEGIN:STANDARD
TZOFFSETFROM:-0300
TZOFFSETTO:-0400
TZNAME:AST
DTSTART:20251102T050000
END:STANDARD
BEGIN:DAYLIGHT
TZOFFSETFROM:-0400
TZOFFSETTO:-0300
TZNAME:ADT
DTSTART:20260308T060000
END:DAYLIGHT
BEGIN:STANDARD
TZOFFSETFROM:-0300
TZOFFSETTO:-0400
TZNAME:AST
DTSTART:20261101T050000
END:STANDARD
END:VTIMEZONE
BEGIN:VTIMEZONE
TZID:America/New_York
BEGIN:DAYLIGHT
TZOFFSETFROM:-0500
TZOFFSETTO:-0400
TZNAME:EDT
DTSTART:20240310T070000
END:DAYLIGHT
BEGIN:STANDARD
TZOFFSETFROM:-0400
TZOFFSETTO:-0500
TZNAME:EST
DTSTART:20241103T060000
END:STANDARD
BEGIN:DAYLIGHT
TZOFFSETFROM:-0500
TZOFFSETTO:-0400
TZNAME:EDT
DTSTART:20250309T070000
END:DAYLIGHT
BEGIN:STANDARD
TZOFFSETFROM:-0400
TZOFFSETTO:-0500
TZNAME:EST
DTSTART:20251102T060000
END:STANDARD
BEGIN:DAYLIGHT
TZOFFSETFROM:-0500
TZOFFSETTO:-0400
TZNAME:EDT
DTSTART:20260308T070000
END:DAYLIGHT
BEGIN:STANDARD
TZOFFSETFROM:-0400
TZOFFSETTO:-0500
TZNAME:EST
DTSTART:20261101T060000
END:STANDARD
END:VTIMEZONE
BEGIN:VEVENT
DTSTART;TZID=America/Halifax:20250529T100000
DTEND;TZID=America/Halifax:20250529T190000
DTSTAMP:20260425T212822
CREATED:20190426T135617Z
LAST-MODIFIED:20251021T233348Z
UID:10001427-1748512800-1748545200@cathedralofhope.org
SUMMARY:Labyrinth Prayer Walk
DESCRIPTION:The labyrinth is an ancient\, sacred symbol found in many religious traditions throughout the world. Today\, modern pilgrims walk the labyrinth as one of many ways to pray and meditate. The winding path into the center and back out again is a metaphor for the journeys of life and faith. Unlike a maze\, which has many paths and is a puzzle to solve\, the labyrinth is a single path in and a single path out\, and is designed to quiet the mind for prayer and meditation. Members and non-members welcome. \n\nThe Labyrinth is available on Wednesdays and Thursdays\, 10 am–7 pm\, in the McKelvy Room.
URL:https://cathedralofhope.org/event/labyrinth-prayer-walk-2/2025-05-29/
LOCATION:ELPC – McKelvy Room (114)\, 116 South Highland Avenue\, Pittsburgh\, PA\, 15206\, United States
CATEGORIES:Church Life,Community,Educational & Spiritual Life
ATTACH;FMTTYPE=image/jpeg:https://cathedralofhope.org/wp-content/uploads/2019/04/img_labyrinth-2025.jpg
GEO:40.439677;-79.9899243
X-APPLE-STRUCTURED-LOCATION;VALUE=URI;X-ADDRESS=ELPC – McKelvy Room (114) 116 South Highland Avenue Pittsburgh PA 15206 United States;X-APPLE-RADIUS=500;X-TITLE=116 South Highland Avenue:geo:-79.9899243,40.439677
END:VEVENT
BEGIN:VEVENT
DTSTART;TZID=America/New_York:20250529T190000
DTEND;TZID=America/New_York:20250529T210000
DTSTAMP:20260425T212822
CREATED:20250508T174049Z
LAST-MODIFIED:20250508T174049Z
UID:10006199-1748545200-1748552400@cathedralofhope.org
SUMMARY:New Book Study: A Children’s Bible
DESCRIPTION:For their next book\, the Environmental Team of the Justice Committee has selected A Children’s Bible by Lydia Millet. This 2020 short fiction book is full of twists and turns. \nA Children’s Bible follows a group of 12 eerily mature children on a forced vacation with their families at a sprawling lakeside mansion. Contemptuous of their parents\, the children decide to run away when a destructive storm descends on the summer estate\, embarking on a dangerous foray into the apocalyptic chaos outside. As the scenes of devastation begin to mimic events in the dog-eared picture Bible carried around by her beloved little brother\, Eve\, the main character devotes herself to keeping him safe from harm. \nLydia Millet’s prophetic and heartbreaking story of generational divide offers a haunting vision of what awaits us on the far side that might overwhelm us. \nWe will discuss the book on Thursday\, May 29\, 7 pm\, in the Fellowship Room and on Zoom. For further information and the Zoom link\, contact Nancy Heastings at n.heastings@comcast.net.
URL:https://cathedralofhope.org/event/new-book-study-a-childrens-bible/
LOCATION:PA
CATEGORIES:Featured Events,Mission Activities
ATTACH;FMTTYPE=image/jpeg:https://cathedralofhope.org/wp-content/uploads/2025/05/img_a-childrens-bible.jpg
END:VEVENT
END:VCALENDAR