BEGIN:VCALENDAR
VERSION:2.0
PRODID:-//East Liberty Presbyterian Church - ECPv6.15.20//NONSGML v1.0//EN
CALSCALE:GREGORIAN
METHOD:PUBLISH
X-ORIGINAL-URL:https://cathedralofhope.org
X-WR-CALDESC:Events for East Liberty Presbyterian Church
REFRESH-INTERVAL;VALUE=DURATION:PT1H
X-Robots-Tag:noindex
X-PUBLISHED-TTL:PT1H
BEGIN:VTIMEZONE
TZID:America/Halifax
BEGIN:DAYLIGHT
TZOFFSETFROM:-0400
TZOFFSETTO:-0300
TZNAME:ADT
DTSTART:20240310T060000
END:DAYLIGHT
BEGIN:STANDARD
TZOFFSETFROM:-0300
TZOFFSETTO:-0400
TZNAME:AST
DTSTART:20241103T050000
END:STANDARD
BEGIN:DAYLIGHT
TZOFFSETFROM:-0400
TZOFFSETTO:-0300
TZNAME:ADT
DTSTART:20250309T060000
END:DAYLIGHT
BEGIN:STANDARD
TZOFFSETFROM:-0300
TZOFFSETTO:-0400
TZNAME:AST
DTSTART:20251102T050000
END:STANDARD
BEGIN:DAYLIGHT
TZOFFSETFROM:-0400
TZOFFSETTO:-0300
TZNAME:ADT
DTSTART:20260308T060000
END:DAYLIGHT
BEGIN:STANDARD
TZOFFSETFROM:-0300
TZOFFSETTO:-0400
TZNAME:AST
DTSTART:20261101T050000
END:STANDARD
END:VTIMEZONE
BEGIN:VTIMEZONE
TZID:America/New_York
BEGIN:DAYLIGHT
TZOFFSETFROM:-0500
TZOFFSETTO:-0400
TZNAME:EDT
DTSTART:20240310T070000
END:DAYLIGHT
BEGIN:STANDARD
TZOFFSETFROM:-0400
TZOFFSETTO:-0500
TZNAME:EST
DTSTART:20241103T060000
END:STANDARD
BEGIN:DAYLIGHT
TZOFFSETFROM:-0500
TZOFFSETTO:-0400
TZNAME:EDT
DTSTART:20250309T070000
END:DAYLIGHT
BEGIN:STANDARD
TZOFFSETFROM:-0400
TZOFFSETTO:-0500
TZNAME:EST
DTSTART:20251102T060000
END:STANDARD
BEGIN:DAYLIGHT
TZOFFSETFROM:-0500
TZOFFSETTO:-0400
TZNAME:EDT
DTSTART:20260308T070000
END:DAYLIGHT
BEGIN:STANDARD
TZOFFSETFROM:-0400
TZOFFSETTO:-0500
TZNAME:EST
DTSTART:20261101T060000
END:STANDARD
END:VTIMEZONE
BEGIN:VEVENT
DTSTART;TZID=America/Halifax:20250706T100000
DTEND;TZID=America/Halifax:20250706T110000
DTSTAMP:20260425T164343
CREATED:20220412T183031Z
LAST-MODIFIED:20250530T163455Z
UID:10003128-1751796000-1751799600@cathedralofhope.org
SUMMARY:Summer Worship
DESCRIPTION:Join us for our Summer worship service in the Sanctuary on Sundays\, 10 am. \nPrinted copies of the weekly bulletin and announcements are available\, or you may download a digital version for viewing on your mobile device or tablet. \nYou also may join us via livestream on YouTube or Facebook. \n\nSee details for this week’s worship services here.
URL:https://cathedralofhope.org/event/summer-worship/2025-07-06/
LOCATION:East Liberty Presbyterian Church\, 116 S. Highland Avenue\, Pittsburgh\, PA\, 15206\, United States
CATEGORIES:Worship Services
ATTACH;FMTTYPE=image/jpeg:https://cathedralofhope.org/wp-content/uploads/2014/09/AF5_1510_web.jpg
GEO:40.4609708;-79.9253554
X-APPLE-STRUCTURED-LOCATION;VALUE=URI;X-ADDRESS=East Liberty Presbyterian Church 116 S. Highland Avenue Pittsburgh PA 15206 United States;X-APPLE-RADIUS=500;X-TITLE=116 S. Highland Avenue:geo:-79.9253554,40.4609708
END:VEVENT
BEGIN:VEVENT
DTSTART;TZID=America/New_York:20250706T113000
DTEND;TZID=America/New_York:20250706T133000
DTSTAMP:20260425T164343
CREATED:20250418T105436Z
LAST-MODIFIED:20250418T105436Z
UID:10003479-1751801400-1751808600@cathedralofhope.org
SUMMARY:July LGBTQIA+ Ministry Spiritual Gathering
DESCRIPTION:You are invited to the next Spiritual Gathering of ELPC’s LGBTQIA+ Ministry to share food and fellowship at the church. Allies and LGBTQIA+ folks alike are welcome. \nContact Wil Forrest at 412.441.3800 X218 or Wil@coh.net to learn more\, to RSVP\, and/or to participate.  A Zoom option will be available if expressed need is communicated to Wil before the Friday preceding the gathering. \nGOD CREATED YOU. GOD LOVES YOU.  BE YOURSELF.
URL:https://cathedralofhope.org/event/july-lgbtqia-ministry-spiritual-gathering-3/
LOCATION:East Liberty Presbyterian Church\, 116 S. Highland Avenue\, Pittsburgh\, PA\, 15206\, United States
CATEGORIES:LGBTQIA+
ORGANIZER;CN="Wil Forrest":MAILTO:Wil@coh.net
GEO:40.4609708;-79.9253554
X-APPLE-STRUCTURED-LOCATION;VALUE=URI;X-ADDRESS=East Liberty Presbyterian Church 116 S. Highland Avenue Pittsburgh PA 15206 United States;X-APPLE-RADIUS=500;X-TITLE=116 S. Highland Avenue:geo:-79.9253554,40.4609708
END:VEVENT
END:VCALENDAR