BEGIN:VCALENDAR
VERSION:2.0
PRODID:-//East Liberty Presbyterian Church - ECPv6.15.20//NONSGML v1.0//EN
CALSCALE:GREGORIAN
METHOD:PUBLISH
X-ORIGINAL-URL:https://cathedralofhope.org
X-WR-CALDESC:Events for East Liberty Presbyterian Church
REFRESH-INTERVAL;VALUE=DURATION:PT1H
X-Robots-Tag:noindex
X-PUBLISHED-TTL:PT1H
BEGIN:VTIMEZONE
TZID:America/New_York
BEGIN:DAYLIGHT
TZOFFSETFROM:-0500
TZOFFSETTO:-0400
TZNAME:EDT
DTSTART:20240310T070000
END:DAYLIGHT
BEGIN:STANDARD
TZOFFSETFROM:-0400
TZOFFSETTO:-0500
TZNAME:EST
DTSTART:20241103T060000
END:STANDARD
BEGIN:DAYLIGHT
TZOFFSETFROM:-0500
TZOFFSETTO:-0400
TZNAME:EDT
DTSTART:20250309T070000
END:DAYLIGHT
BEGIN:STANDARD
TZOFFSETFROM:-0400
TZOFFSETTO:-0500
TZNAME:EST
DTSTART:20251102T060000
END:STANDARD
BEGIN:DAYLIGHT
TZOFFSETFROM:-0500
TZOFFSETTO:-0400
TZNAME:EDT
DTSTART:20260308T070000
END:DAYLIGHT
BEGIN:STANDARD
TZOFFSETFROM:-0400
TZOFFSETTO:-0500
TZNAME:EST
DTSTART:20261101T060000
END:STANDARD
END:VTIMEZONE
BEGIN:VEVENT
DTSTART;TZID=America/New_York:20250728T000000
DTEND;TZID=America/New_York:20250731T000000
DTSTAMP:20260425T144746
CREATED:20250207T212102Z
LAST-MODIFIED:20250207T212233Z
UID:10003608-1753660800-1753920000@cathedralofhope.org
SUMMARY:Presbyterian Youth Triennium
DESCRIPTION:We invite you to join over a 1000 teens from around the world as we worship\, learn\, fellowship\, and play as a hopeful and joyful community of faith at the 2025 Presbyterian Youth Triennium. The experience will be one of those life-shaping faith forming events that you will never forget! It will be As If We Were Dreaming. The conference will be held at the Louisville Convention Center and we will be staying in a local hotel.  Students who have completed 8th-12th grade are invited to attended as part of the Pittsburgh Presbytery delegation and Sara Hackett is one of the delegation adult leaders. This event happens once every three years. Check out 2019’s highlight video.  https://presbyterianyouthtriennium.org/
URL:https://cathedralofhope.org/event/presbyterian-youth-triennium/
LOCATION:PA
CATEGORIES:Children & Youth
ATTACH;FMTTYPE=image/jpeg:https://cathedralofhope.org/wp-content/uploads/2025/02/pyt.jpg
END:VEVENT
BEGIN:VEVENT
DTSTART;TZID=America/New_York:20250729T080000
DTEND;TZID=America/New_York:20250729T082000
DTSTAMP:20260425T144746
CREATED:20220715T121047Z
LAST-MODIFIED:20240313T135046Z
UID:10003932-1753776000-1753777200@cathedralofhope.org
SUMMARY:Online Prayer Service
DESCRIPTION:ELPC offers an online prayer group each Tuesday morning\, hosted by ELPC member Steve Evrard. These 20-minute sessions feature scripture readings\, responsive prayer\, and interactive dialogue. All are welcome at this opportunity for fellowship and prayer. \nJoin us by clicking the link below\, or you may call in by dialing 929.205.6099. Enter meeting ID 896 9680 6662 and passcode 116 when prompted. \nJoin via Zoom
URL:https://cathedralofhope.org/event/online-prayer-service/2025-07-29/
LOCATION:ELPC – Online\, 116 South Highland Avenue\, Pittsburgh\, PA\, 15206\, United States
CATEGORIES:Church Life
END:VEVENT
BEGIN:VEVENT
DTSTART;TZID=America/New_York:20250729T180000
DTEND;TZID=America/New_York:20250729T190000
DTSTAMP:20260425T144746
CREATED:20221206T140805Z
LAST-MODIFIED:20230707T211000Z
UID:10007022-1753812000-1753815600@cathedralofhope.org
SUMMARY:Meditation Hour
DESCRIPTION:“The ladder leading to the Kingdom is concealed within you\, that is\, in your soul”—Saint Isaac of Syria. \nMeditation is the practice of “looking deeply.” In silence and withdrawal from the world of everyday concerns\, we turn our attention inward and calm our bodies and minds. In this emptiness\, we may see the world as if for the first time. We may see others as they are and we may find that the Kingdom of Heaven is truly within us; that we are living in God and God in us. \nThe Spiritual Life Committee invites you to join John Benedict in the Chapel on Tuesdays\, 6–7 pm\, for an hour devoted to meditation. The session will include an opening reading\, silent sitting\, and walking. No experience necessary\, all are welcome. \nJohn Benedict is a retired psychologist and a longtime student and practitioner of Insight Meditation.
URL:https://cathedralofhope.org/event/meditation-hour/2025-07-29/
LOCATION:ELPC – Chapel\, 116 South Highland Avenue\, Pittsburgh\, PA\, 15206\, United States
CATEGORIES:Church Life,Educational & Spiritual Life
ATTACH;FMTTYPE=image/jpeg:https://cathedralofhope.org/wp-content/uploads/2022/12/meditation.jpg
GEO:40.461033;-79.925503
X-APPLE-STRUCTURED-LOCATION;VALUE=URI;X-ADDRESS=ELPC – Chapel 116 South Highland Avenue Pittsburgh PA 15206 United States;X-APPLE-RADIUS=500;X-TITLE=116 South Highland Avenue:geo:-79.925503,40.461033
END:VEVENT
END:VCALENDAR