BEGIN:VCALENDAR
VERSION:2.0
PRODID:-//East Liberty Presbyterian Church - ECPv6.15.20//NONSGML v1.0//EN
CALSCALE:GREGORIAN
METHOD:PUBLISH
X-ORIGINAL-URL:https://cathedralofhope.org
X-WR-CALDESC:Events for East Liberty Presbyterian Church
REFRESH-INTERVAL;VALUE=DURATION:PT1H
X-Robots-Tag:noindex
X-PUBLISHED-TTL:PT1H
BEGIN:VTIMEZONE
TZID:America/Halifax
BEGIN:DAYLIGHT
TZOFFSETFROM:-0400
TZOFFSETTO:-0300
TZNAME:ADT
DTSTART:20240310T060000
END:DAYLIGHT
BEGIN:STANDARD
TZOFFSETFROM:-0300
TZOFFSETTO:-0400
TZNAME:AST
DTSTART:20241103T050000
END:STANDARD
BEGIN:DAYLIGHT
TZOFFSETFROM:-0400
TZOFFSETTO:-0300
TZNAME:ADT
DTSTART:20250309T060000
END:DAYLIGHT
BEGIN:STANDARD
TZOFFSETFROM:-0300
TZOFFSETTO:-0400
TZNAME:AST
DTSTART:20251102T050000
END:STANDARD
BEGIN:DAYLIGHT
TZOFFSETFROM:-0400
TZOFFSETTO:-0300
TZNAME:ADT
DTSTART:20260308T060000
END:DAYLIGHT
BEGIN:STANDARD
TZOFFSETFROM:-0300
TZOFFSETTO:-0400
TZNAME:AST
DTSTART:20261101T050000
END:STANDARD
END:VTIMEZONE
BEGIN:VEVENT
DTSTART;TZID=America/Halifax:20250803T100000
DTEND;TZID=America/Halifax:20250803T110000
DTSTAMP:20260425T144737
CREATED:20220412T183031Z
LAST-MODIFIED:20250530T163455Z
UID:10003132-1754215200-1754218800@cathedralofhope.org
SUMMARY:Summer Worship
DESCRIPTION:Join us for our Summer worship service in the Sanctuary on Sundays\, 10 am. \nPrinted copies of the weekly bulletin and announcements are available\, or you may download a digital version for viewing on your mobile device or tablet. \nYou also may join us via livestream on YouTube or Facebook. \n\nSee details for this week’s worship services here.
URL:https://cathedralofhope.org/event/summer-worship/2025-08-03/
LOCATION:East Liberty Presbyterian Church\, 116 S. Highland Avenue\, Pittsburgh\, PA\, 15206\, United States
CATEGORIES:Worship Services
ATTACH;FMTTYPE=image/jpeg:https://cathedralofhope.org/wp-content/uploads/2014/09/AF5_1510_web.jpg
GEO:40.4609708;-79.9253554
X-APPLE-STRUCTURED-LOCATION;VALUE=URI;X-ADDRESS=East Liberty Presbyterian Church 116 S. Highland Avenue Pittsburgh PA 15206 United States;X-APPLE-RADIUS=500;X-TITLE=116 S. Highland Avenue:geo:-79.9253554,40.4609708
END:VEVENT
BEGIN:VEVENT
DTSTART;TZID=America/Halifax:20250803T110000
DTEND;TZID=America/Halifax:20250803T120000
DTSTAMP:20260425T144737
CREATED:20191218T140002Z
LAST-MODIFIED:20250728T195821Z
UID:10001973-1754218800-1754222400@cathedralofhope.org
SUMMARY:Stained Glass Tour
DESCRIPTION:Join our tour guide for an in-depth tour of the stained glass in our Sanctuary and Chapel. \nDesigned and created by eight Pittsburgh stained glass shops during the 1930s\, the windows tell the history of Presbyterianism and our faith\, as well as many Biblical stories\, including the amazing depiction of Revelation in the balcony. \nPlease gather at the Highland Lobby to participate.
URL:https://cathedralofhope.org/event/stained-glass-tour/
LOCATION:East Liberty Presbyterian Church\, 116 S. Highland Avenue\, Pittsburgh\, PA\, 15206\, United States
CATEGORIES:Church Tours,Featured Events
ATTACH;FMTTYPE=image/jpeg:https://cathedralofhope.org/wp-content/uploads/2015/12/elpc-stained-glass.jpg
GEO:40.4609708;-79.9253554
X-APPLE-STRUCTURED-LOCATION;VALUE=URI;X-ADDRESS=East Liberty Presbyterian Church 116 S. Highland Avenue Pittsburgh PA 15206 United States;X-APPLE-RADIUS=500;X-TITLE=116 S. Highland Avenue:geo:-79.9253554,40.4609708
END:VEVENT
END:VCALENDAR