BEGIN:VCALENDAR
VERSION:2.0
PRODID:-//East Liberty Presbyterian Church - ECPv6.15.20//NONSGML v1.0//EN
CALSCALE:GREGORIAN
METHOD:PUBLISH
X-ORIGINAL-URL:https://cathedralofhope.org
X-WR-CALDESC:Events for East Liberty Presbyterian Church
REFRESH-INTERVAL;VALUE=DURATION:PT1H
X-Robots-Tag:noindex
X-PUBLISHED-TTL:PT1H
BEGIN:VTIMEZONE
TZID:America/Halifax
BEGIN:DAYLIGHT
TZOFFSETFROM:-0400
TZOFFSETTO:-0300
TZNAME:ADT
DTSTART:20240310T060000
END:DAYLIGHT
BEGIN:STANDARD
TZOFFSETFROM:-0300
TZOFFSETTO:-0400
TZNAME:AST
DTSTART:20241103T050000
END:STANDARD
BEGIN:DAYLIGHT
TZOFFSETFROM:-0400
TZOFFSETTO:-0300
TZNAME:ADT
DTSTART:20250309T060000
END:DAYLIGHT
BEGIN:STANDARD
TZOFFSETFROM:-0300
TZOFFSETTO:-0400
TZNAME:AST
DTSTART:20251102T050000
END:STANDARD
BEGIN:DAYLIGHT
TZOFFSETFROM:-0400
TZOFFSETTO:-0300
TZNAME:ADT
DTSTART:20260308T060000
END:DAYLIGHT
BEGIN:STANDARD
TZOFFSETFROM:-0300
TZOFFSETTO:-0400
TZNAME:AST
DTSTART:20261101T050000
END:STANDARD
END:VTIMEZONE
BEGIN:VTIMEZONE
TZID:America/New_York
BEGIN:DAYLIGHT
TZOFFSETFROM:-0500
TZOFFSETTO:-0400
TZNAME:EDT
DTSTART:20240310T070000
END:DAYLIGHT
BEGIN:STANDARD
TZOFFSETFROM:-0400
TZOFFSETTO:-0500
TZNAME:EST
DTSTART:20241103T060000
END:STANDARD
BEGIN:DAYLIGHT
TZOFFSETFROM:-0500
TZOFFSETTO:-0400
TZNAME:EDT
DTSTART:20250309T070000
END:DAYLIGHT
BEGIN:STANDARD
TZOFFSETFROM:-0400
TZOFFSETTO:-0500
TZNAME:EST
DTSTART:20251102T060000
END:STANDARD
BEGIN:DAYLIGHT
TZOFFSETFROM:-0500
TZOFFSETTO:-0400
TZNAME:EDT
DTSTART:20260308T070000
END:DAYLIGHT
BEGIN:STANDARD
TZOFFSETFROM:-0400
TZOFFSETTO:-0500
TZNAME:EST
DTSTART:20261101T060000
END:STANDARD
END:VTIMEZONE
BEGIN:VEVENT
DTSTART;TZID=America/Halifax:20250817T100000
DTEND;TZID=America/Halifax:20250817T110000
DTSTAMP:20260425T144745
CREATED:20220412T183031Z
LAST-MODIFIED:20250530T163455Z
UID:10003134-1755424800-1755428400@cathedralofhope.org
SUMMARY:Summer Worship
DESCRIPTION:Join us for our Summer worship service in the Sanctuary on Sundays\, 10 am. \nPrinted copies of the weekly bulletin and announcements are available\, or you may download a digital version for viewing on your mobile device or tablet. \nYou also may join us via livestream on YouTube or Facebook. \n\nSee details for this week’s worship services here.
URL:https://cathedralofhope.org/event/summer-worship/2025-08-17/
LOCATION:East Liberty Presbyterian Church\, 116 S. Highland Avenue\, Pittsburgh\, PA\, 15206\, United States
CATEGORIES:Worship Services
ATTACH;FMTTYPE=image/jpeg:https://cathedralofhope.org/wp-content/uploads/2014/09/AF5_1510_web.jpg
GEO:40.4609708;-79.9253554
X-APPLE-STRUCTURED-LOCATION;VALUE=URI;X-ADDRESS=East Liberty Presbyterian Church 116 S. Highland Avenue Pittsburgh PA 15206 United States;X-APPLE-RADIUS=500;X-TITLE=116 S. Highland Avenue:geo:-79.9253554,40.4609708
END:VEVENT
BEGIN:VEVENT
DTSTART;TZID=America/New_York:20250817T110000
DTEND;TZID=America/New_York:20250817T120000
DTSTAMP:20260425T144745
CREATED:20250731T122610Z
LAST-MODIFIED:20250731T122725Z
UID:10006805-1755428400-1755432000@cathedralofhope.org
SUMMARY:ELPC Fire Safety Training and Drill
DESCRIPTION:ELPC’s Safety & Security Advisory Committee (SSA) will be presenting a series of trainings over the next several months concerning important issues to create a safer church for us all. \nFollowing worship on Sunday\, August 17\, all are invited to stay for a fire safety training and drill presented by our very own Isaiah Wilson\, who is a fire safety professional. The congregation will be invited to stay in the Sanctuary after worship ends for this session. \nOver the next few months\, we will have trainings on first aid\, Stop the Bleed\, AED\, CPR\, and intruder threat. All these trainings will be attended by staff members and open to church leaders. Some\, such as the fire safety/fire drill and intruder threat\, will include sessions intended for all congregation members to attend. \nWe believe that part of being radically hospitable is keeping all who enter our building as safe as possible. We invite you to pray for us in our work and to keep an eye out for training sessions in coming months in which you can participate. \nThe SSA Committee is Sandy Brake\, Don Breitbarth\, Lynne Chadwick\, Carol Chonoska (Chair)\, Carol Chontos\, Rev. Dr. Michael Diaz\, Wil Forrest\, Sara Hackett\, Tom Morton\, Rev. Jim Tinnemeyer\, Isaiah Wilson\, and Nancy Wright.
URL:https://cathedralofhope.org/event/elpc-fire-safety-training-and-drill/
LOCATION:PA
CATEGORIES:Featured Events
END:VEVENT
END:VCALENDAR