BEGIN:VCALENDAR
VERSION:2.0
PRODID:-//East Liberty Presbyterian Church - ECPv6.15.20//NONSGML v1.0//EN
CALSCALE:GREGORIAN
METHOD:PUBLISH
X-ORIGINAL-URL:https://cathedralofhope.org
X-WR-CALDESC:Events for East Liberty Presbyterian Church
REFRESH-INTERVAL;VALUE=DURATION:PT1H
X-Robots-Tag:noindex
X-PUBLISHED-TTL:PT1H
BEGIN:VTIMEZONE
TZID:America/Halifax
BEGIN:DAYLIGHT
TZOFFSETFROM:-0400
TZOFFSETTO:-0300
TZNAME:ADT
DTSTART:20240310T060000
END:DAYLIGHT
BEGIN:STANDARD
TZOFFSETFROM:-0300
TZOFFSETTO:-0400
TZNAME:AST
DTSTART:20241103T050000
END:STANDARD
BEGIN:DAYLIGHT
TZOFFSETFROM:-0400
TZOFFSETTO:-0300
TZNAME:ADT
DTSTART:20250309T060000
END:DAYLIGHT
BEGIN:STANDARD
TZOFFSETFROM:-0300
TZOFFSETTO:-0400
TZNAME:AST
DTSTART:20251102T050000
END:STANDARD
BEGIN:DAYLIGHT
TZOFFSETFROM:-0400
TZOFFSETTO:-0300
TZNAME:ADT
DTSTART:20260308T060000
END:DAYLIGHT
BEGIN:STANDARD
TZOFFSETFROM:-0300
TZOFFSETTO:-0400
TZNAME:AST
DTSTART:20261101T050000
END:STANDARD
END:VTIMEZONE
BEGIN:VEVENT
DTSTART;TZID=America/Halifax:20250904T100000
DTEND;TZID=America/Halifax:20250904T190000
DTSTAMP:20260425T123603
CREATED:20190426T135617Z
LAST-MODIFIED:20251021T233348Z
UID:10001453-1756980000-1757012400@cathedralofhope.org
SUMMARY:Labyrinth Prayer Walk
DESCRIPTION:The labyrinth is an ancient\, sacred symbol found in many religious traditions throughout the world. Today\, modern pilgrims walk the labyrinth as one of many ways to pray and meditate. The winding path into the center and back out again is a metaphor for the journeys of life and faith. Unlike a maze\, which has many paths and is a puzzle to solve\, the labyrinth is a single path in and a single path out\, and is designed to quiet the mind for prayer and meditation. Members and non-members welcome. \n\nThe Labyrinth is available on Wednesdays and Thursdays\, 10 am–7 pm\, in the McKelvy Room.
URL:https://cathedralofhope.org/event/labyrinth-prayer-walk-2/2025-09-04/
LOCATION:ELPC – McKelvy Room (114)\, 116 South Highland Avenue\, Pittsburgh\, PA\, 15206\, United States
CATEGORIES:Church Life,Community,Educational & Spiritual Life
ATTACH;FMTTYPE=image/jpeg:https://cathedralofhope.org/wp-content/uploads/2019/04/img_labyrinth-2025.jpg
GEO:40.439677;-79.9899243
X-APPLE-STRUCTURED-LOCATION;VALUE=URI;X-ADDRESS=ELPC – McKelvy Room (114) 116 South Highland Avenue Pittsburgh PA 15206 United States;X-APPLE-RADIUS=500;X-TITLE=116 South Highland Avenue:geo:-79.9899243,40.439677
END:VEVENT
BEGIN:VEVENT
DTSTART;TZID=America/Halifax:20250904T173000
DTEND;TZID=America/Halifax:20250904T183000
DTSTAMP:20260425T123603
CREATED:20190825T142813Z
LAST-MODIFIED:20260127T200229Z
UID:10000665-1757007000-1757010600@cathedralofhope.org
SUMMARY:Journey Praise Team Rehearsal
DESCRIPTION:The Journey Praise Team rehearses in the Chapel on Thursdays\, 5:30 pm\, and leads the Journey worship service on Sundays\, 8:45 am. \nGerald Savage\, ELPC’s Journey music director\, leads the Journey Praise Team.
URL:https://cathedralofhope.org/event/journey-praise-team-rehearsal/2025-09-04/
LOCATION:ELPC – Music Room\, 116 South Highland Avenue\, Pittsburgh\, PA\, 15206\, United States
CATEGORIES:Church Life,Music
ATTACH;FMTTYPE=image/jpeg:https://cathedralofhope.org/wp-content/uploads/2017/08/20181111_pittsburgh-8121.jpg
GEO:40.461033;-79.925503
X-APPLE-STRUCTURED-LOCATION;VALUE=URI;X-ADDRESS=ELPC – Music Room 116 South Highland Avenue Pittsburgh PA 15206 United States;X-APPLE-RADIUS=500;X-TITLE=116 South Highland Avenue:geo:-79.925503,40.461033
END:VEVENT
BEGIN:VEVENT
DTSTART;TZID=America/Halifax:20250904T190000
DTEND;TZID=America/Halifax:20250904T203000
DTSTAMP:20260425T123603
CREATED:20250923T181237Z
LAST-MODIFIED:20250923T183103Z
UID:10004241-1757012400-1757017800@cathedralofhope.org
SUMMARY:Chancel Choir Rehearsal
DESCRIPTION:The Chancel Choir rehearses in the Sanctuary on Thursdays\, 7–8:30 pm\, from September through early June (unless noted otherwise). Sunday morning rehearsals are at 10 am\, in preparation for the worship service. The choir provides musical leadership at our Sanctuary worship service on Sundays. \nNo audition is required\, just the desire to learn and have fun as we prepare to lead worship. The choir is open to everyone in high school and older. \nDr. Ed Moore is the director of the Chancel Choir. \nCome join us and make a joyful noise!
URL:https://cathedralofhope.org/event/chancel-choir-rehearsal-2/
LOCATION:ELPC – Sanctuary\, 116 South Highland Avenue\, Pittsburgh\, PA\, 15206\, United States
CATEGORIES:Church Life,Music
ATTACH;FMTTYPE=image/jpeg:https://cathedralofhope.org/wp-content/uploads/2022/08/20181111_pittsburgh-8479.jpg
ORGANIZER;CN="Dr. Ed Moore":MAILTO:EdM@coh.net
GEO:40.461033;-79.925503
X-APPLE-STRUCTURED-LOCATION;VALUE=URI;X-ADDRESS=ELPC – Sanctuary 116 South Highland Avenue Pittsburgh PA 15206 United States;X-APPLE-RADIUS=500;X-TITLE=116 South Highland Avenue:geo:-79.925503,40.461033
END:VEVENT
END:VCALENDAR