BEGIN:VCALENDAR
VERSION:2.0
PRODID:-//East Liberty Presbyterian Church - ECPv6.15.20//NONSGML v1.0//EN
CALSCALE:GREGORIAN
METHOD:PUBLISH
X-ORIGINAL-URL:https://cathedralofhope.org
X-WR-CALDESC:Events for East Liberty Presbyterian Church
REFRESH-INTERVAL;VALUE=DURATION:PT1H
X-Robots-Tag:noindex
X-PUBLISHED-TTL:PT1H
BEGIN:VTIMEZONE
TZID:America/New_York
BEGIN:DAYLIGHT
TZOFFSETFROM:-0500
TZOFFSETTO:-0400
TZNAME:EDT
DTSTART:20240310T070000
END:DAYLIGHT
BEGIN:STANDARD
TZOFFSETFROM:-0400
TZOFFSETTO:-0500
TZNAME:EST
DTSTART:20241103T060000
END:STANDARD
BEGIN:DAYLIGHT
TZOFFSETFROM:-0500
TZOFFSETTO:-0400
TZNAME:EDT
DTSTART:20250309T070000
END:DAYLIGHT
BEGIN:STANDARD
TZOFFSETFROM:-0400
TZOFFSETTO:-0500
TZNAME:EST
DTSTART:20251102T060000
END:STANDARD
BEGIN:DAYLIGHT
TZOFFSETFROM:-0500
TZOFFSETTO:-0400
TZNAME:EDT
DTSTART:20260308T070000
END:DAYLIGHT
BEGIN:STANDARD
TZOFFSETFROM:-0400
TZOFFSETTO:-0500
TZNAME:EST
DTSTART:20261101T060000
END:STANDARD
END:VTIMEZONE
BEGIN:VEVENT
DTSTART;TZID=America/New_York:20250908T073000
DTEND;TZID=America/New_York:20250908T080000
DTSTAMP:20260425T105217
CREATED:20230906T134447Z
LAST-MODIFIED:20250520T183648Z
UID:10006583-1757316600-1757318400@cathedralofhope.org
SUMMARY:Contemplative Prayer
DESCRIPTION:Contemplation has been described as a long-loving look at the real. Contemplation is about waking up\, listening\, noticing\, and paying attention. In the words of Adele Calhoun\, “A contemplative person recognizes that every experience offers more than meets the eye. They know that ‘bidden or unbidden’ God is present.” \nThis takes practice. \nJoin the Rev. BJ Woodworth for a time to practice a variety of contemplative prayer practices\, utilizing fixed prayers\, scripture\, music\, silence\, art\, and our bodies to help us start our day in communion with God and one another. \nClick the button below at the scheduled time to join via Zoom or call in by dialing 312.626.6799 and entering meeting ID\, 959 8065 3992. \n\nPasscode: bestill\n\nDial-in Passcode: 6787603\nJOIN VIA ZOOM
URL:https://cathedralofhope.org/event/contemplative-prayer/2025-09-08/
LOCATION:ELPC – Online\, 116 South Highland Avenue\, Pittsburgh\, PA\, 15206\, United States
CATEGORIES:Church Life,Educational & Spiritual Life
ORGANIZER;CN="Rev. BJ Woodworth":MAILTO:BJW@coh.net
END:VEVENT
BEGIN:VEVENT
DTSTART;TZID=America/New_York:20250908T100000
DTEND;TZID=America/New_York:20250908T120000
DTSTAMP:20260425T105217
CREATED:20250822T131045Z
LAST-MODIFIED:20250822T131459Z
UID:10004239-1757325600-1757332800@cathedralofhope.org
SUMMARY:Bearing Witness: Nell & Poll Documents at Heinz History Center 
DESCRIPTION:In June\, our congregation learned about the lives of Nell\, Poll\, Sam\, Savara\, Jack\, Sukey\, Isaac\, Frank\, Het\, and Maria—the family enslaved and sold by two of our founders. \nThe Reparations Ministry Team and Facing Systemic Racism Committee invite you to the Heinz History Center Detre Library and Archives on Saturday & Monday\, September 6 & 8\, 10 am–12 pm\, to view the primary sources we relied on for our research: the bills of sale for Nell and Poll\, the registry of births of babies to enslaved mothers\, and other documents that gave us insight into the lives of the family. We will provide a brief recap of the information from our program in June\, and an archivist will be on hand to answer questions about the materials\, which will be available for you to view in person. Viewing the documents can be a powerful experience and is a chance to bear witness as we begin to reckon with our church’s tie to enslavement. \nAfterward\, attendees are encouraged to visit the “From Slavery to Freedom” exhibit\, which provides information relevant to enslavement\, abolition\, and the civil rights movement in Pittsburgh. \nAttendance is free\, but space is limited. Call or text Hollen Barmer at 412.512.0786 with any questions. \nSign up online
URL:https://cathedralofhope.org/event/bearing-witness-nell-and-poll-documents-at-heinz-history-center/2025-09-08/
LOCATION:PA
CATEGORIES:Featured Events,Mission Activities
END:VEVENT
END:VCALENDAR