BEGIN:VCALENDAR
VERSION:2.0
PRODID:-//East Liberty Presbyterian Church - ECPv6.15.20//NONSGML v1.0//EN
CALSCALE:GREGORIAN
METHOD:PUBLISH
X-WR-CALNAME:East Liberty Presbyterian Church
X-ORIGINAL-URL:https://cathedralofhope.org
X-WR-CALDESC:Events for East Liberty Presbyterian Church
REFRESH-INTERVAL;VALUE=DURATION:PT1H
X-Robots-Tag:noindex
X-PUBLISHED-TTL:PT1H
BEGIN:VTIMEZONE
TZID:America/New_York
BEGIN:DAYLIGHT
TZOFFSETFROM:-0500
TZOFFSETTO:-0400
TZNAME:EDT
DTSTART:20250309T070000
END:DAYLIGHT
BEGIN:STANDARD
TZOFFSETFROM:-0400
TZOFFSETTO:-0500
TZNAME:EST
DTSTART:20251102T060000
END:STANDARD
BEGIN:DAYLIGHT
TZOFFSETFROM:-0500
TZOFFSETTO:-0400
TZNAME:EDT
DTSTART:20260308T070000
END:DAYLIGHT
BEGIN:STANDARD
TZOFFSETFROM:-0400
TZOFFSETTO:-0500
TZNAME:EST
DTSTART:20261101T060000
END:STANDARD
BEGIN:DAYLIGHT
TZOFFSETFROM:-0500
TZOFFSETTO:-0400
TZNAME:EDT
DTSTART:20270314T070000
END:DAYLIGHT
BEGIN:STANDARD
TZOFFSETFROM:-0400
TZOFFSETTO:-0500
TZNAME:EST
DTSTART:20271107T060000
END:STANDARD
END:VTIMEZONE
BEGIN:VEVENT
DTSTART;TZID=America/New_York:20260105T073000
DTEND;TZID=America/New_York:20260105T080000
DTSTAMP:20260424T215830
CREATED:20230906T134447Z
LAST-MODIFIED:20250520T183648Z
UID:10006600-1767598200-1767600000@cathedralofhope.org
SUMMARY:Contemplative Prayer
DESCRIPTION:Contemplation has been described as a long-loving look at the real. Contemplation is about waking up\, listening\, noticing\, and paying attention. In the words of Adele Calhoun\, “A contemplative person recognizes that every experience offers more than meets the eye. They know that ‘bidden or unbidden’ God is present.” \nThis takes practice. \nJoin the Rev. BJ Woodworth for a time to practice a variety of contemplative prayer practices\, utilizing fixed prayers\, scripture\, music\, silence\, art\, and our bodies to help us start our day in communion with God and one another. \nClick the button below at the scheduled time to join via Zoom or call in by dialing 312.626.6799 and entering meeting ID\, 959 8065 3992. \n\nPasscode: bestill\n\nDial-in Passcode: 6787603\nJOIN VIA ZOOM
URL:https://cathedralofhope.org/event/contemplative-prayer/2026-01-05/
LOCATION:ELPC – Online\, 116 South Highland Avenue\, Pittsburgh\, PA\, 15206\, United States
CATEGORIES:Church Life,Educational & Spiritual Life
ORGANIZER;CN="Rev. BJ Woodworth":MAILTO:BJW@coh.net
END:VEVENT
BEGIN:VEVENT
DTSTART;TZID=America/New_York:20260105T080000
DTEND;TZID=America/New_York:20260105T170000
DTSTAMP:20260424T215830
CREATED:20260105T190713Z
LAST-MODIFIED:20260105T190713Z
UID:10006629-1767600000-1767632400@cathedralofhope.org
SUMMARY:Environmental Team January Book Study
DESCRIPTION:For its next book\, the Environment Team of the Justice Committee has selected Shade: the Promise of a Forgotten Natural Resource by Sam Bloch. The discussion session will be held on Thursday\, January 22\, 7 pm\, via Zoom. \nIn his new book\, environmental journalist Sam Bloch encourages us to look to the past for solutions to our ever-warming urban areas as climate change creates heat waves that are more frequent\, hotter and longer lasting. Bloch’s call for more shade in urban areas\, with more trees in parks and residential areas and new ways to design public areas and buildings\, comes as policy makers grapple with a growing crisis in heat-related illness and death. \nFor further information and the Zoom link\, contact Nancy Heastings.
URL:https://cathedralofhope.org/event/environmental-team-january-book-study/
LOCATION:PA
CATEGORIES:Featured Events,Mission Activities
ATTACH;FMTTYPE=image/jpeg:https://cathedralofhope.org/wp-content/uploads/2026/01/img_shade.jpg
END:VEVENT
END:VCALENDAR