BEGIN:VCALENDAR
VERSION:2.0
PRODID:-//East Liberty Presbyterian Church - ECPv6.15.20//NONSGML v1.0//EN
CALSCALE:GREGORIAN
METHOD:PUBLISH
X-WR-CALNAME:East Liberty Presbyterian Church
X-ORIGINAL-URL:https://cathedralofhope.org
X-WR-CALDESC:Events for East Liberty Presbyterian Church
REFRESH-INTERVAL;VALUE=DURATION:PT1H
X-Robots-Tag:noindex
X-PUBLISHED-TTL:PT1H
BEGIN:VTIMEZONE
TZID:America/New_York
BEGIN:DAYLIGHT
TZOFFSETFROM:-0500
TZOFFSETTO:-0400
TZNAME:EDT
DTSTART:20250309T070000
END:DAYLIGHT
BEGIN:STANDARD
TZOFFSETFROM:-0400
TZOFFSETTO:-0500
TZNAME:EST
DTSTART:20251102T060000
END:STANDARD
BEGIN:DAYLIGHT
TZOFFSETFROM:-0500
TZOFFSETTO:-0400
TZNAME:EDT
DTSTART:20260308T070000
END:DAYLIGHT
BEGIN:STANDARD
TZOFFSETFROM:-0400
TZOFFSETTO:-0500
TZNAME:EST
DTSTART:20261101T060000
END:STANDARD
BEGIN:DAYLIGHT
TZOFFSETFROM:-0500
TZOFFSETTO:-0400
TZNAME:EDT
DTSTART:20270314T070000
END:DAYLIGHT
BEGIN:STANDARD
TZOFFSETFROM:-0400
TZOFFSETTO:-0500
TZNAME:EST
DTSTART:20271107T060000
END:STANDARD
END:VTIMEZONE
BEGIN:VEVENT
DTSTART;TZID=America/New_York:20260306T180000
DTEND;TZID=America/New_York:20260307T150000
DTSTAMP:20260423T103548
CREATED:20260129T170538Z
LAST-MODIFIED:20260219T150304Z
UID:10003568-1772820000-1772895600@cathedralofhope.org
SUMMARY:PW Winter Retreat
DESCRIPTION:How do we live compassionately in a time of violence and despair? What can we do with our own disappointments and anger over an unjust world? Prophetic voices can help us live faithfully today. \nPresbyterian Women invites you to our Winter Retreat\, Responding Compassionately to a Hurting World\, Friday–Saturday\, March 6–7\, at Crestfied Camp and Conference Center in Slippery Rock. Rev. Sarah Robbins will lead us in a deep dive into the wisdom of prophets whose anger and lament was transformed into compassion as a mature response to evil. Through prayer\, discussion\, exercises and guided reflection\, we will practice ways to respond faithfully to an unjust world. Richard Rohr’s new book\, The Tears of Things\, provides guidance and a basis for our conversation. \nOur overnight retreat will begin with dinner on Friday\, 6 pm\, and conclude mid-afternoon on Saturday. We will make a joyful noise with singing and worship. We will renew ourselves through play and rest. \nRegistration is full at this time.  \nDownload Brochure
URL:https://cathedralofhope.org/event/pw-winter-retreat/
LOCATION:Camp Crestfield & Conference Center\, 195 Taggart Road\, Slippery Rock\, PA\, 16057\, United States
CATEGORIES:Presbyterian Women
ATTACH;FMTTYPE=image/jpeg:https://cathedralofhope.org/wp-content/uploads/2026/01/repost5375376351558438956.jpg
GEO:41.0639506;-80.0564468
X-APPLE-STRUCTURED-LOCATION;VALUE=URI;X-ADDRESS=Camp Crestfield & Conference Center 195 Taggart Road Slippery Rock PA 16057 United States;X-APPLE-RADIUS=500;X-TITLE=195 Taggart Road:geo:-80.0564468,41.0639506
END:VEVENT
END:VCALENDAR