BEGIN:VCALENDAR
VERSION:2.0
PRODID:-//East Liberty Presbyterian Church - ECPv6.15.20//NONSGML v1.0//EN
CALSCALE:GREGORIAN
METHOD:PUBLISH
X-ORIGINAL-URL:https://cathedralofhope.org
X-WR-CALDESC:Events for East Liberty Presbyterian Church
REFRESH-INTERVAL;VALUE=DURATION:PT1H
X-Robots-Tag:noindex
X-PUBLISHED-TTL:PT1H
BEGIN:VTIMEZONE
TZID:America/New_York
BEGIN:DAYLIGHT
TZOFFSETFROM:-0500
TZOFFSETTO:-0400
TZNAME:EDT
DTSTART:20250309T070000
END:DAYLIGHT
BEGIN:STANDARD
TZOFFSETFROM:-0400
TZOFFSETTO:-0500
TZNAME:EST
DTSTART:20251102T060000
END:STANDARD
BEGIN:DAYLIGHT
TZOFFSETFROM:-0500
TZOFFSETTO:-0400
TZNAME:EDT
DTSTART:20260308T070000
END:DAYLIGHT
BEGIN:STANDARD
TZOFFSETFROM:-0400
TZOFFSETTO:-0500
TZNAME:EST
DTSTART:20261101T060000
END:STANDARD
BEGIN:DAYLIGHT
TZOFFSETFROM:-0500
TZOFFSETTO:-0400
TZNAME:EDT
DTSTART:20270314T070000
END:DAYLIGHT
BEGIN:STANDARD
TZOFFSETFROM:-0400
TZOFFSETTO:-0500
TZNAME:EST
DTSTART:20271107T060000
END:STANDARD
END:VTIMEZONE
BEGIN:VEVENT
DTSTART;TZID=America/New_York:20260321T130000
DTEND;TZID=America/New_York:20260321T160000
DTSTAMP:20260423T102235
CREATED:20260114T190947Z
LAST-MODIFIED:20260225T113245Z
UID:10006697-1774098000-1774108800@cathedralofhope.org
SUMMARY:Active Intruder Safety Training
DESCRIPTION:You are invited along with all ELPC friends\, members\, leaders\, and staff to attend an important training session on Saturday\, March 21\, 1–4 pm\, concerning how to remain safe if an intruder enters the church building. ELPC’s Safety and Security Advisory Committee will be hosting a local safety officer who will share helpful information and answer our questions. \nPlease pre-register by March 15 online or with Jen King at 412.441.3800 x222. \nThe week before the event\, we will send a confirmation naming the room we will meet in with a reminder to all who RSVP they are attending. We hope you can make it.
URL:https://cathedralofhope.org/event/active-intruder-safety-training/
LOCATION:PA
CATEGORIES:Featured Events
END:VEVENT
END:VCALENDAR