BEGIN:VCALENDAR
VERSION:2.0
PRODID:-//East Liberty Presbyterian Church - ECPv6.15.20//NONSGML v1.0//EN
CALSCALE:GREGORIAN
METHOD:PUBLISH
X-WR-CALNAME:East Liberty Presbyterian Church
X-ORIGINAL-URL:https://cathedralofhope.org
X-WR-CALDESC:Events for East Liberty Presbyterian Church
REFRESH-INTERVAL;VALUE=DURATION:PT1H
X-Robots-Tag:noindex
X-PUBLISHED-TTL:PT1H
BEGIN:VTIMEZONE
TZID:America/Halifax
BEGIN:DAYLIGHT
TZOFFSETFROM:-0400
TZOFFSETTO:-0300
TZNAME:ADT
DTSTART:20250309T060000
END:DAYLIGHT
BEGIN:STANDARD
TZOFFSETFROM:-0300
TZOFFSETTO:-0400
TZNAME:AST
DTSTART:20251102T050000
END:STANDARD
BEGIN:DAYLIGHT
TZOFFSETFROM:-0400
TZOFFSETTO:-0300
TZNAME:ADT
DTSTART:20260308T060000
END:DAYLIGHT
BEGIN:STANDARD
TZOFFSETFROM:-0300
TZOFFSETTO:-0400
TZNAME:AST
DTSTART:20261101T050000
END:STANDARD
BEGIN:DAYLIGHT
TZOFFSETFROM:-0400
TZOFFSETTO:-0300
TZNAME:ADT
DTSTART:20270314T060000
END:DAYLIGHT
BEGIN:STANDARD
TZOFFSETFROM:-0300
TZOFFSETTO:-0400
TZNAME:AST
DTSTART:20271107T050000
END:STANDARD
END:VTIMEZONE
BEGIN:VTIMEZONE
TZID:America/New_York
BEGIN:DAYLIGHT
TZOFFSETFROM:-0500
TZOFFSETTO:-0400
TZNAME:EDT
DTSTART:20250309T070000
END:DAYLIGHT
BEGIN:STANDARD
TZOFFSETFROM:-0400
TZOFFSETTO:-0500
TZNAME:EST
DTSTART:20251102T060000
END:STANDARD
BEGIN:DAYLIGHT
TZOFFSETFROM:-0500
TZOFFSETTO:-0400
TZNAME:EDT
DTSTART:20260308T070000
END:DAYLIGHT
BEGIN:STANDARD
TZOFFSETFROM:-0400
TZOFFSETTO:-0500
TZNAME:EST
DTSTART:20261101T060000
END:STANDARD
BEGIN:DAYLIGHT
TZOFFSETFROM:-0500
TZOFFSETTO:-0400
TZNAME:EDT
DTSTART:20270314T070000
END:DAYLIGHT
BEGIN:STANDARD
TZOFFSETFROM:-0400
TZOFFSETTO:-0500
TZNAME:EST
DTSTART:20271107T060000
END:STANDARD
END:VTIMEZONE
BEGIN:VEVENT
DTSTART;TZID=America/Halifax:20260403T120000
DTEND;TZID=America/Halifax:20260403T130000
DTSTAMP:20260423T082641
CREATED:20260219T123014Z
LAST-MODIFIED:20260325T180007Z
UID:10001975-1775217600-1775221200@cathedralofhope.org
SUMMARY:Good Friday Noon Service
DESCRIPTION:Join us in the Chapel as we remember the crucifixion of Jesus.
URL:https://cathedralofhope.org/event/good-friday-12pm/
LOCATION:ELPC – Chapel\, 116 South Highland Avenue\, Pittsburgh\, PA\, 15206\, United States
CATEGORIES:Worship Services
ATTACH;FMTTYPE=image/png:https://cathedralofhope.org/wp-content/uploads/2026/02/FB-Good-Friday-12pm.png
GEO:40.461033;-79.925503
X-APPLE-STRUCTURED-LOCATION;VALUE=URI;X-ADDRESS=ELPC – Chapel 116 South Highland Avenue Pittsburgh PA 15206 United States;X-APPLE-RADIUS=500;X-TITLE=116 South Highland Avenue:geo:-79.925503,40.461033
END:VEVENT
BEGIN:VEVENT
DTSTART;TZID=America/New_York:20260403T190000
DTEND;TZID=America/New_York:20260403T200000
DTSTAMP:20260423T082641
CREATED:20260325T175215Z
LAST-MODIFIED:20260325T180707Z
UID:10007369-1775242800-1775246400@cathedralofhope.org
SUMMARY:Good Friday Evening Service
DESCRIPTION:Good Friday Evening Service in the Sanctuary at 7 PM \nLIVE in the Sanctuary and streaming on the ELPC YouTube Channel or ELPC Facebook Page \nGood Friday is the day we remember Jesus’ crucifixion. The hours of noon to 3 p.m. are particularly significant as these commemorate the time Jesus hung on the cross. It is an especially important time to pray for the church and the world for whom Christ gave his life.
URL:https://cathedralofhope.org/event/good-friday-evening-service/
LOCATION:ELPC – Sanctuary\, 116 South Highland Avenue\, Pittsburgh\, PA\, 15206\, United States
CATEGORIES:Worship Services
ATTACH;FMTTYPE=image/png:https://cathedralofhope.org/wp-content/uploads/2026/02/FB-Good-Friday-7pm.png
GEO:40.461033;-79.925503
X-APPLE-STRUCTURED-LOCATION;VALUE=URI;X-ADDRESS=ELPC – Sanctuary 116 South Highland Avenue Pittsburgh PA 15206 United States;X-APPLE-RADIUS=500;X-TITLE=116 South Highland Avenue:geo:-79.925503,40.461033
END:VEVENT
END:VCALENDAR