BEGIN:VCALENDAR
VERSION:2.0
PRODID:-//East Liberty Presbyterian Church - ECPv6.15.20//NONSGML v1.0//EN
CALSCALE:GREGORIAN
METHOD:PUBLISH
X-ORIGINAL-URL:https://cathedralofhope.org
X-WR-CALDESC:Events for East Liberty Presbyterian Church
REFRESH-INTERVAL;VALUE=DURATION:PT1H
X-Robots-Tag:noindex
X-PUBLISHED-TTL:PT1H
BEGIN:VTIMEZONE
TZID:America/Halifax
BEGIN:DAYLIGHT
TZOFFSETFROM:-0400
TZOFFSETTO:-0300
TZNAME:ADT
DTSTART:20250309T060000
END:DAYLIGHT
BEGIN:STANDARD
TZOFFSETFROM:-0300
TZOFFSETTO:-0400
TZNAME:AST
DTSTART:20251102T050000
END:STANDARD
BEGIN:DAYLIGHT
TZOFFSETFROM:-0400
TZOFFSETTO:-0300
TZNAME:ADT
DTSTART:20260308T060000
END:DAYLIGHT
BEGIN:STANDARD
TZOFFSETFROM:-0300
TZOFFSETTO:-0400
TZNAME:AST
DTSTART:20261101T050000
END:STANDARD
BEGIN:DAYLIGHT
TZOFFSETFROM:-0400
TZOFFSETTO:-0300
TZNAME:ADT
DTSTART:20270314T060000
END:DAYLIGHT
BEGIN:STANDARD
TZOFFSETFROM:-0300
TZOFFSETTO:-0400
TZNAME:AST
DTSTART:20271107T050000
END:STANDARD
END:VTIMEZONE
BEGIN:VTIMEZONE
TZID:America/New_York
BEGIN:DAYLIGHT
TZOFFSETFROM:-0500
TZOFFSETTO:-0400
TZNAME:EDT
DTSTART:20250309T070000
END:DAYLIGHT
BEGIN:STANDARD
TZOFFSETFROM:-0400
TZOFFSETTO:-0500
TZNAME:EST
DTSTART:20251102T060000
END:STANDARD
BEGIN:DAYLIGHT
TZOFFSETFROM:-0500
TZOFFSETTO:-0400
TZNAME:EDT
DTSTART:20260308T070000
END:DAYLIGHT
BEGIN:STANDARD
TZOFFSETFROM:-0400
TZOFFSETTO:-0500
TZNAME:EST
DTSTART:20261101T060000
END:STANDARD
BEGIN:DAYLIGHT
TZOFFSETFROM:-0500
TZOFFSETTO:-0400
TZNAME:EDT
DTSTART:20270314T070000
END:DAYLIGHT
BEGIN:STANDARD
TZOFFSETFROM:-0400
TZOFFSETTO:-0500
TZNAME:EST
DTSTART:20271107T060000
END:STANDARD
END:VTIMEZONE
BEGIN:VEVENT
DTSTART;TZID=America/Halifax:20260419T084500
DTEND;TZID=America/Halifax:20260419T094500
DTSTAMP:20260423T082726
CREATED:20250822T120056Z
LAST-MODIFIED:20260325T174257Z
UID:10002964-1776588300-1776591900@cathedralofhope.org
SUMMARY:Journey Worship
DESCRIPTION:Join us for Journey worship in the Chapel each Sunday\, 8:45 am. \nClick here to see details for this week’s worship services. \n\nAbout ELPC’s Journey Worship Service\nOur Journey worship service is a lively service of spirit\, hope\, and praise in which we encounter God’s word in a fresh\, compelling way. The blending of contemporary music\, Gospel songs and hymns\, introspective worship\, and interactive communal praise helps to reflect the diverse\, creative spirit that is at the heart of ELPC. The service is led by ELPC’s pastoral staff.
URL:https://cathedralofhope.org/event/journey-worship/2026-04-19/
LOCATION:ELPC – Social Hall\, 116 South Highland Avenue\, Pittsburgh\, PA\, 15206\, United States
CATEGORIES:Worship Services
ATTACH;FMTTYPE=image/png:https://cathedralofhope.org/wp-content/uploads/2025/08/img_journey-worship-chapel.png
GEO:40.4610063;-79.925589
X-APPLE-STRUCTURED-LOCATION;VALUE=URI;X-ADDRESS=ELPC – Social Hall 116 South Highland Avenue Pittsburgh PA 15206 United States;X-APPLE-RADIUS=500;X-TITLE=116 South Highland Avenue:geo:-79.925589,40.4610063
END:VEVENT
BEGIN:VEVENT
DTSTART;TZID=America/New_York:20260419T094500
DTEND;TZID=America/New_York:20260419T094500
DTSTAMP:20260423T082726
CREATED:20250820T164558Z
LAST-MODIFIED:20250820T164558Z
UID:10006201-1776591900-1776591900@cathedralofhope.org
SUMMARY:Youth Sunday School
DESCRIPTION:7th-12th grade teens meet on the first and third Sunday of the month from 9:45-10:45am in the Second Floor Parlor. \nAlso check out Youth Group for 7th -12th graders happening Thursdays from 4:30-7pm with dinner\, games\, conversation\, God talk\, service projects\, and a lot of laughter. Contact Sara Hackett for more information.
URL:https://cathedralofhope.org/event/youth-sunday-school-3/2026-04-19/
LOCATION:PA
CATEGORIES:Children & Youth
ATTACH;FMTTYPE=image/jpeg:https://cathedralofhope.org/wp-content/uploads/2025/08/20250202_103321-scaled-e1755707879820.jpg
END:VEVENT
BEGIN:VEVENT
DTSTART;TZID=America/Halifax:20260419T094500
DTEND;TZID=America/Halifax:20260419T104500
DTSTAMP:20260423T082726
CREATED:20170901T130547Z
LAST-MODIFIED:20250828T194720Z
UID:10003371-1776591900-1776595500@cathedralofhope.org
SUMMARY:Adult Sunday School
DESCRIPTION:Adult Sunday School\nClasses for adults meet on Sundays\, 9:45–10:45 am\, from September through May\, unless otherwise noted. \nJourney with Scripture | Highland Room and Zoom \nThe Journey with Scripture class reads together various Scripture readings for that week in worship\, whether from the lectionary or our pastor’s choosing. These readings span across the entire Bible. The class uses a variety of methods of engaging the scripture texts and is conversational in nature. Prior knowledge of the Scriptures is not necessary for participation. Rev. Henk Bossers and other class members facilitate the class. Contact Sara Hackett for Zoom information. \nSeekers | Garth Overlook Room and Zoom \nThe Seekers class desires to grow in religious understanding\, insight\, faith\, and practice. We create a space for spiritual and intellectual exploration\, enrichment\, and sharing. Together we seek a broad\, inclusive dialogue\, including respecting and learning about other faith traditions. All viewpoints are welcomed and encouraged at our classes. The Seekers class consist of speakers and videos\, with time for sharing and questions. Contact Gwen Puza for Zoom information. \nSoul Food | Good Samaritan Room and Zoom \nSoul Food is an adult class that focuses on feeding our spirits and nurturing our awareness of God’s presence. We use a prayerful\, contemplative format that includes small group discussions of spiritually nourishing texts and personal experiences. Our upcoming books are So You Want to Talk About Race\, by Ijeoma Oluo\, to be followed in November by Season’s Greetings\, by Ruth Boling. New participants are always welcome! The Soul Food class is facilitated by the Rev. Joe Hajdu and other class members. Contact the Rev. Joe Hajdu for additional and Zoom information. \nView this Week’s Adult Church School Offerings \n\nChildren and Youth Sunday School\nThe Nursery\, for children up to age 3 is staffed from 8:30 am–12:30 pm on Sundays for children to sing songs\, tell stories\, and play. \nChildren age 4- 3rd grade go to Sunday School: Sacred Stories for Kids after the Moments with our Children in the Sanctuary (11:10 am) and parents pick kids up after worship in Room 206. \nTweens in grade 4th-6th go to Sunday School: Sacred Stories for Tweens after the Moments with our Children in the Sanctuary (11:10 am) and parents pick kids up after worship in Room 207. \nTeens in  grade 7th-12th meets on the FIRST and THIRD Sunday of the month from 9:45-10:45am in the Second Floor Parlor \n  \n 
URL:https://cathedralofhope.org/event/church-school/2026-04-19/
LOCATION:East Liberty Presbyterian Church\, 116 S. Highland Avenue\, Pittsburgh\, PA\, 15206\, United States
CATEGORIES:Church Life,Educational & Spiritual Life
ATTACH;FMTTYPE=image/jpeg:https://cathedralofhope.org/wp-content/uploads/2017/09/20241020_101828-scaled.jpg
GEO:40.4609708;-79.9253554
X-APPLE-STRUCTURED-LOCATION;VALUE=URI;X-ADDRESS=East Liberty Presbyterian Church 116 S. Highland Avenue Pittsburgh PA 15206 United States;X-APPLE-RADIUS=500;X-TITLE=116 S. Highland Avenue:geo:-79.9253554,40.4609708
END:VEVENT
BEGIN:VEVENT
DTSTART;TZID=America/New_York:20260419T110000
DTEND;TZID=America/New_York:20260419T121500
DTSTAMP:20260423T082726
CREATED:20230906T120057Z
LAST-MODIFIED:20260325T175315Z
UID:10006534-1776596400-1776600900@cathedralofhope.org
SUMMARY:Sanctuary Worship
DESCRIPTION:Join us for worship in the Sanctuary each Sunday\, 11 am\, or via livestream on YouTube or Facebook. Printed copies of the weekly bulletin and announcements are available\, or you may download a digital version for viewing on your mobile device or tablet. \nClick here to see details for this week’s worship services. \n\nAbout ELPC’s Sanctuary Worship Service\nOur Sanctuary worship service is our largest service\, offering a traditional worship experience with thought-provoking sermons and music from our Chancel Choir and organ to reinforce the spirit of praise and reverence. Like many of the great cathedrals of Europe\, the compelling power and beauty of our historic\, gothic-style Sanctuary enhances the spiritual experience. The service is led by ELPC’s senior pastor or other members of the pastoral staff. Special guest pastors or speakers periodically lead the service. \nChildren are invited to the chancel steps each Sunday to hear their own message before heading upstairs to Sacred Stories\, our Sunday school classes for children. Picture Bibles and activities are in the sanctuary for children who want to stay in worship. The nursery is available for children birth through age 3 to hear stories and play.
URL:https://cathedralofhope.org/event/sanctuary-worship/2026-04-19/
LOCATION:ELPC – Sanctuary\, 116 South Highland Avenue\, Pittsburgh\, PA\, 15206\, United States
CATEGORIES:Worship Services
ATTACH;FMTTYPE=image/jpeg:https://cathedralofhope.org/wp-content/uploads/2014/09/AF5_1510_web.jpg
GEO:40.461033;-79.925503
X-APPLE-STRUCTURED-LOCATION;VALUE=URI;X-ADDRESS=ELPC – Sanctuary 116 South Highland Avenue Pittsburgh PA 15206 United States;X-APPLE-RADIUS=500;X-TITLE=116 South Highland Avenue:geo:-79.925503,40.461033
END:VEVENT
BEGIN:VEVENT
DTSTART;TZID=America/New_York:20260419T120000
DTEND;TZID=America/New_York:20260419T140000
DTSTAMP:20260423T082726
CREATED:20250820T195543Z
LAST-MODIFIED:20250820T212122Z
UID:10006399-1776600000-1776607200@cathedralofhope.org
SUMMARY:Family Bowling
DESCRIPTION:Families with children and teens are invited to stay after Sanctuary worship on Sunday\, April 19 for pizza and bowling. RSVP to Sara Hackett. \nThe Children and Families Ministry team is hosting monthly family events to foster a caring community of families at ELPC\, where kids and adults feel loved and empowered to explore their faith. \nSave the Date for our Monthly Family Events …\nMay 17 -Service Projects around the Church
URL:https://cathedralofhope.org/event/family-bowling-3/
LOCATION:ELPC – Bowling Alley
CATEGORIES:Children & Youth,Featured Events
ATTACH;FMTTYPE=image/png:https://cathedralofhope.org/wp-content/uploads/2025/08/variety-show-3.png
END:VEVENT
BEGIN:VEVENT
DTSTART;TZID=America/Halifax:20260419T121500
DTEND;TZID=America/Halifax:20260419T131500
DTSTAMP:20260423T082726
CREATED:20211221T215139Z
LAST-MODIFIED:20260308T182843Z
UID:10001989-1776600900-1776604500@cathedralofhope.org
SUMMARY:ELPC Tower Tour
DESCRIPTION:Join our tour guide following worship to climb the heights of our church’s landmark central tower\, and gain insights into its history and construction. High above the bustle of the streets below\, you will have an opportunity to view the entire East Liberty valley and beyond from the 300 foot spire of ELPC. The climb requires a bit of stamina\, as there are 333 steps total (equivalent to about 13 stories)\, many of which are very narrow and circular. Please wear pants and comfortable\, closed-toe shoes. The tour is not recommended for children under 12\, those with heart or respiratory conditions\, people with fear of heights or small enclosed spaces. \nThe tour capacity is limited to a total of 20 participants. You must pre-register for the tour online. \nRegister \nPlease gather at the Highland entrance following worship\, and allow 45–60 minutes for the tour. There is no cost to participate\, but free-will donations are gratefully accepted. \n  \n 
URL:https://cathedralofhope.org/event/tower-tour/2026-04-19/
LOCATION:East Liberty Presbyterian Church\, 116 S. Highland Avenue\, Pittsburgh\, PA\, 15206\, United States
CATEGORIES:Church Tours,Featured Events
ATTACH;FMTTYPE=image/jpeg:https://cathedralofhope.org/wp-content/uploads/2017/03/ELPC-tower-tour-rev.jpg
GEO:40.4609708;-79.9253554
X-APPLE-STRUCTURED-LOCATION;VALUE=URI;X-ADDRESS=East Liberty Presbyterian Church 116 S. Highland Avenue Pittsburgh PA 15206 United States;X-APPLE-RADIUS=500;X-TITLE=116 S. Highland Avenue:geo:-79.9253554,40.4609708
END:VEVENT
BEGIN:VEVENT
DTSTART;TZID=America/Halifax:20260419T121500
DTEND;TZID=America/Halifax:20260419T131500
DTSTAMP:20260423T082726
CREATED:20230426T120015Z
LAST-MODIFIED:20260308T182710Z
UID:10003095-1776600900-1776604500@cathedralofhope.org
SUMMARY:Sanctuary & Chapel Tour
DESCRIPTION:Join us after worship for an architectural tour of our beautiful\, Gothic Sanctuary and Romanesque Chapel. Our guide will discuss these architectural styles\, as well as the history and symbolism of these unique spaces. The Narthex\, Trinity Chapel\, and Chancel will be included. \nPlease gather at the Highland Lobby after worship.
URL:https://cathedralofhope.org/event/sanctuary-chapel-tour/2026-04-19/
LOCATION:East Liberty Presbyterian Church\, 116 S. Highland Avenue\, Pittsburgh\, PA\, 15206\, United States
CATEGORIES:Church Tours,Featured Events
ATTACH;FMTTYPE=image/jpeg:https://cathedralofhope.org/wp-content/uploads/2017/11/AF5_8800_web.jpg
GEO:40.4609708;-79.9253554
X-APPLE-STRUCTURED-LOCATION;VALUE=URI;X-ADDRESS=East Liberty Presbyterian Church 116 S. Highland Avenue Pittsburgh PA 15206 United States;X-APPLE-RADIUS=500;X-TITLE=116 S. Highland Avenue:geo:-79.9253554,40.4609708
END:VEVENT
BEGIN:VEVENT
DTSTART;TZID=America/New_York:20260419T121500
DTEND;TZID=America/New_York:20260419T134500
DTSTAMP:20260423T082726
CREATED:20260327T204223Z
LAST-MODIFIED:20260331T205424Z
UID:10007384-1776600900-1776606300@cathedralofhope.org
SUMMARY:Shaping Our Future Gathering- April 19\, 2026
DESCRIPTION:You are invited to join us for our first Shaping Our Future Gathering. This will be a meaningful opportunity for us to come together as a community to listen deeply to one another and to God. Through guided conversations\, we will reflect on our shared story\, name what matters most in this season\, and begin imagining the future God is calling us toward. Everyone’s voice matters. Whether you’ve been here for decades or just recently arrived\, your perspective and experience is an essential part of this journey as we help shape the next chapter of ELPC. \nBackground:  In February\, ELPC’s Session voted to begin a strategic visioning process with guidance from Michelle Snyder from the Center for Healthy Churches. Michelle previous worked with ELPC in 2023\, facilitating the Congregational Assessment Tool (CAT) which aided the Pastoral Nominating Committee’s work in calling Pastor Michael as Senior Pastor. The strategic visioning process is the next stage of our work together that will aid us in developing a three-year strategic plan. \nLunch and childcare (RSVP by April 12) will be provided. ZOOM is an option as well for those joining online. \nPlease register here:
URL:https://cathedralofhope.org/event/april-19-2026-strategic-planning/
LOCATION:ELPC – Social Hall\, 116 South Highland Avenue\, Pittsburgh\, PA\, 15206\, United States
ATTACH;FMTTYPE=image/jpeg:https://cathedralofhope.org/wp-content/uploads/2026/03/550330871_10238018479302401_3230004636774229995_n-e1774645199688.jpg
GEO:40.4610063;-79.925589
X-APPLE-STRUCTURED-LOCATION;VALUE=URI;X-ADDRESS=ELPC – Social Hall 116 South Highland Avenue Pittsburgh PA 15206 United States;X-APPLE-RADIUS=500;X-TITLE=116 South Highland Avenue:geo:-79.925589,40.4610063
END:VEVENT
END:VCALENDAR