BEGIN:VCALENDAR
VERSION:2.0
PRODID:-//East Liberty Presbyterian Church - ECPv6.15.20//NONSGML v1.0//EN
CALSCALE:GREGORIAN
METHOD:PUBLISH
X-ORIGINAL-URL:https://cathedralofhope.org
X-WR-CALDESC:Events for East Liberty Presbyterian Church
REFRESH-INTERVAL;VALUE=DURATION:PT1H
X-Robots-Tag:noindex
X-PUBLISHED-TTL:PT1H
BEGIN:VTIMEZONE
TZID:America/Halifax
BEGIN:DAYLIGHT
TZOFFSETFROM:-0400
TZOFFSETTO:-0300
TZNAME:ADT
DTSTART:20250309T060000
END:DAYLIGHT
BEGIN:STANDARD
TZOFFSETFROM:-0300
TZOFFSETTO:-0400
TZNAME:AST
DTSTART:20251102T050000
END:STANDARD
BEGIN:DAYLIGHT
TZOFFSETFROM:-0400
TZOFFSETTO:-0300
TZNAME:ADT
DTSTART:20260308T060000
END:DAYLIGHT
BEGIN:STANDARD
TZOFFSETFROM:-0300
TZOFFSETTO:-0400
TZNAME:AST
DTSTART:20261101T050000
END:STANDARD
BEGIN:DAYLIGHT
TZOFFSETFROM:-0400
TZOFFSETTO:-0300
TZNAME:ADT
DTSTART:20270314T060000
END:DAYLIGHT
BEGIN:STANDARD
TZOFFSETFROM:-0300
TZOFFSETTO:-0400
TZNAME:AST
DTSTART:20271107T050000
END:STANDARD
END:VTIMEZONE
BEGIN:VTIMEZONE
TZID:America/New_York
BEGIN:DAYLIGHT
TZOFFSETFROM:-0500
TZOFFSETTO:-0400
TZNAME:EDT
DTSTART:20250309T070000
END:DAYLIGHT
BEGIN:STANDARD
TZOFFSETFROM:-0400
TZOFFSETTO:-0500
TZNAME:EST
DTSTART:20251102T060000
END:STANDARD
BEGIN:DAYLIGHT
TZOFFSETFROM:-0500
TZOFFSETTO:-0400
TZNAME:EDT
DTSTART:20260308T070000
END:DAYLIGHT
BEGIN:STANDARD
TZOFFSETFROM:-0400
TZOFFSETTO:-0500
TZNAME:EST
DTSTART:20261101T060000
END:STANDARD
BEGIN:DAYLIGHT
TZOFFSETFROM:-0500
TZOFFSETTO:-0400
TZNAME:EDT
DTSTART:20270314T070000
END:DAYLIGHT
BEGIN:STANDARD
TZOFFSETFROM:-0400
TZOFFSETTO:-0500
TZNAME:EST
DTSTART:20271107T060000
END:STANDARD
END:VTIMEZONE
BEGIN:VEVENT
DTSTART;TZID=America/Halifax:20260510T084500
DTEND;TZID=America/Halifax:20260510T094500
DTSTAMP:20260423T100847
CREATED:20250822T120056Z
LAST-MODIFIED:20260325T174257Z
UID:10002967-1778402700-1778406300@cathedralofhope.org
SUMMARY:Journey Worship
DESCRIPTION:Join us for Journey worship in the Chapel each Sunday\, 8:45 am. \nClick here to see details for this week’s worship services. \n\nAbout ELPC’s Journey Worship Service\nOur Journey worship service is a lively service of spirit\, hope\, and praise in which we encounter God’s word in a fresh\, compelling way. The blending of contemporary music\, Gospel songs and hymns\, introspective worship\, and interactive communal praise helps to reflect the diverse\, creative spirit that is at the heart of ELPC. The service is led by ELPC’s pastoral staff.
URL:https://cathedralofhope.org/event/journey-worship/2026-05-10/
LOCATION:ELPC – Social Hall\, 116 South Highland Avenue\, Pittsburgh\, PA\, 15206\, United States
CATEGORIES:Worship Services
ATTACH;FMTTYPE=image/png:https://cathedralofhope.org/wp-content/uploads/2025/08/img_journey-worship-chapel.png
GEO:40.4610063;-79.925589
X-APPLE-STRUCTURED-LOCATION;VALUE=URI;X-ADDRESS=ELPC – Social Hall 116 South Highland Avenue Pittsburgh PA 15206 United States;X-APPLE-RADIUS=500;X-TITLE=116 South Highland Avenue:geo:-79.925589,40.4610063
END:VEVENT
BEGIN:VEVENT
DTSTART;TZID=America/Halifax:20260510T094500
DTEND;TZID=America/Halifax:20260510T104500
DTSTAMP:20260423T100847
CREATED:20170901T130547Z
LAST-MODIFIED:20250828T194720Z
UID:10003374-1778406300-1778409900@cathedralofhope.org
SUMMARY:Adult Sunday School
DESCRIPTION:Adult Sunday School\nClasses for adults meet on Sundays\, 9:45–10:45 am\, from September through May\, unless otherwise noted. \nJourney with Scripture | Highland Room and Zoom \nThe Journey with Scripture class reads together various Scripture readings for that week in worship\, whether from the lectionary or our pastor’s choosing. These readings span across the entire Bible. The class uses a variety of methods of engaging the scripture texts and is conversational in nature. Prior knowledge of the Scriptures is not necessary for participation. Rev. Henk Bossers and other class members facilitate the class. Contact Sara Hackett for Zoom information. \nSeekers | Garth Overlook Room and Zoom \nThe Seekers class desires to grow in religious understanding\, insight\, faith\, and practice. We create a space for spiritual and intellectual exploration\, enrichment\, and sharing. Together we seek a broad\, inclusive dialogue\, including respecting and learning about other faith traditions. All viewpoints are welcomed and encouraged at our classes. The Seekers class consist of speakers and videos\, with time for sharing and questions. Contact Gwen Puza for Zoom information. \nSoul Food | Good Samaritan Room and Zoom \nSoul Food is an adult class that focuses on feeding our spirits and nurturing our awareness of God’s presence. We use a prayerful\, contemplative format that includes small group discussions of spiritually nourishing texts and personal experiences. Our upcoming books are So You Want to Talk About Race\, by Ijeoma Oluo\, to be followed in November by Season’s Greetings\, by Ruth Boling. New participants are always welcome! The Soul Food class is facilitated by the Rev. Joe Hajdu and other class members. Contact the Rev. Joe Hajdu for additional and Zoom information. \nView this Week’s Adult Church School Offerings \n\nChildren and Youth Sunday School\nThe Nursery\, for children up to age 3 is staffed from 8:30 am–12:30 pm on Sundays for children to sing songs\, tell stories\, and play. \nChildren age 4- 3rd grade go to Sunday School: Sacred Stories for Kids after the Moments with our Children in the Sanctuary (11:10 am) and parents pick kids up after worship in Room 206. \nTweens in grade 4th-6th go to Sunday School: Sacred Stories for Tweens after the Moments with our Children in the Sanctuary (11:10 am) and parents pick kids up after worship in Room 207. \nTeens in  grade 7th-12th meets on the FIRST and THIRD Sunday of the month from 9:45-10:45am in the Second Floor Parlor \n  \n 
URL:https://cathedralofhope.org/event/church-school/2026-05-10/
LOCATION:East Liberty Presbyterian Church\, 116 S. Highland Avenue\, Pittsburgh\, PA\, 15206\, United States
CATEGORIES:Church Life,Educational & Spiritual Life
ATTACH;FMTTYPE=image/jpeg:https://cathedralofhope.org/wp-content/uploads/2017/09/20241020_101828-scaled.jpg
GEO:40.4609708;-79.9253554
X-APPLE-STRUCTURED-LOCATION;VALUE=URI;X-ADDRESS=East Liberty Presbyterian Church 116 S. Highland Avenue Pittsburgh PA 15206 United States;X-APPLE-RADIUS=500;X-TITLE=116 S. Highland Avenue:geo:-79.9253554,40.4609708
END:VEVENT
BEGIN:VEVENT
DTSTART;TZID=America/New_York:20260510T094500
DTEND;TZID=America/New_York:20260510T130000
DTSTAMP:20260423T100847
CREATED:20260423T133038Z
LAST-MODIFIED:20260423T134432Z
UID:10007401-1778406300-1778418000@cathedralofhope.org
SUMMARY:Mid-Term Primary Election Info Session
DESCRIPTION:Are you ready to Vote? The Voting Group under the Justice Committee has information and tools for you. On the ballot this election: Governor\, Lieutenant Governor\, U.S House of Representative (Allegheny County – Districts 12 and 17)\, Pennsylvania State Senators\, Pennsylvania State Representatives. See us in the Highland Ave entrance on Sundays\, April 26 and May 10\, before and after our 11 am service.   \nRegistration: Do you need to change your registration (e.g. address)? Did you remember to apply for a mail-in ballot? We can help. You can use pa.gov/vote.  \nForum: On Friday\, May 1\, 6:30–7:30 pm\, there will be a forum with Democratic candidates for Pennsylvania Legislative District 24 (ELPC area) in Wilkinsburg. See us for a flyer. \nYour Ballot: VOTE411 has your ballot and information submitted by the candidates. We will have copies of the League of Women Voters of Greater Pittsburgh Voters Guide. See also the lwvpgh.org for comprehensive\, non-partisan election information.  \nBallot Drop: Copies of the flyer with the locations will be at our table.   \n\nSaturday\, May 9 & Sunday\, May 10\, 10 am–2 pm\, for ballot drop and over-the-counter voting. \nFriday\, May 15\, 11 am–7 pm; Saturday\, May 16 & Sunday\, May 17\, 9 am–5 pm; and Monday\, May 18\, 11 am–7 pm.  
URL:https://cathedralofhope.org/event/mid-term-primary-election-info-session/2026-05-10/
LOCATION:East Liberty Presbyterian Church\, 116 S. Highland Avenue\, Pittsburgh\, PA\, 15206\, United States
CATEGORIES:Featured Events,Mission Activities
GEO:40.4609708;-79.9253554
X-APPLE-STRUCTURED-LOCATION;VALUE=URI;X-ADDRESS=East Liberty Presbyterian Church 116 S. Highland Avenue Pittsburgh PA 15206 United States;X-APPLE-RADIUS=500;X-TITLE=116 S. Highland Avenue:geo:-79.9253554,40.4609708
END:VEVENT
BEGIN:VEVENT
DTSTART;TZID=America/New_York:20260510T110000
DTEND;TZID=America/New_York:20260510T121500
DTSTAMP:20260423T100847
CREATED:20230906T120057Z
LAST-MODIFIED:20260325T175315Z
UID:10006537-1778410800-1778415300@cathedralofhope.org
SUMMARY:Sanctuary Worship
DESCRIPTION:Join us for worship in the Sanctuary each Sunday\, 11 am\, or via livestream on YouTube or Facebook. Printed copies of the weekly bulletin and announcements are available\, or you may download a digital version for viewing on your mobile device or tablet. \nClick here to see details for this week’s worship services. \n\nAbout ELPC’s Sanctuary Worship Service\nOur Sanctuary worship service is our largest service\, offering a traditional worship experience with thought-provoking sermons and music from our Chancel Choir and organ to reinforce the spirit of praise and reverence. Like many of the great cathedrals of Europe\, the compelling power and beauty of our historic\, gothic-style Sanctuary enhances the spiritual experience. The service is led by ELPC’s senior pastor or other members of the pastoral staff. Special guest pastors or speakers periodically lead the service. \nChildren are invited to the chancel steps each Sunday to hear their own message before heading upstairs to Sacred Stories\, our Sunday school classes for children. Picture Bibles and activities are in the sanctuary for children who want to stay in worship. The nursery is available for children birth through age 3 to hear stories and play.
URL:https://cathedralofhope.org/event/sanctuary-worship/2026-05-10/
LOCATION:ELPC – Sanctuary\, 116 South Highland Avenue\, Pittsburgh\, PA\, 15206\, United States
CATEGORIES:Worship Services
ATTACH;FMTTYPE=image/jpeg:https://cathedralofhope.org/wp-content/uploads/2014/09/AF5_1510_web.jpg
GEO:40.461033;-79.925503
X-APPLE-STRUCTURED-LOCATION;VALUE=URI;X-ADDRESS=ELPC – Sanctuary 116 South Highland Avenue Pittsburgh PA 15206 United States;X-APPLE-RADIUS=500;X-TITLE=116 South Highland Avenue:geo:-79.925503,40.461033
END:VEVENT
BEGIN:VEVENT
DTSTART;TZID=America/New_York:20260510T123000
DTEND;TZID=America/New_York:20260510T143000
DTSTAMP:20260423T100847
CREATED:20251106T140513Z
LAST-MODIFIED:20251106T140513Z
UID:10006633-1778416200-1778423400@cathedralofhope.org
SUMMARY:May LGBTQIA+ Ministry Spiritual Gathering
DESCRIPTION:You are invited to the Spiritual Gathering of ELPC’s LGBTQIA+ Ministry to share food and fellowship at the church. Allies and LGBTQIA+ folks alike are welcome. \nContact Wil Forrest at 412.441.3800 X218 or Wil@coh.net to learn more\, to RSVP\, and/or to participate. \nGOD CREATED YOU. GOD LOVES YOU.  BE YOURSELF.
URL:https://cathedralofhope.org/event/may-lgbtqia-ministry-spiritual-gathering-3/
LOCATION:East Liberty Presbyterian Church\, 116 S. Highland Avenue\, Pittsburgh\, PA\, 15206\, United States
CATEGORIES:LGBTQIA+
ORGANIZER;CN="Wil Forrest":MAILTO:Wil@coh.net
GEO:40.4609708;-79.9253554
X-APPLE-STRUCTURED-LOCATION;VALUE=URI;X-ADDRESS=East Liberty Presbyterian Church 116 S. Highland Avenue Pittsburgh PA 15206 United States;X-APPLE-RADIUS=500;X-TITLE=116 S. Highland Avenue:geo:-79.9253554,40.4609708
END:VEVENT
END:VCALENDAR