BEGIN:VCALENDAR
VERSION:2.0
PRODID:-//East Liberty Presbyterian Church - ECPv6.15.20//NONSGML v1.0//EN
CALSCALE:GREGORIAN
METHOD:PUBLISH
X-WR-CALNAME:East Liberty Presbyterian Church
X-ORIGINAL-URL:https://cathedralofhope.org
X-WR-CALDESC:Events for East Liberty Presbyterian Church
REFRESH-INTERVAL;VALUE=DURATION:PT1H
X-Robots-Tag:noindex
X-PUBLISHED-TTL:PT1H
BEGIN:VTIMEZONE
TZID:America/New_York
BEGIN:DAYLIGHT
TZOFFSETFROM:-0500
TZOFFSETTO:-0400
TZNAME:EDT
DTSTART:20250309T070000
END:DAYLIGHT
BEGIN:STANDARD
TZOFFSETFROM:-0400
TZOFFSETTO:-0500
TZNAME:EST
DTSTART:20251102T060000
END:STANDARD
BEGIN:DAYLIGHT
TZOFFSETFROM:-0500
TZOFFSETTO:-0400
TZNAME:EDT
DTSTART:20260308T070000
END:DAYLIGHT
BEGIN:STANDARD
TZOFFSETFROM:-0400
TZOFFSETTO:-0500
TZNAME:EST
DTSTART:20261101T060000
END:STANDARD
BEGIN:DAYLIGHT
TZOFFSETFROM:-0500
TZOFFSETTO:-0400
TZNAME:EDT
DTSTART:20270314T070000
END:DAYLIGHT
BEGIN:STANDARD
TZOFFSETFROM:-0400
TZOFFSETTO:-0500
TZNAME:EST
DTSTART:20271107T060000
END:STANDARD
END:VTIMEZONE
BEGIN:VEVENT
DTSTART;TZID=America/New_York:20260518T073000
DTEND;TZID=America/New_York:20260518T080000
DTSTAMP:20260423T103547
CREATED:20230906T134447Z
LAST-MODIFIED:20250520T183648Z
UID:10006619-1779089400-1779091200@cathedralofhope.org
SUMMARY:Contemplative Prayer
DESCRIPTION:Contemplation has been described as a long-loving look at the real. Contemplation is about waking up\, listening\, noticing\, and paying attention. In the words of Adele Calhoun\, “A contemplative person recognizes that every experience offers more than meets the eye. They know that ‘bidden or unbidden’ God is present.” \nThis takes practice. \nJoin the Rev. BJ Woodworth for a time to practice a variety of contemplative prayer practices\, utilizing fixed prayers\, scripture\, music\, silence\, art\, and our bodies to help us start our day in communion with God and one another. \nClick the button below at the scheduled time to join via Zoom or call in by dialing 312.626.6799 and entering meeting ID\, 959 8065 3992. \n\nPasscode: bestill\n\nDial-in Passcode: 6787603\nJOIN VIA ZOOM
URL:https://cathedralofhope.org/event/contemplative-prayer/2026-05-18/
LOCATION:ELPC – Online\, 116 South Highland Avenue\, Pittsburgh\, PA\, 15206\, United States
CATEGORIES:Church Life,Educational & Spiritual Life
ORGANIZER;CN="Rev. BJ Woodworth":MAILTO:BJW@coh.net
END:VEVENT
BEGIN:VEVENT
DTSTART;TZID=America/New_York:20260518T180000
DTEND;TZID=America/New_York:20260518T193000
DTSTAMP:20260423T103547
CREATED:20260409T203016Z
LAST-MODIFIED:20260409T203016Z
UID:10007393-1779127200-1779132600@cathedralofhope.org
SUMMARY:Young Adult Happy Hour
DESCRIPTION:Join other young adults from East Liberty Presbyterian Church at our monthly Happy Hour on Monday\, May 18  Susan Wadsworth Booth and Doug Booth in Wilkinsburg. We will enjoy conversation\, appetizers\, and drinks (both alcoholic and non-alcoholic drinks available) on the Third Monday of every month from 6:00-7:30pm. \nELPC’s Young Adult Ministry welcomes all adults post-high school through their 20s and 30s. \nReach out to Sara Hackett at SaraH@coh.net if you have any questions including about allergies\, accessibility or transportation. \nRSVP online to receive exact address and details
URL:https://cathedralofhope.org/event/young-adult-happy-hour-2/
LOCATION:PA
CATEGORIES:Young Adult
ATTACH;FMTTYPE=image/png:https://cathedralofhope.org/wp-content/uploads/2025/08/Copy-of-Happy-e1756410201895.png
END:VEVENT
END:VCALENDAR