BEGIN:VCALENDAR
VERSION:2.0
PRODID:-//East Liberty Presbyterian Church - ECPv6.15.20//NONSGML v1.0//EN
CALSCALE:GREGORIAN
METHOD:PUBLISH
X-ORIGINAL-URL:https://cathedralofhope.org
X-WR-CALDESC:Events for East Liberty Presbyterian Church
REFRESH-INTERVAL;VALUE=DURATION:PT1H
X-Robots-Tag:noindex
X-PUBLISHED-TTL:PT1H
BEGIN:VTIMEZONE
TZID:America/New_York
BEGIN:DAYLIGHT
TZOFFSETFROM:-0500
TZOFFSETTO:-0400
TZNAME:EDT
DTSTART:20250309T070000
END:DAYLIGHT
BEGIN:STANDARD
TZOFFSETFROM:-0400
TZOFFSETTO:-0500
TZNAME:EST
DTSTART:20251102T060000
END:STANDARD
BEGIN:DAYLIGHT
TZOFFSETFROM:-0500
TZOFFSETTO:-0400
TZNAME:EDT
DTSTART:20260308T070000
END:DAYLIGHT
BEGIN:STANDARD
TZOFFSETFROM:-0400
TZOFFSETTO:-0500
TZNAME:EST
DTSTART:20261101T060000
END:STANDARD
BEGIN:DAYLIGHT
TZOFFSETFROM:-0500
TZOFFSETTO:-0400
TZNAME:EDT
DTSTART:20270314T070000
END:DAYLIGHT
BEGIN:STANDARD
TZOFFSETFROM:-0400
TZOFFSETTO:-0500
TZNAME:EST
DTSTART:20271107T060000
END:STANDARD
END:VTIMEZONE
BEGIN:VTIMEZONE
TZID:America/Halifax
BEGIN:DAYLIGHT
TZOFFSETFROM:-0400
TZOFFSETTO:-0300
TZNAME:ADT
DTSTART:20250309T060000
END:DAYLIGHT
BEGIN:STANDARD
TZOFFSETFROM:-0300
TZOFFSETTO:-0400
TZNAME:AST
DTSTART:20251102T050000
END:STANDARD
BEGIN:DAYLIGHT
TZOFFSETFROM:-0400
TZOFFSETTO:-0300
TZNAME:ADT
DTSTART:20260308T060000
END:DAYLIGHT
BEGIN:STANDARD
TZOFFSETFROM:-0300
TZOFFSETTO:-0400
TZNAME:AST
DTSTART:20261101T050000
END:STANDARD
BEGIN:DAYLIGHT
TZOFFSETFROM:-0400
TZOFFSETTO:-0300
TZNAME:ADT
DTSTART:20270314T060000
END:DAYLIGHT
BEGIN:STANDARD
TZOFFSETFROM:-0300
TZOFFSETTO:-0400
TZNAME:AST
DTSTART:20271107T050000
END:STANDARD
END:VTIMEZONE
BEGIN:VEVENT
DTSTART;TZID=America/New_York:20260909T180000
DTEND;TZID=America/New_York:20260909T190000
DTSTAMP:20260423T172923
CREATED:20221115T004955Z
LAST-MODIFIED:20251219T201431Z
UID:10005962-1788976800-1788980400@cathedralofhope.org
SUMMARY:Cathedral Yoga
DESCRIPTION:Yamuna Morgenstern offers Cathedral Yoga class on Wednesdays\, 6–7 pm! Join her and others in the ELPC Sanctuary or your own home via Zoom (password: Yamuna) as she guides you through gentle poses. No yoga experience is necessary to enjoy the class\, which Yamuna continues to offer with joy\, light\, and her uplifting playlists and spirit. Have a strap\, scarf\, or belt handy and experience time to heal your body\, mind\, and spirit. \nCommune with the Divine through breath\, gentle stretches\, mindful music\, and guided meditation. See you on the mat! Om shanti and Namaste. \nA donation from the heart\, to the church\, is very much appreciated. \nJoin via Zoom
URL:https://cathedralofhope.org/event/cathedral-yoga/2026-09-09/
LOCATION:ELPC – Sanctuary\, 116 South Highland Avenue\, Pittsburgh\, PA\, 15206\, United States
CATEGORIES:Church Life,Educational & Spiritual Life,Health
ATTACH;FMTTYPE=image/jpeg:https://cathedralofhope.org/wp-content/uploads/2015/09/img_cathedral-yoga.jpg
GEO:40.461033;-79.925503
X-APPLE-STRUCTURED-LOCATION;VALUE=URI;X-ADDRESS=ELPC – Sanctuary 116 South Highland Avenue Pittsburgh PA 15206 United States;X-APPLE-RADIUS=500;X-TITLE=116 South Highland Avenue:geo:-79.925503,40.461033
END:VEVENT
BEGIN:VEVENT
DTSTART;TZID=America/Halifax:20260909T190000
DTEND;TZID=America/Halifax:20260909T200000
DTSTAMP:20260423T172923
CREATED:20190425T161656Z
LAST-MODIFIED:20260325T174045Z
UID:10004583-1788980400-1788984000@cathedralofhope.org
SUMMARY:Taizé Prayer Service
DESCRIPTION:ELPC offers evening prayers with chants from Taizé every Wednesday\, 7 pm\, in the Chapel. The hour-long service includes sung prayers\, beautiful music\, a time of silence\, spoken and silent prayers\, and opportunities for individual prayer and anointing. For more information\, view our Taizé page. \nDownload this week’s bulletin. \n\nAbout ELPC’s Taizé Prayer Service\nOur Taizé prayer service is based on a style of worship developed at the Taizé community in France founded in the 1940s by the late Brother Roger. Originally a refuge during the war\, Taizé has developed into an ecumenical prayer center for visitors from all over the world. Today\, the Taizé community is made up of over a hundred resident brothers\, both Catholics and from various Protestant backgrounds/traditions. Taizé wants to be a sign of reconciliation between divided Christians and between separated peoples.
URL:https://cathedralofhope.org/event/weekly-taize-service/2026-09-09/
LOCATION:ELPC – Chapel\, 116 South Highland Avenue\, Pittsburgh\, PA\, 15206\, United States
CATEGORIES:Worship Services
ATTACH;FMTTYPE=image/jpeg:https://cathedralofhope.org/wp-content/uploads/2014/05/taize15.jpg
GEO:40.461033;-79.925503
X-APPLE-STRUCTURED-LOCATION;VALUE=URI;X-ADDRESS=ELPC – Chapel 116 South Highland Avenue Pittsburgh PA 15206 United States;X-APPLE-RADIUS=500;X-TITLE=116 South Highland Avenue:geo:-79.925503,40.461033
END:VEVENT
END:VCALENDAR