BEGIN:VCALENDAR
VERSION:2.0
PRODID:-//East Liberty Presbyterian Church - ECPv6.15.20//NONSGML v1.0//EN
CALSCALE:GREGORIAN
METHOD:PUBLISH
X-WR-CALNAME:East Liberty Presbyterian Church
X-ORIGINAL-URL:https://cathedralofhope.org
X-WR-CALDESC:Events for East Liberty Presbyterian Church
REFRESH-INTERVAL;VALUE=DURATION:PT1H
X-Robots-Tag:noindex
X-PUBLISHED-TTL:PT1H
BEGIN:VTIMEZONE
TZID:America/New_York
BEGIN:DAYLIGHT
TZOFFSETFROM:-0500
TZOFFSETTO:-0400
TZNAME:EDT
DTSTART:20230312T070000
END:DAYLIGHT
BEGIN:STANDARD
TZOFFSETFROM:-0400
TZOFFSETTO:-0500
TZNAME:EST
DTSTART:20231105T060000
END:STANDARD
BEGIN:DAYLIGHT
TZOFFSETFROM:-0500
TZOFFSETTO:-0400
TZNAME:EDT
DTSTART:20240310T070000
END:DAYLIGHT
BEGIN:STANDARD
TZOFFSETFROM:-0400
TZOFFSETTO:-0500
TZNAME:EST
DTSTART:20241103T060000
END:STANDARD
BEGIN:DAYLIGHT
TZOFFSETFROM:-0500
TZOFFSETTO:-0400
TZNAME:EDT
DTSTART:20250309T070000
END:DAYLIGHT
BEGIN:STANDARD
TZOFFSETFROM:-0400
TZOFFSETTO:-0500
TZNAME:EST
DTSTART:20251102T060000
END:STANDARD
END:VTIMEZONE
BEGIN:VEVENT
DTSTART;TZID=America/New_York:20241213T193000
DTEND;TZID=America/New_York:20241213T210000
DTSTAMP:20260424T223149
CREATED:20241113T152240Z
LAST-MODIFIED:20241213T123740Z
UID:10006849-1734118200-1734123600@cathedralofhope.org
SUMMARY:Christmas in East Liberty 2024
DESCRIPTION:An East Liberty Holiday Tradition!  Friday\, December 13\, 7:30 pm. \nFeaturing The Brass Roots with conductor Daniel Nesta Curtis\, the ELPC Chancel Choir\, Dr. Edward Alan Moore\, organist/music director\, and Ethan LaPlaca\, organist \nJim Cunningham from WQED returns to narrate ‘Twas the Night Before Christmas! \nLIVE in the Sanctuary at 7:30 PM and streaming on theELPC YouTube Channel – https://www.youtube.com/EastLibertyPresbyterianChurchELPC Facebook Page – https://www.facebook.com/EastLibertyPresbyterian \nA freewill offering will be received. http://tiny.cc/elpcdonate \n\nPROGRAM \nDownload Program \n  \nHark! The Herald Angels Singarr. David Willcocks \nE’en So\, Lord Jesus\, Quickly ComePaul Manz \nO Magnum MysteriumMorten Lauridsen \n‘Twas The Night Before ChristmasAnthony DiLorenzoText by Clement Clarke MooreJim Cunningham\, narrator \nWhere Shepherds Lately KneltCarl Schalk \nTwelve Days of ChristmasTraditionalarr. Bill Holcombe \nJoy To The WorldGeorge Frideric Handelarr. Anthony DiLorenzo \nIntermission \nJoy to the World-CarillonMary Beth Bennett \nBaltazar (A King’s Journey)Anthony DiLorenzo \nRudolph The Red-Nosed ReindeerMichael Brownarr. Rana Jurjus \nHave Yourself A Merry Little ChristmasHugh Martinarr. Rana Jurjus \nThis ChristmasDonny Hathaway and Nadine Theresa McKinnorarr. David Gardner \nCarol of the BellsMykola LeontovychLyrics: Peter J. Wilhousky \nCarol FantasiaMary Beth Bennett \nWe Wish You a Merry ChristmasTraditionalarr. David Gardner \nWatch Live on YouTube \n  \nContact Dr. Ed Moore for more details.
URL:https://cathedralofhope.org/event/christmas-in-east-liberty/
LOCATION:ELPC – Sanctuary\, 116 South Highland Avenue\, Pittsburgh\, PA\, 15206\, United States
CATEGORIES:Cathedral Concerts,Community,Concerts,Featured Events,Music
ATTACH;FMTTYPE=image/jpeg:https://cathedralofhope.org/wp-content/uploads/2018/09/Christmas-in-East-Liberty-Event-Cover.jpg
ORGANIZER;CN="Dr. Ed Moore":MAILTO:EdM@coh.net
GEO:40.461033;-79.925503
X-APPLE-STRUCTURED-LOCATION;VALUE=URI;X-ADDRESS=ELPC – Sanctuary 116 South Highland Avenue Pittsburgh PA 15206 United States;X-APPLE-RADIUS=500;X-TITLE=116 South Highland Avenue:geo:-79.925503,40.461033
END:VEVENT
END:VCALENDAR