BEGIN:VCALENDAR
VERSION:2.0
PRODID:-//East Liberty Presbyterian Church - ECPv6.15.20//NONSGML v1.0//EN
CALSCALE:GREGORIAN
METHOD:PUBLISH
X-ORIGINAL-URL:https://cathedralofhope.org
X-WR-CALDESC:Events for East Liberty Presbyterian Church
REFRESH-INTERVAL;VALUE=DURATION:PT1H
X-Robots-Tag:noindex
X-PUBLISHED-TTL:PT1H
BEGIN:VTIMEZONE
TZID:America/New_York
BEGIN:DAYLIGHT
TZOFFSETFROM:-0500
TZOFFSETTO:-0400
TZNAME:EDT
DTSTART:20230312T070000
END:DAYLIGHT
BEGIN:STANDARD
TZOFFSETFROM:-0400
TZOFFSETTO:-0500
TZNAME:EST
DTSTART:20231105T060000
END:STANDARD
BEGIN:DAYLIGHT
TZOFFSETFROM:-0500
TZOFFSETTO:-0400
TZNAME:EDT
DTSTART:20240310T070000
END:DAYLIGHT
BEGIN:STANDARD
TZOFFSETFROM:-0400
TZOFFSETTO:-0500
TZNAME:EST
DTSTART:20241103T060000
END:STANDARD
BEGIN:DAYLIGHT
TZOFFSETFROM:-0500
TZOFFSETTO:-0400
TZNAME:EDT
DTSTART:20250309T070000
END:DAYLIGHT
BEGIN:STANDARD
TZOFFSETFROM:-0400
TZOFFSETTO:-0500
TZNAME:EST
DTSTART:20251102T060000
END:STANDARD
END:VTIMEZONE
BEGIN:VEVENT
DTSTART;TZID=America/New_York:20240929T150000
DTEND;TZID=America/New_York:20240929T163000
DTSTAMP:20260425T122235
CREATED:20240918T185720Z
LAST-MODIFIED:20240928T172320Z
UID:10003562-1727622000-1727627400@cathedralofhope.org
SUMMARY:Cathedral Concerts | Back to Broadway
DESCRIPTION:Our 14th season of Cathedral Concerts kicks off on Sunday\, September 29\, 3 pm\, with Back to Broadway. Join us in the Sanctuary for an afternoon of show tunes from past and present\, featuring ELPC’s own section leaders. The concert will also be streamed on YouTube and Facebook. \nA freewill offering will be accepted. \n\nClick here to view the program. \n\nDr. Ed Moore will be at the piano along with singers Adrianna Cleveland\, Todd Farwell\, Delana Flowers\, Tessa Morris\, Gail Mosites\, Denise Sheffey-Powell\, Logan Williams\, and Andrew Wilkinson.
URL:https://cathedralofhope.org/event/cathedral-concerts-back-to-broadway/
LOCATION:ELPC – Sanctuary\, 116 South Highland Avenue\, Pittsburgh\, PA\, 15206\, United States
CATEGORIES:Cathedral Concerts,Concerts,Featured Events,Music,Special Events
ATTACH;FMTTYPE=image/png:https://cathedralofhope.org/wp-content/uploads/2024/09/Back-to-Broadway.png
ORGANIZER;CN="Dr. Ed Moore":MAILTO:EdM@coh.net
GEO:40.461033;-79.925503
X-APPLE-STRUCTURED-LOCATION;VALUE=URI;X-ADDRESS=ELPC – Sanctuary 116 South Highland Avenue Pittsburgh PA 15206 United States;X-APPLE-RADIUS=500;X-TITLE=116 South Highland Avenue:geo:-79.925503,40.461033
END:VEVENT
END:VCALENDAR