BEGIN:VCALENDAR
VERSION:2.0
PRODID:-//East Liberty Presbyterian Church - ECPv6.15.20//NONSGML v1.0//EN
CALSCALE:GREGORIAN
METHOD:PUBLISH
X-WR-CALNAME:East Liberty Presbyterian Church
X-ORIGINAL-URL:https://cathedralofhope.org
X-WR-CALDESC:Events for East Liberty Presbyterian Church
REFRESH-INTERVAL;VALUE=DURATION:PT1H
X-Robots-Tag:noindex
X-PUBLISHED-TTL:PT1H
BEGIN:VTIMEZONE
TZID:America/Halifax
BEGIN:DAYLIGHT
TZOFFSETFROM:-0400
TZOFFSETTO:-0300
TZNAME:ADT
DTSTART:20230312T060000
END:DAYLIGHT
BEGIN:STANDARD
TZOFFSETFROM:-0300
TZOFFSETTO:-0400
TZNAME:AST
DTSTART:20231105T050000
END:STANDARD
BEGIN:DAYLIGHT
TZOFFSETFROM:-0400
TZOFFSETTO:-0300
TZNAME:ADT
DTSTART:20240310T060000
END:DAYLIGHT
BEGIN:STANDARD
TZOFFSETFROM:-0300
TZOFFSETTO:-0400
TZNAME:AST
DTSTART:20241103T050000
END:STANDARD
BEGIN:DAYLIGHT
TZOFFSETFROM:-0400
TZOFFSETTO:-0300
TZNAME:ADT
DTSTART:20250309T060000
END:DAYLIGHT
BEGIN:STANDARD
TZOFFSETFROM:-0300
TZOFFSETTO:-0400
TZNAME:AST
DTSTART:20251102T050000
END:STANDARD
END:VTIMEZONE
BEGIN:VEVENT
DTSTART;TZID=America/Halifax:20240501T163000
DTEND;TZID=America/Halifax:20240501T183000
DTSTAMP:20260425T205403
CREATED:20220829T134504Z
LAST-MODIFIED:20240829T191505Z
UID:10004896-1714581000-1714588200@cathedralofhope.org
SUMMARY:Club 116
DESCRIPTION:Youth in grades 1–12 are welcome to attend an evening of fellowship\, study\, and worship. Programming includes homework help\, open gym\, educational workshops\, dinner\, and Bible study each week. \nParticipation requires a completed 2024–2025 Enrollment Form. \nSCHEDULE:\n3:30 pm: Gathering time\, homework help\, and open gym\n4:30 pm: Opening worship and welcome\n5:00 pm: Dinner\n5:30 pm: Bible study\, gym\, and crafts\n7:30 pm: Dismissal \nWeather reminder\nClub One Sixteen follows the City of Pittsburgh school closings\, so if Pittsburgh schools are closed due to inclement weather\, Club 116 also will be closed.
URL:https://cathedralofhope.org/event/club-one-sixteen/2024-05-01/
LOCATION:East Liberty Presbyterian Church\, 116 S. Highland Avenue\, Pittsburgh\, PA\, 15206\, United States
CATEGORIES:Children & Youth,Church Life
ATTACH;FMTTYPE=image/png:https://cathedralofhope.org/wp-content/uploads/2016/09/club-116-photos.png
ORGANIZER;CN="Sara Hackett":MAILTO:SaraH@coh.net
GEO:40.4609708;-79.9253554
X-APPLE-STRUCTURED-LOCATION;VALUE=URI;X-ADDRESS=East Liberty Presbyterian Church 116 S. Highland Avenue Pittsburgh PA 15206 United States;X-APPLE-RADIUS=500;X-TITLE=116 S. Highland Avenue:geo:-79.9253554,40.4609708
END:VEVENT
BEGIN:VEVENT
DTSTART;TZID=America/Halifax:20240505T094500
DTEND;TZID=America/Halifax:20240505T104500
DTSTAMP:20260425T205403
CREATED:20170901T130547Z
LAST-MODIFIED:20240429T133050Z
UID:10003750-1714902300-1714905900@cathedralofhope.org
SUMMARY:NO Sunday Church School
DESCRIPTION:As a reminder\, there will be no services or Church School classes at ELPC on Sunday\, May 5\, due to the route of the Pittsburgh Marathon. We hope to see you at our All-Church Retreat\, Friday–Sunday\, May 3–5\, at Lutherlyn Camp in Prospect\, Pennsylvania! Our regular schedule resumes next Sunday\, May 12. \n\nThe ELPC Christian Education (CE) Committee offers Church School classes and events for all ages—from infants to adults. CE is the life-long process of learning and living in relationship to God\, our neighbors\, and ourselves. Church School classes meet on Sundays\, 9:45–10:45 am\, from early September through early June\, unless otherwise noted. \nThrough the study of scripture and the practice of prayer\, we begin to understand our life experiences as they relate to the life\, death\, and resurrection of Jesus Christ. Come and join us! Your questions\, insights\, doubts\, and concerns are welcome. \nClick here to see details for this week’s worship and Church School offerings.
URL:https://cathedralofhope.org/event/church-school-2024-05-05/
LOCATION:East Liberty Presbyterian Church\, 116 S. Highland Avenue\, Pittsburgh\, PA\, 15206\, United States
CATEGORIES:Children & Youth,Church Life,Educational & Spiritual Life
ATTACH;FMTTYPE=image/png:https://cathedralofhope.org/wp-content/uploads/2015/09/sunday-school.png
GEO:40.4609708;-79.9253554
X-APPLE-STRUCTURED-LOCATION;VALUE=URI;X-ADDRESS=East Liberty Presbyterian Church 116 S. Highland Avenue Pittsburgh PA 15206 United States;X-APPLE-RADIUS=500;X-TITLE=116 S. Highland Avenue:geo:-79.9253554,40.4609708
END:VEVENT
BEGIN:VEVENT
DTSTART;TZID=America/Halifax:20240508T163000
DTEND;TZID=America/Halifax:20240508T183000
DTSTAMP:20260425T205403
CREATED:20220829T134504Z
LAST-MODIFIED:20240829T191505Z
UID:10004897-1715185800-1715193000@cathedralofhope.org
SUMMARY:Club 116
DESCRIPTION:Youth in grades 1–12 are welcome to attend an evening of fellowship\, study\, and worship. Programming includes homework help\, open gym\, educational workshops\, dinner\, and Bible study each week. \nParticipation requires a completed 2024–2025 Enrollment Form. \nSCHEDULE:\n3:30 pm: Gathering time\, homework help\, and open gym\n4:30 pm: Opening worship and welcome\n5:00 pm: Dinner\n5:30 pm: Bible study\, gym\, and crafts\n7:30 pm: Dismissal \nWeather reminder\nClub One Sixteen follows the City of Pittsburgh school closings\, so if Pittsburgh schools are closed due to inclement weather\, Club 116 also will be closed.
URL:https://cathedralofhope.org/event/club-one-sixteen/2024-05-08/
LOCATION:East Liberty Presbyterian Church\, 116 S. Highland Avenue\, Pittsburgh\, PA\, 15206\, United States
CATEGORIES:Children & Youth,Church Life
ATTACH;FMTTYPE=image/png:https://cathedralofhope.org/wp-content/uploads/2016/09/club-116-photos.png
ORGANIZER;CN="Sara Hackett":MAILTO:SaraH@coh.net
GEO:40.4609708;-79.9253554
X-APPLE-STRUCTURED-LOCATION;VALUE=URI;X-ADDRESS=East Liberty Presbyterian Church 116 S. Highland Avenue Pittsburgh PA 15206 United States;X-APPLE-RADIUS=500;X-TITLE=116 S. Highland Avenue:geo:-79.9253554,40.4609708
END:VEVENT
END:VCALENDAR