BEGIN:VCALENDAR
VERSION:2.0
PRODID:-//East Liberty Presbyterian Church - ECPv6.15.20//NONSGML v1.0//EN
CALSCALE:GREGORIAN
METHOD:PUBLISH
X-ORIGINAL-URL:https://cathedralofhope.org
X-WR-CALDESC:Events for East Liberty Presbyterian Church
REFRESH-INTERVAL;VALUE=DURATION:PT1H
X-Robots-Tag:noindex
X-PUBLISHED-TTL:PT1H
BEGIN:VTIMEZONE
TZID:America/New_York
BEGIN:DAYLIGHT
TZOFFSETFROM:-0500
TZOFFSETTO:-0400
TZNAME:EDT
DTSTART:20230312T070000
END:DAYLIGHT
BEGIN:STANDARD
TZOFFSETFROM:-0400
TZOFFSETTO:-0500
TZNAME:EST
DTSTART:20231105T060000
END:STANDARD
BEGIN:DAYLIGHT
TZOFFSETFROM:-0500
TZOFFSETTO:-0400
TZNAME:EDT
DTSTART:20240310T070000
END:DAYLIGHT
BEGIN:STANDARD
TZOFFSETFROM:-0400
TZOFFSETTO:-0500
TZNAME:EST
DTSTART:20241103T060000
END:STANDARD
BEGIN:DAYLIGHT
TZOFFSETFROM:-0500
TZOFFSETTO:-0400
TZNAME:EDT
DTSTART:20250309T070000
END:DAYLIGHT
BEGIN:STANDARD
TZOFFSETFROM:-0400
TZOFFSETTO:-0500
TZNAME:EST
DTSTART:20251102T060000
END:STANDARD
END:VTIMEZONE
BEGIN:VEVENT
DTSTART;VALUE=DATE:20240804
DTEND;VALUE=DATE:20240810
DTSTAMP:20260425T121224
CREATED:20240319T165008Z
LAST-MODIFIED:20240319T165159Z
UID:10006782-1722729600-1723247999@cathedralofhope.org
SUMMARY:Washington\, DC Youth Mission Trip/Pilgrimage
DESCRIPTION:Students who have finished 7th-12th grade are going to Washington DC to stay at the Friends Place\, a Quaker guest house and learning center just blocks from the nation’s Capitol.  Friends Place offers opportunities for experiential education and civic engagement programs with a focus on how people-power creates justice\, peace\, a healthy planet\, and a stronger democracy. We will also be visiting museums and monuments\, the Presbyterian Office of Public Witness\, and serving alongside agencies working for food justice in DC.    The cost for the week is $450 dollars and scholarships are available.
URL:https://cathedralofhope.org/event/wooster-mission-trip/
LOCATION:PA
CATEGORIES:Children & Youth
ATTACH;FMTTYPE=image/jpeg:https://cathedralofhope.org/wp-content/uploads/2023/02/38db9a0b-ff05-447c-9bd7-98e37a56c53e.jpg
END:VEVENT
END:VCALENDAR