BEGIN:VCALENDAR
VERSION:2.0
PRODID:-//East Liberty Presbyterian Church - ECPv6.15.20//NONSGML v1.0//EN
CALSCALE:GREGORIAN
METHOD:PUBLISH
X-ORIGINAL-URL:https://cathedralofhope.org
X-WR-CALDESC:Events for East Liberty Presbyterian Church
REFRESH-INTERVAL;VALUE=DURATION:PT1H
X-Robots-Tag:noindex
X-PUBLISHED-TTL:PT1H
BEGIN:VTIMEZONE
TZID:America/New_York
BEGIN:DAYLIGHT
TZOFFSETFROM:-0500
TZOFFSETTO:-0400
TZNAME:EDT
DTSTART:20230312T070000
END:DAYLIGHT
BEGIN:STANDARD
TZOFFSETFROM:-0400
TZOFFSETTO:-0500
TZNAME:EST
DTSTART:20231105T060000
END:STANDARD
BEGIN:DAYLIGHT
TZOFFSETFROM:-0500
TZOFFSETTO:-0400
TZNAME:EDT
DTSTART:20240310T070000
END:DAYLIGHT
BEGIN:STANDARD
TZOFFSETFROM:-0400
TZOFFSETTO:-0500
TZNAME:EST
DTSTART:20241103T060000
END:STANDARD
BEGIN:DAYLIGHT
TZOFFSETFROM:-0500
TZOFFSETTO:-0400
TZNAME:EDT
DTSTART:20250309T070000
END:DAYLIGHT
BEGIN:STANDARD
TZOFFSETFROM:-0400
TZOFFSETTO:-0500
TZNAME:EST
DTSTART:20251102T060000
END:STANDARD
END:VTIMEZONE
BEGIN:VTIMEZONE
TZID:America/Halifax
BEGIN:DAYLIGHT
TZOFFSETFROM:-0400
TZOFFSETTO:-0300
TZNAME:ADT
DTSTART:20230312T060000
END:DAYLIGHT
BEGIN:STANDARD
TZOFFSETFROM:-0300
TZOFFSETTO:-0400
TZNAME:AST
DTSTART:20231105T050000
END:STANDARD
BEGIN:DAYLIGHT
TZOFFSETFROM:-0400
TZOFFSETTO:-0300
TZNAME:ADT
DTSTART:20240310T060000
END:DAYLIGHT
BEGIN:STANDARD
TZOFFSETFROM:-0300
TZOFFSETTO:-0400
TZNAME:AST
DTSTART:20241103T050000
END:STANDARD
BEGIN:DAYLIGHT
TZOFFSETFROM:-0400
TZOFFSETTO:-0300
TZNAME:ADT
DTSTART:20250309T060000
END:DAYLIGHT
BEGIN:STANDARD
TZOFFSETFROM:-0300
TZOFFSETTO:-0400
TZNAME:AST
DTSTART:20251102T050000
END:STANDARD
END:VTIMEZONE
BEGIN:VEVENT
DTSTART;TZID=America/New_York:20241204T163000
DTEND;TZID=America/New_York:20241204T183000
DTSTAMP:20260424T210727
CREATED:20240904T203355Z
LAST-MODIFIED:20250116T160532Z
UID:10006374-1733329800-1733337000@cathedralofhope.org
SUMMARY:Club 116
DESCRIPTION:Kids in 1st-6th grade gather for Bible study\, crafts\, games in the gym\, and dinner together. \nRegistration is required and can be completed online.
URL:https://cathedralofhope.org/event/club-116/2024-12-04/
LOCATION:PA
CATEGORIES:Children & Youth
ATTACH;FMTTYPE=image/jpeg:https://cathedralofhope.org/wp-content/uploads/2024/09/club-3.jpg
END:VEVENT
BEGIN:VEVENT
DTSTART;TZID=America/New_York:20241205T163000
DTEND;TZID=America/New_York:20241205T190000
DTSTAMP:20260424T210727
CREATED:20240904T204042Z
LAST-MODIFIED:20241120T164511Z
UID:10006666-1733416200-1733425200@cathedralofhope.org
SUMMARY:no Youth Group tonight
DESCRIPTION:Thursday Nights is Youth Group for 7th-12th grade students.  Together with Sixth Presbyterian church we share dinner\, pray\, play\, and explore faith with the flexibility to do service projects\, ‘field trips’\, and whatever else we dream up!  Register Online. \nTeens in  grade 7th-12th also meet for Breakfast on the first Sunday of the month from 9:45-10:45am and after church one Sunday a month for lunch and programing –  see the full schedule here.
URL:https://cathedralofhope.org/event/youth-group-2024-12-05/
LOCATION:PA
CATEGORIES:Children & Youth
ATTACH;FMTTYPE=image/jpeg:https://cathedralofhope.org/wp-content/uploads/2024/09/teen-3-scaled-e1725479018464.jpg
END:VEVENT
BEGIN:VEVENT
DTSTART;TZID=America/New_York:20241206T173000
DTEND;TZID=America/New_York:20241208T120000
DTSTAMP:20260424T210727
CREATED:20241114T200557Z
LAST-MODIFIED:20241114T200557Z
UID:10007353-1733506200-1733659200@cathedralofhope.org
SUMMARY:Youth Winter Retreat at Crestfield
DESCRIPTION: for 7th-12th grade \nThe winter retreat at Crestfield is with churches from around Pittsburgh and includes energetic worship\, thoughtful small groups\, and lots of camp fun. The cost for the weekend is $125 but ELPC has scholarships for students\, email Sara Hackett for scholarship information.  We will meet at ELPC at 5:30pm on Friday and return to ELPC by noon on Sunday together in the church van.  Here is the Packing List for the weekend. Here is a highlight video from last year’s retreat if you want more of an idea of the games\, meals\, and worship that happens. \nRegister online by Nov 20th here Camper Registration
URL:https://cathedralofhope.org/event/youth-winter-retreat-at-crestfield/
LOCATION:PA
CATEGORIES:Children & Youth
ATTACH;FMTTYPE=image/png:https://cathedralofhope.org/wp-content/uploads/2024/11/winter-youth-retreat.png
END:VEVENT
BEGIN:VEVENT
DTSTART;TZID=America/New_York:20241211T163000
DTEND;TZID=America/New_York:20241211T183000
DTSTAMP:20260424T210727
CREATED:20240904T203355Z
LAST-MODIFIED:20250116T160532Z
UID:10006375-1733934600-1733941800@cathedralofhope.org
SUMMARY:Club 116
DESCRIPTION:Kids in 1st-6th grade gather for Bible study\, crafts\, games in the gym\, and dinner together. \nRegistration is required and can be completed online.
URL:https://cathedralofhope.org/event/club-116/2024-12-11/
LOCATION:PA
CATEGORIES:Children & Youth
ATTACH;FMTTYPE=image/jpeg:https://cathedralofhope.org/wp-content/uploads/2024/09/club-3.jpg
END:VEVENT
BEGIN:VEVENT
DTSTART;TZID=America/New_York:20241212T163000
DTEND;TZID=America/New_York:20241212T190000
DTSTAMP:20260424T210727
CREATED:20240904T204042Z
LAST-MODIFIED:20250116T155650Z
UID:10003414-1734021000-1734030000@cathedralofhope.org
SUMMARY:Youth Group
DESCRIPTION:Thursday Nights is Youth Group for 7th-12th grade students.  Together with Sixth Presbyterian church we share dinner\, pray\, play\, and explore faith with the flexibility to do service projects\, ‘field trips’\, and whatever else we dream up!  Register Online. \nTeens in  grade 7th-12th also meet for Breakfast on the first Sunday of the month from 9:45-10:45am and after church one Sunday a month for lunch and programing –  see the full schedule here.
URL:https://cathedralofhope.org/event/youth-group/2024-12-12/
LOCATION:PA
CATEGORIES:Children & Youth
ATTACH;FMTTYPE=image/jpeg:https://cathedralofhope.org/wp-content/uploads/2024/09/teen-3-scaled-e1725479018464.jpg
END:VEVENT
BEGIN:VEVENT
DTSTART;TZID=America/New_York:20241218T163000
DTEND;TZID=America/New_York:20241218T183000
DTSTAMP:20260424T210727
CREATED:20240904T203355Z
LAST-MODIFIED:20250116T160532Z
UID:10006376-1734539400-1734546600@cathedralofhope.org
SUMMARY:Club 116
DESCRIPTION:Kids in 1st-6th grade gather for Bible study\, crafts\, games in the gym\, and dinner together. \nRegistration is required and can be completed online.
URL:https://cathedralofhope.org/event/club-116/2024-12-18/
LOCATION:PA
CATEGORIES:Children & Youth
ATTACH;FMTTYPE=image/jpeg:https://cathedralofhope.org/wp-content/uploads/2024/09/club-3.jpg
END:VEVENT
BEGIN:VEVENT
DTSTART;TZID=America/New_York:20241219T163000
DTEND;TZID=America/New_York:20241219T190000
DTSTAMP:20260424T210727
CREATED:20240904T204042Z
LAST-MODIFIED:20250116T155650Z
UID:10003415-1734625800-1734634800@cathedralofhope.org
SUMMARY:Youth Group
DESCRIPTION:Thursday Nights is Youth Group for 7th-12th grade students.  Together with Sixth Presbyterian church we share dinner\, pray\, play\, and explore faith with the flexibility to do service projects\, ‘field trips’\, and whatever else we dream up!  Register Online. \nTeens in  grade 7th-12th also meet for Breakfast on the first Sunday of the month from 9:45-10:45am and after church one Sunday a month for lunch and programing –  see the full schedule here.
URL:https://cathedralofhope.org/event/youth-group/2024-12-19/
LOCATION:PA
CATEGORIES:Children & Youth
ATTACH;FMTTYPE=image/jpeg:https://cathedralofhope.org/wp-content/uploads/2024/09/teen-3-scaled-e1725479018464.jpg
END:VEVENT
BEGIN:VEVENT
DTSTART;TZID=America/New_York:20241225T163000
DTEND;TZID=America/New_York:20241225T183000
DTSTAMP:20260424T210727
CREATED:20240904T203355Z
LAST-MODIFIED:20250116T160532Z
UID:10006377-1735144200-1735151400@cathedralofhope.org
SUMMARY:Club 116
DESCRIPTION:Kids in 1st-6th grade gather for Bible study\, crafts\, games in the gym\, and dinner together. \nRegistration is required and can be completed online.
URL:https://cathedralofhope.org/event/club-116/2024-12-25/
LOCATION:PA
CATEGORIES:Children & Youth
ATTACH;FMTTYPE=image/jpeg:https://cathedralofhope.org/wp-content/uploads/2024/09/club-3.jpg
END:VEVENT
BEGIN:VEVENT
DTSTART;TZID=America/New_York:20241226T163000
DTEND;TZID=America/New_York:20241226T190000
DTSTAMP:20260424T210727
CREATED:20240904T204042Z
LAST-MODIFIED:20250116T155650Z
UID:10003416-1735230600-1735239600@cathedralofhope.org
SUMMARY:Youth Group
DESCRIPTION:Thursday Nights is Youth Group for 7th-12th grade students.  Together with Sixth Presbyterian church we share dinner\, pray\, play\, and explore faith with the flexibility to do service projects\, ‘field trips’\, and whatever else we dream up!  Register Online. \nTeens in  grade 7th-12th also meet for Breakfast on the first Sunday of the month from 9:45-10:45am and after church one Sunday a month for lunch and programing –  see the full schedule here.
URL:https://cathedralofhope.org/event/youth-group/2024-12-26/
LOCATION:PA
CATEGORIES:Children & Youth
ATTACH;FMTTYPE=image/jpeg:https://cathedralofhope.org/wp-content/uploads/2024/09/teen-3-scaled-e1725479018464.jpg
END:VEVENT
BEGIN:VEVENT
DTSTART;TZID=America/Halifax:20241229T094500
DTEND;TZID=America/Halifax:20241229T104500
DTSTAMP:20260424T210727
CREATED:20170901T130547Z
LAST-MODIFIED:20241120T163809Z
UID:10003240-1735465500-1735469100@cathedralofhope.org
SUMMARY:no Sunday Church School
DESCRIPTION:There will be no adult or youth Sunday School today.  The nursery will we open and staffed.
URL:https://cathedralofhope.org/event/church-school-2024-12-29/
LOCATION:East Liberty Presbyterian Church\, 116 S. Highland Avenue\, Pittsburgh\, PA\, 15206\, United States
CATEGORIES:Children & Youth,Church Life,Educational & Spiritual Life
ATTACH;FMTTYPE=image/png:https://cathedralofhope.org/wp-content/uploads/2015/09/sunday-school.png
GEO:40.4609708;-79.9253554
X-APPLE-STRUCTURED-LOCATION;VALUE=URI;X-ADDRESS=East Liberty Presbyterian Church 116 S. Highland Avenue Pittsburgh PA 15206 United States;X-APPLE-RADIUS=500;X-TITLE=116 S. Highland Avenue:geo:-79.9253554,40.4609708
END:VEVENT
END:VCALENDAR