BEGIN:VCALENDAR
VERSION:2.0
PRODID:-//East Liberty Presbyterian Church - ECPv6.15.20//NONSGML v1.0//EN
CALSCALE:GREGORIAN
METHOD:PUBLISH
X-WR-CALNAME:East Liberty Presbyterian Church
X-ORIGINAL-URL:https://cathedralofhope.org
X-WR-CALDESC:Events for East Liberty Presbyterian Church
REFRESH-INTERVAL;VALUE=DURATION:PT1H
X-Robots-Tag:noindex
X-PUBLISHED-TTL:PT1H
BEGIN:VTIMEZONE
TZID:America/New_York
BEGIN:DAYLIGHT
TZOFFSETFROM:-0500
TZOFFSETTO:-0400
TZNAME:EDT
DTSTART:20240310T070000
END:DAYLIGHT
BEGIN:STANDARD
TZOFFSETFROM:-0400
TZOFFSETTO:-0500
TZNAME:EST
DTSTART:20241103T060000
END:STANDARD
BEGIN:DAYLIGHT
TZOFFSETFROM:-0500
TZOFFSETTO:-0400
TZNAME:EDT
DTSTART:20250309T070000
END:DAYLIGHT
BEGIN:STANDARD
TZOFFSETFROM:-0400
TZOFFSETTO:-0500
TZNAME:EST
DTSTART:20251102T060000
END:STANDARD
BEGIN:DAYLIGHT
TZOFFSETFROM:-0500
TZOFFSETTO:-0400
TZNAME:EDT
DTSTART:20260308T070000
END:DAYLIGHT
BEGIN:STANDARD
TZOFFSETFROM:-0400
TZOFFSETTO:-0500
TZNAME:EST
DTSTART:20261101T060000
END:STANDARD
END:VTIMEZONE
BEGIN:VEVENT
DTSTART;VALUE=DATE:20250713
DTEND;VALUE=DATE:20250720
DTSTAMP:20260424T002507
CREATED:20250207T214118Z
LAST-MODIFIED:20250214T212754Z
UID:10002316-1752364800-1752969599@cathedralofhope.org
SUMMARY:Youth at TYC
DESCRIPTION:Trinity Youth Conference (TYC) is happening July 13-19\, 2025 \nTYC is a regional Presbyterian leadership conference for youth who have completed grade 9 through college-age students\, in Shellsburg\, Pennsylvania. The week consists of meaningful workshops\, camp games\, relevant worship\, and refreshingly honest small groups; and is planned and led by a youth planning team\, \nInformation about cost\, workshops\, registration\, and schedule can be found at TrinityYouthConference.org beginning in March however you can find out more information from Sara Hackett. \n\n  \n 
URL:https://cathedralofhope.org/event/youth-at-tyc-2/
LOCATION:Living Waters Camp\, 300 Camp Living Water Rd\, Schellsburg\, PA\, 15559\, United States
CATEGORIES:Children & Youth
ATTACH;FMTTYPE=image/jpeg:https://cathedralofhope.org/wp-content/uploads/2025/02/ty4.jpg
END:VEVENT
BEGIN:VEVENT
DTSTART;TZID=America/New_York:20250720T080000
DTEND;TZID=America/New_York:20250725T170000
DTSTAMP:20260424T002507
CREATED:20250214T214054Z
LAST-MODIFIED:20250214T214143Z
UID:10006676-1752998400-1753462800@cathedralofhope.org
SUMMARY:Middle School Service Adventure Camp
DESCRIPTION:at Crestfield Camp and Conference Center \n6th-8th graders can attend Service Adventure Camp which combines Crestfield Adventure with local Missions and Service opportunities.  During the day\, campers will be sent out to local non-profits to learn about and assist those agencies.  Back at camp in the late afternoon\, campers can chill at the pool or take a much needed FOB (flat on bunk).  After dinner\, there will be canoeing\, ninja walling\, archery\, Big Friz and more! Youth from multiple churches around Pittsburgh will be working and playing together this week at camp. $400 and scholarships are available. \n   \n  \n  \n  \n  \n  \n  \n 
URL:https://cathedralofhope.org/event/middle-school-service-adventure-camp/
LOCATION:PA
CATEGORIES:Children & Youth
ATTACH;FMTTYPE=image/jpeg:https://cathedralofhope.org/wp-content/uploads/2025/02/crestfield-2024-scaled.jpg
END:VEVENT
BEGIN:VEVENT
DTSTART;TZID=America/New_York:20250728T000000
DTEND;TZID=America/New_York:20250731T000000
DTSTAMP:20260424T002507
CREATED:20250207T212102Z
LAST-MODIFIED:20250207T212233Z
UID:10003608-1753660800-1753920000@cathedralofhope.org
SUMMARY:Presbyterian Youth Triennium
DESCRIPTION:We invite you to join over a 1000 teens from around the world as we worship\, learn\, fellowship\, and play as a hopeful and joyful community of faith at the 2025 Presbyterian Youth Triennium. The experience will be one of those life-shaping faith forming events that you will never forget! It will be As If We Were Dreaming. The conference will be held at the Louisville Convention Center and we will be staying in a local hotel.  Students who have completed 8th-12th grade are invited to attended as part of the Pittsburgh Presbytery delegation and Sara Hackett is one of the delegation adult leaders. This event happens once every three years. Check out 2019’s highlight video.  https://presbyterianyouthtriennium.org/
URL:https://cathedralofhope.org/event/presbyterian-youth-triennium/
LOCATION:PA
CATEGORIES:Children & Youth
ATTACH;FMTTYPE=image/jpeg:https://cathedralofhope.org/wp-content/uploads/2025/02/pyt.jpg
END:VEVENT
END:VCALENDAR