BEGIN:VCALENDAR
VERSION:2.0
PRODID:-//East Liberty Presbyterian Church - ECPv6.15.20//NONSGML v1.0//EN
CALSCALE:GREGORIAN
METHOD:PUBLISH
X-ORIGINAL-URL:https://cathedralofhope.org
X-WR-CALDESC:Events for East Liberty Presbyterian Church
REFRESH-INTERVAL;VALUE=DURATION:PT1H
X-Robots-Tag:noindex
X-PUBLISHED-TTL:PT1H
BEGIN:VTIMEZONE
TZID:America/New_York
BEGIN:DAYLIGHT
TZOFFSETFROM:-0500
TZOFFSETTO:-0400
TZNAME:EDT
DTSTART:20240310T070000
END:DAYLIGHT
BEGIN:STANDARD
TZOFFSETFROM:-0400
TZOFFSETTO:-0500
TZNAME:EST
DTSTART:20241103T060000
END:STANDARD
BEGIN:DAYLIGHT
TZOFFSETFROM:-0500
TZOFFSETTO:-0400
TZNAME:EDT
DTSTART:20250309T070000
END:DAYLIGHT
BEGIN:STANDARD
TZOFFSETFROM:-0400
TZOFFSETTO:-0500
TZNAME:EST
DTSTART:20251102T060000
END:STANDARD
BEGIN:DAYLIGHT
TZOFFSETFROM:-0500
TZOFFSETTO:-0400
TZNAME:EDT
DTSTART:20260308T070000
END:DAYLIGHT
BEGIN:STANDARD
TZOFFSETFROM:-0400
TZOFFSETTO:-0500
TZNAME:EST
DTSTART:20261101T060000
END:STANDARD
END:VTIMEZONE
BEGIN:VEVENT
DTSTART;TZID=America/New_York:20251204T163000
DTEND;TZID=America/New_York:20251204T163000
DTSTAMP:20260423T160631
CREATED:20250813T190210Z
LAST-MODIFIED:20250820T201046Z
UID:10006739-1764865800-1764865800@cathedralofhope.org
SUMMARY:Youth Group
DESCRIPTION:Thursday Nights is Youth Group for 7th-12th grade students.  Together with Sixth Presbyterian church we share dinner\, pray\, play\, and explore faith with the flexibility to do service projects\, ‘field trips’\, and whatever else we dream up!  Register Online. \nTeens in  grade 7th-12th also meet for Sunday School on the first and third Sundays of the month from 9:45-10:45am in the Second Floor Parlor.
URL:https://cathedralofhope.org/event/youth-group-2/2025-12-04/
LOCATION:PA
CATEGORIES:Children & Youth
ATTACH;FMTTYPE=image/jpeg:https://cathedralofhope.org/wp-content/uploads/2024/09/teen-3-scaled-e1725479018464.jpg
END:VEVENT
BEGIN:VEVENT
DTSTART;TZID=America/New_York:20251205T173000
DTEND;TZID=America/New_York:20251207T120000
DTSTAMP:20260423T160631
CREATED:20251017T183959Z
LAST-MODIFIED:20251017T183959Z
UID:10006760-1764955800-1765108800@cathedralofhope.org
SUMMARY:Youth Winter Retreat at Crestfield
DESCRIPTION:for 7th-12th grade \nThe winter retreat at Crestfield is with churches from around Pittsburgh and includes energetic worship\, thoughtful small groups\, and lots of camp fun. The cost for the weekend is $125 but ELPC has scholarships for students which can be requested online.  We will meet at ELPC at 5:30pm on Friday and return to ELPC by noon on Sunday together in the church van. Here is a highlight video from last year’s retreat if you want more of an idea of the games\, meals\, and worship that happens. \nRSVP to Sara Hackett by Nov 13th  \nPayments can be made online by typing in the amount you are paying into the button that currently says 0.00.  Checks can be made out to East Liberty Presbyterian Church – please include ‘Youth Retreat’ in the memo. \nPacking List for the weekend.
URL:https://cathedralofhope.org/event/youth-winter-retreat-at-crestfield-2/
LOCATION:PA
CATEGORIES:Children & Youth
ATTACH;FMTTYPE=image/png:https://cathedralofhope.org/wp-content/uploads/2025/10/winter-retreat-25-1536x1536-1.png
END:VEVENT
BEGIN:VEVENT
DTSTART;TZID=America/New_York:20251207T094500
DTEND;TZID=America/New_York:20251207T094500
DTSTAMP:20260423T160631
CREATED:20250820T164454Z
LAST-MODIFIED:20250820T164454Z
UID:10006677-1765100700-1765100700@cathedralofhope.org
SUMMARY:Youth Sunday School
DESCRIPTION:7th-12th grade teens meet on the first and third Sunday of the month from 9:45-10:45am in the Second Floor Parlor. \nAlso check out Youth Group for 7th -12th graders happening Thursdays from 4:30-7pm with dinner\, games\, conversation\, God talk\, service projects\, and a lot of laughter. Contact Sara Hackett for more information.
URL:https://cathedralofhope.org/event/youth-sunday-school-2/2025-12-07/
LOCATION:PA
CATEGORIES:Children & Youth
ATTACH;FMTTYPE=image/jpeg:https://cathedralofhope.org/wp-content/uploads/2025/08/20250202_103321-scaled-e1755707879820.jpg
END:VEVENT
BEGIN:VEVENT
DTSTART;TZID=America/New_York:20251207T094500
DTEND;TZID=America/New_York:20251207T104500
DTSTAMP:20260423T160631
CREATED:20250116T171029Z
LAST-MODIFIED:20250820T213853Z
UID:10006267-1765100700-1765104300@cathedralofhope.org
SUMMARY:Open Gym for Families
DESCRIPTION:Parents and kids are welcome to hang out\, drink coffee or juice\, eat a donut\, and play in the gym on the first Sunday of every month from 9:45-10:45am.   If you want to meet other parents or just love basketball or scooters – this is for you!  This is also perfect for parents of older teens (7th-12th grade) who have Sunday School breakfast at the same time – the first Sunday of every month at 9:45am. \nKids must be supervised by their adult during open gym times.
URL:https://cathedralofhope.org/event/open-gym-for-families/2025-12-07/
LOCATION:PA
CATEGORIES:Children & Youth
ATTACH;FMTTYPE=image/jpeg:https://cathedralofhope.org/wp-content/uploads/2025/01/coffee-in-gym-scaled-e1737046786660.jpg
END:VEVENT
BEGIN:VEVENT
DTSTART;TZID=America/New_York:20251211T163000
DTEND;TZID=America/New_York:20251211T163000
DTSTAMP:20260423T160631
CREATED:20250813T190210Z
LAST-MODIFIED:20250820T201046Z
UID:10006740-1765470600-1765470600@cathedralofhope.org
SUMMARY:Youth Group
DESCRIPTION:Thursday Nights is Youth Group for 7th-12th grade students.  Together with Sixth Presbyterian church we share dinner\, pray\, play\, and explore faith with the flexibility to do service projects\, ‘field trips’\, and whatever else we dream up!  Register Online. \nTeens in  grade 7th-12th also meet for Sunday School on the first and third Sundays of the month from 9:45-10:45am in the Second Floor Parlor.
URL:https://cathedralofhope.org/event/youth-group-2/2025-12-11/
LOCATION:PA
CATEGORIES:Children & Youth
ATTACH;FMTTYPE=image/jpeg:https://cathedralofhope.org/wp-content/uploads/2024/09/teen-3-scaled-e1725479018464.jpg
END:VEVENT
BEGIN:VEVENT
DTSTART;TZID=America/New_York:20251218T163000
DTEND;TZID=America/New_York:20251218T163000
DTSTAMP:20260423T160631
CREATED:20250813T190210Z
LAST-MODIFIED:20250820T201046Z
UID:10006741-1766075400-1766075400@cathedralofhope.org
SUMMARY:Youth Group
DESCRIPTION:Thursday Nights is Youth Group for 7th-12th grade students.  Together with Sixth Presbyterian church we share dinner\, pray\, play\, and explore faith with the flexibility to do service projects\, ‘field trips’\, and whatever else we dream up!  Register Online. \nTeens in  grade 7th-12th also meet for Sunday School on the first and third Sundays of the month from 9:45-10:45am in the Second Floor Parlor.
URL:https://cathedralofhope.org/event/youth-group-2/2025-12-18/
LOCATION:PA
CATEGORIES:Children & Youth
ATTACH;FMTTYPE=image/jpeg:https://cathedralofhope.org/wp-content/uploads/2024/09/teen-3-scaled-e1725479018464.jpg
END:VEVENT
BEGIN:VEVENT
DTSTART;TZID=America/New_York:20251221T094500
DTEND;TZID=America/New_York:20251221T094500
DTSTAMP:20260423T160631
CREATED:20250820T164454Z
LAST-MODIFIED:20250820T164454Z
UID:10006678-1766310300-1766310300@cathedralofhope.org
SUMMARY:Youth Sunday School
DESCRIPTION:7th-12th grade teens meet on the first and third Sunday of the month from 9:45-10:45am in the Second Floor Parlor. \nAlso check out Youth Group for 7th -12th graders happening Thursdays from 4:30-7pm with dinner\, games\, conversation\, God talk\, service projects\, and a lot of laughter. Contact Sara Hackett for more information.
URL:https://cathedralofhope.org/event/youth-sunday-school-2/2025-12-21/
LOCATION:PA
CATEGORIES:Children & Youth
ATTACH;FMTTYPE=image/jpeg:https://cathedralofhope.org/wp-content/uploads/2025/08/20250202_103321-scaled-e1755707879820.jpg
END:VEVENT
BEGIN:VEVENT
DTSTART;TZID=America/New_York:20251221T120000
DTEND;TZID=America/New_York:20251221T130000
DTSTAMP:20260423T160631
CREATED:20250820T203106Z
LAST-MODIFIED:20250820T211257Z
UID:10006216-1766318400-1766322000@cathedralofhope.org
SUMMARY:Hot Chocolate Reception - for EVERYONE\, including families
DESCRIPTION:EVERYONE is invited to a Hot Chocolate Reception following the Christmas Pageant which **NEW THIS YEAR** is part of our 11 o’clock worship. \nThis is part of our monthly family events hosted by The Children and Families Ministry Team to foster a caring community of families at ELPC\, where kids and adults feel loved and empowered to explore their faith.
URL:https://cathedralofhope.org/event/hot-chocolate-reception-for-everyone-including-families/
LOCATION:PA
CATEGORIES:Children & Youth,Featured Events
ATTACH;FMTTYPE=image/png:https://cathedralofhope.org/wp-content/uploads/2025/08/variety-show-1.png
END:VEVENT
END:VCALENDAR