BEGIN:VCALENDAR
VERSION:2.0
PRODID:-//East Liberty Presbyterian Church - ECPv6.15.20//NONSGML v1.0//EN
CALSCALE:GREGORIAN
METHOD:PUBLISH
X-ORIGINAL-URL:https://cathedralofhope.org
X-WR-CALDESC:Events for East Liberty Presbyterian Church
REFRESH-INTERVAL;VALUE=DURATION:PT1H
X-Robots-Tag:noindex
X-PUBLISHED-TTL:PT1H
BEGIN:VTIMEZONE
TZID:America/New_York
BEGIN:DAYLIGHT
TZOFFSETFROM:-0500
TZOFFSETTO:-0400
TZNAME:EDT
DTSTART:20230312T070000
END:DAYLIGHT
BEGIN:STANDARD
TZOFFSETFROM:-0400
TZOFFSETTO:-0500
TZNAME:EST
DTSTART:20231105T060000
END:STANDARD
BEGIN:DAYLIGHT
TZOFFSETFROM:-0500
TZOFFSETTO:-0400
TZNAME:EDT
DTSTART:20240310T070000
END:DAYLIGHT
BEGIN:STANDARD
TZOFFSETFROM:-0400
TZOFFSETTO:-0500
TZNAME:EST
DTSTART:20241103T060000
END:STANDARD
BEGIN:DAYLIGHT
TZOFFSETFROM:-0500
TZOFFSETTO:-0400
TZNAME:EDT
DTSTART:20250309T070000
END:DAYLIGHT
BEGIN:STANDARD
TZOFFSETFROM:-0400
TZOFFSETTO:-0500
TZNAME:EST
DTSTART:20251102T060000
END:STANDARD
END:VTIMEZONE
BEGIN:VEVENT
DTSTART;TZID=America/New_York:20241010T163000
DTEND;TZID=America/New_York:20241010T190000
DTSTAMP:20260425T070542
CREATED:20240904T204042Z
LAST-MODIFIED:20250116T155650Z
UID:10003408-1728577800-1728586800@cathedralofhope.org
SUMMARY:Youth Group
DESCRIPTION:Thursday Nights is Youth Group for 7th-12th grade students.  Together with Sixth Presbyterian church we share dinner\, pray\, play\, and explore faith with the flexibility to do service projects\, ‘field trips’\, and whatever else we dream up!  Register Online. \nTeens in  grade 7th-12th also meet for Breakfast on the first Sunday of the month from 9:45-10:45am and after church one Sunday a month for lunch and programing –  see the full schedule here.
URL:https://cathedralofhope.org/event/youth-group/2024-10-10/
LOCATION:PA
CATEGORIES:Children & Youth
ATTACH;FMTTYPE=image/jpeg:https://cathedralofhope.org/wp-content/uploads/2024/09/teen-3-scaled-e1725479018464.jpg
END:VEVENT
END:VCALENDAR