BEGIN:VCALENDAR
VERSION:2.0
PRODID:-//East Liberty Presbyterian Church - ECPv6.15.20//NONSGML v1.0//EN
CALSCALE:GREGORIAN
METHOD:PUBLISH
X-ORIGINAL-URL:https://cathedralofhope.org
X-WR-CALDESC:Events for East Liberty Presbyterian Church
REFRESH-INTERVAL;VALUE=DURATION:PT1H
X-Robots-Tag:noindex
X-PUBLISHED-TTL:PT1H
BEGIN:VTIMEZONE
TZID:America/New_York
BEGIN:DAYLIGHT
TZOFFSETFROM:-0500
TZOFFSETTO:-0400
TZNAME:EDT
DTSTART:20240310T070000
END:DAYLIGHT
BEGIN:STANDARD
TZOFFSETFROM:-0400
TZOFFSETTO:-0500
TZNAME:EST
DTSTART:20241103T060000
END:STANDARD
BEGIN:DAYLIGHT
TZOFFSETFROM:-0500
TZOFFSETTO:-0400
TZNAME:EDT
DTSTART:20250309T070000
END:DAYLIGHT
BEGIN:STANDARD
TZOFFSETFROM:-0400
TZOFFSETTO:-0500
TZNAME:EST
DTSTART:20251102T060000
END:STANDARD
BEGIN:DAYLIGHT
TZOFFSETFROM:-0500
TZOFFSETTO:-0400
TZNAME:EDT
DTSTART:20260308T070000
END:DAYLIGHT
BEGIN:STANDARD
TZOFFSETFROM:-0400
TZOFFSETTO:-0500
TZNAME:EST
DTSTART:20261101T060000
END:STANDARD
END:VTIMEZONE
BEGIN:VEVENT
DTSTART;TZID=America/New_York:20250112T123000
DTEND;TZID=America/New_York:20250112T150000
DTSTAMP:20260424T210925
CREATED:20241226T211041Z
LAST-MODIFIED:20241226T211041Z
UID:10006359-1736685000-1736694000@cathedralofhope.org
SUMMARY:Family Bingo & Crafts
DESCRIPTION:Families with children and teens are hosting an afternoon of bingo and crafts at Shadyside Skilled Nursing and Rehabilitation. We’ll eat lunch and coordinate tasks here at ELPC after worship and then head over to Shadyside Nursing to set up and welcome residents from 2–3 pm. \nRSVP to Sara Hackett. \nOur next family event is Dog Treats Baking on Sunday\, February 9.
URL:https://cathedralofhope.org/event/family-bingo-crafts/
LOCATION:PA
CATEGORIES:Children & Youth
ATTACH;FMTTYPE=image/png:https://cathedralofhope.org/wp-content/uploads/2024/12/img_bingo-crafts.png
END:VEVENT
END:VCALENDAR