BEGIN:VCALENDAR
VERSION:2.0
PRODID:-//East Liberty Presbyterian Church - ECPv6.15.20//NONSGML v1.0//EN
CALSCALE:GREGORIAN
METHOD:PUBLISH
X-ORIGINAL-URL:https://cathedralofhope.org
X-WR-CALDESC:Events for East Liberty Presbyterian Church
REFRESH-INTERVAL;VALUE=DURATION:PT1H
X-Robots-Tag:noindex
X-PUBLISHED-TTL:PT1H
BEGIN:VTIMEZONE
TZID:America/Halifax
BEGIN:DAYLIGHT
TZOFFSETFROM:-0400
TZOFFSETTO:-0300
TZNAME:ADT
DTSTART:20240310T060000
END:DAYLIGHT
BEGIN:STANDARD
TZOFFSETFROM:-0300
TZOFFSETTO:-0400
TZNAME:AST
DTSTART:20241103T050000
END:STANDARD
BEGIN:DAYLIGHT
TZOFFSETFROM:-0400
TZOFFSETTO:-0300
TZNAME:ADT
DTSTART:20250309T060000
END:DAYLIGHT
BEGIN:STANDARD
TZOFFSETFROM:-0300
TZOFFSETTO:-0400
TZNAME:AST
DTSTART:20251102T050000
END:STANDARD
BEGIN:DAYLIGHT
TZOFFSETFROM:-0400
TZOFFSETTO:-0300
TZNAME:ADT
DTSTART:20260308T060000
END:DAYLIGHT
BEGIN:STANDARD
TZOFFSETFROM:-0300
TZOFFSETTO:-0400
TZNAME:AST
DTSTART:20261101T050000
END:STANDARD
END:VTIMEZONE
BEGIN:VEVENT
DTSTART;TZID=America/Halifax:20250504T094500
DTEND;TZID=America/Halifax:20250504T104500
DTSTAMP:20260424T043907
CREATED:20170901T130547Z
LAST-MODIFIED:20250501T132842Z
UID:10007365-1746351900-1746355500@cathedralofhope.org
SUMMARY:NO Sunday Church School
DESCRIPTION:As a reminder\, there will be no services or Church School on Sunday\, May 4\, due to the route of the Pittsburgh Marathon. Our regular schedule will resume next Sunday\, May 11. \n\nThe ELPC Christian Education (CE) Committee offers Church School classes and events for all ages—from infants to adults. CE is the life-long process of learning and living in relationship to God\, our neighbors\, and ourselves. Through the study of scripture and the practice of prayer\, we begin to understand our life experiences as they relate to the life\, death\, and resurrection of Jesus Christ. Come and join us! Your questions\, insights\, doubts\, and concerns are welcome. \nAdult Church School\nClasses for adults meet on Sundays\, 9:45–10:45 am\, from September through May\, unless otherwise noted. \nView this Week’s Adult Church School Offerings \n\nYouth Sunday School\nThe Nursery\, for children up to age 3  is staffed from 8:30am-12:30pm on Sunday mornings for children to sing songs\, tell stories\, and play. \nChildren age 4- 3rd grade go to Sunday School: Sacred Stories for Kids after the Moments with our Children in the Sanctuary (11:15am)  and parents pick kids up after worship in room 206. \nTweens in grade 4th-6th go to Sunday School: Sacred Stories for Tweens after the Moments with our Children in the Sanctuary (11:15am) and parents pick kids up after worship in room 207. \nTeens in  grade 7th-12th meet for Breakfast on the first Sunday of the month from 9:45-10:45am.  Teens also meet after church one Sunday a month for lunch and programing – see the full schedule here. \n  \n 
URL:https://cathedralofhope.org/event/church-school-2025-05-04/
LOCATION:East Liberty Presbyterian Church\, 116 S. Highland Avenue\, Pittsburgh\, PA\, 15206\, United States
CATEGORIES:Children & Youth,Church Life,Educational & Spiritual Life
ATTACH;FMTTYPE=image/png:https://cathedralofhope.org/wp-content/uploads/2015/09/sunday-school.png
GEO:40.4609708;-79.9253554
X-APPLE-STRUCTURED-LOCATION;VALUE=URI;X-ADDRESS=East Liberty Presbyterian Church 116 S. Highland Avenue Pittsburgh PA 15206 United States;X-APPLE-RADIUS=500;X-TITLE=116 S. Highland Avenue:geo:-79.9253554,40.4609708
END:VEVENT
END:VCALENDAR