BEGIN:VCALENDAR
VERSION:2.0
PRODID:-//East Liberty Presbyterian Church - ECPv6.15.20//NONSGML v1.0//EN
CALSCALE:GREGORIAN
METHOD:PUBLISH
X-ORIGINAL-URL:https://cathedralofhope.org
X-WR-CALDESC:Events for East Liberty Presbyterian Church
REFRESH-INTERVAL;VALUE=DURATION:PT1H
X-Robots-Tag:noindex
X-PUBLISHED-TTL:PT1H
BEGIN:VTIMEZONE
TZID:America/New_York
BEGIN:DAYLIGHT
TZOFFSETFROM:-0500
TZOFFSETTO:-0400
TZNAME:EDT
DTSTART:20240310T070000
END:DAYLIGHT
BEGIN:STANDARD
TZOFFSETFROM:-0400
TZOFFSETTO:-0500
TZNAME:EST
DTSTART:20241103T060000
END:STANDARD
BEGIN:DAYLIGHT
TZOFFSETFROM:-0500
TZOFFSETTO:-0400
TZNAME:EDT
DTSTART:20250309T070000
END:DAYLIGHT
BEGIN:STANDARD
TZOFFSETFROM:-0400
TZOFFSETTO:-0500
TZNAME:EST
DTSTART:20251102T060000
END:STANDARD
BEGIN:DAYLIGHT
TZOFFSETFROM:-0500
TZOFFSETTO:-0400
TZNAME:EDT
DTSTART:20260308T070000
END:DAYLIGHT
BEGIN:STANDARD
TZOFFSETFROM:-0400
TZOFFSETTO:-0500
TZNAME:EST
DTSTART:20261101T060000
END:STANDARD
END:VTIMEZONE
BEGIN:VEVENT
DTSTART;TZID=America/New_York:20251116T094500
DTEND;TZID=America/New_York:20251116T094500
DTSTAMP:20260423T180417
CREATED:20250820T164230Z
LAST-MODIFIED:20250820T164230Z
UID:10000027-1763286300-1763286300@cathedralofhope.org
SUMMARY:Youth Sunday School
DESCRIPTION:7th-12th grade teens meet on the first and third Sunday of the month from 9:45-10:45am in the Second Floor Parlor. \nAlso check out Youth Group for 7th -12th graders happening Thursdays from 4:30-7pm with dinner\, games\, conversation\, God talk\, service projects\, and a lot of laughter. Contact Sara Hackett for more information.
URL:https://cathedralofhope.org/event/youth-sunday-school/2025-11-16/
LOCATION:PA
CATEGORIES:Children & Youth
ATTACH;FMTTYPE=image/jpeg:https://cathedralofhope.org/wp-content/uploads/2025/08/20250202_103321-scaled-e1755707879820.jpg
END:VEVENT
BEGIN:VEVENT
DTSTART;TZID=America/New_York:20251116T120000
DTEND;TZID=America/New_York:20251116T133000
DTSTAMP:20260423T180417
CREATED:20250820T213049Z
LAST-MODIFIED:20250820T213049Z
UID:10003386-1763294400-1763299800@cathedralofhope.org
SUMMARY:Family Arts and Crafts
DESCRIPTION:Families with children are gathering after worship in the Second Floor Makers’ Space for lunch and to get creative by doing Arts and Crafts together. RSVPs to Sara Hackett appreciated but if you decide that day you can join us … WONDERFUL! \nThe Children and Families Ministry team is hosting monthly family events to foster a caring community of families at ELPC\, where kids and adults feel loved and empowered to explore their faith. \nSave the Date for our Monthly Family Events on the Third Sunday of the month …\nDecember 21 – Hot Chocolate following the Christmas Pageant\nJanuary 18 – Host a Variety Show at the Nursing Home\nFebruary 15 – Make Dog Treats for Ellie’s Pet Pantry\nMarch 15 – Board Games with the Happy Wanderers\nApril 19 – Bowling at ELPC\nMay 17 -Service Projects around the Church
URL:https://cathedralofhope.org/event/family-arts-and-crafts/
LOCATION:PA
CATEGORIES:Children & Youth
ATTACH;FMTTYPE=image/png:https://cathedralofhope.org/wp-content/uploads/2025/08/variety-show-4.png
END:VEVENT
END:VCALENDAR