BEGIN:VCALENDAR
VERSION:2.0
PRODID:-//East Liberty Presbyterian Church - ECPv6.15.20//NONSGML v1.0//EN
CALSCALE:GREGORIAN
METHOD:PUBLISH
X-WR-CALNAME:East Liberty Presbyterian Church
X-ORIGINAL-URL:https://cathedralofhope.org
X-WR-CALDESC:Events for East Liberty Presbyterian Church
REFRESH-INTERVAL;VALUE=DURATION:PT1H
X-Robots-Tag:noindex
X-PUBLISHED-TTL:PT1H
BEGIN:VTIMEZONE
TZID:America/New_York
BEGIN:DAYLIGHT
TZOFFSETFROM:-0500
TZOFFSETTO:-0400
TZNAME:EDT
DTSTART:20240310T070000
END:DAYLIGHT
BEGIN:STANDARD
TZOFFSETFROM:-0400
TZOFFSETTO:-0500
TZNAME:EST
DTSTART:20241103T060000
END:STANDARD
BEGIN:DAYLIGHT
TZOFFSETFROM:-0500
TZOFFSETTO:-0400
TZNAME:EDT
DTSTART:20250309T070000
END:DAYLIGHT
BEGIN:STANDARD
TZOFFSETFROM:-0400
TZOFFSETTO:-0500
TZNAME:EST
DTSTART:20251102T060000
END:STANDARD
BEGIN:DAYLIGHT
TZOFFSETFROM:-0500
TZOFFSETTO:-0400
TZNAME:EDT
DTSTART:20260308T070000
END:DAYLIGHT
BEGIN:STANDARD
TZOFFSETFROM:-0400
TZOFFSETTO:-0500
TZNAME:EST
DTSTART:20261101T060000
END:STANDARD
END:VTIMEZONE
BEGIN:VEVENT
DTSTART;TZID=America/New_York:20251205T173000
DTEND;TZID=America/New_York:20251207T120000
DTSTAMP:20260423T180242
CREATED:20251017T183959Z
LAST-MODIFIED:20251017T183959Z
UID:10006760-1764955800-1765108800@cathedralofhope.org
SUMMARY:Youth Winter Retreat at Crestfield
DESCRIPTION:for 7th-12th grade \nThe winter retreat at Crestfield is with churches from around Pittsburgh and includes energetic worship\, thoughtful small groups\, and lots of camp fun. The cost for the weekend is $125 but ELPC has scholarships for students which can be requested online.  We will meet at ELPC at 5:30pm on Friday and return to ELPC by noon on Sunday together in the church van. Here is a highlight video from last year’s retreat if you want more of an idea of the games\, meals\, and worship that happens. \nRSVP to Sara Hackett by Nov 13th  \nPayments can be made online by typing in the amount you are paying into the button that currently says 0.00.  Checks can be made out to East Liberty Presbyterian Church – please include ‘Youth Retreat’ in the memo. \nPacking List for the weekend.
URL:https://cathedralofhope.org/event/youth-winter-retreat-at-crestfield-2/
LOCATION:PA
CATEGORIES:Children & Youth
ATTACH;FMTTYPE=image/png:https://cathedralofhope.org/wp-content/uploads/2025/10/winter-retreat-25-1536x1536-1.png
END:VEVENT
END:VCALENDAR