BEGIN:VCALENDAR
VERSION:2.0
PRODID:-//East Liberty Presbyterian Church - ECPv6.15.20//NONSGML v1.0//EN
CALSCALE:GREGORIAN
METHOD:PUBLISH
X-WR-CALNAME:East Liberty Presbyterian Church
X-ORIGINAL-URL:https://cathedralofhope.org
X-WR-CALDESC:Events for East Liberty Presbyterian Church
REFRESH-INTERVAL;VALUE=DURATION:PT1H
X-Robots-Tag:noindex
X-PUBLISHED-TTL:PT1H
BEGIN:VTIMEZONE
TZID:America/New_York
BEGIN:DAYLIGHT
TZOFFSETFROM:-0500
TZOFFSETTO:-0400
TZNAME:EDT
DTSTART:20250309T070000
END:DAYLIGHT
BEGIN:STANDARD
TZOFFSETFROM:-0400
TZOFFSETTO:-0500
TZNAME:EST
DTSTART:20251102T060000
END:STANDARD
BEGIN:DAYLIGHT
TZOFFSETFROM:-0500
TZOFFSETTO:-0400
TZNAME:EDT
DTSTART:20260308T070000
END:DAYLIGHT
BEGIN:STANDARD
TZOFFSETFROM:-0400
TZOFFSETTO:-0500
TZNAME:EST
DTSTART:20261101T060000
END:STANDARD
BEGIN:DAYLIGHT
TZOFFSETFROM:-0500
TZOFFSETTO:-0400
TZNAME:EDT
DTSTART:20270314T070000
END:DAYLIGHT
BEGIN:STANDARD
TZOFFSETFROM:-0400
TZOFFSETTO:-0500
TZNAME:EST
DTSTART:20271107T060000
END:STANDARD
END:VTIMEZONE
BEGIN:VEVENT
DTSTART;TZID=America/New_York:20260118T094500
DTEND;TZID=America/New_York:20260118T094500
DTSTAMP:20260423T160643
CREATED:20250820T164454Z
LAST-MODIFIED:20250820T164454Z
UID:10006680-1768729500-1768729500@cathedralofhope.org
SUMMARY:Youth Sunday School
DESCRIPTION:7th-12th grade teens meet on the first and third Sunday of the month from 9:45-10:45am in the Second Floor Parlor. \nAlso check out Youth Group for 7th -12th graders happening Thursdays from 4:30-7pm with dinner\, games\, conversation\, God talk\, service projects\, and a lot of laughter. Contact Sara Hackett for more information.
URL:https://cathedralofhope.org/event/youth-sunday-school-2/2026-01-18/
LOCATION:PA
CATEGORIES:Children & Youth
ATTACH;FMTTYPE=image/jpeg:https://cathedralofhope.org/wp-content/uploads/2025/08/20250202_103321-scaled-e1755707879820.jpg
END:VEVENT
BEGIN:VEVENT
DTSTART;TZID=America/New_York:20260118T120000
DTEND;TZID=America/New_York:20260118T143000
DTSTAMP:20260423T160643
CREATED:20250820T195045Z
LAST-MODIFIED:20250820T211708Z
UID:10006397-1768737600-1768746600@cathedralofhope.org
SUMMARY:Family Variety Show at the Nursing Home
DESCRIPTION:Join us after worship on January 18th as we put on a Variety Show for residents of a local nursing home.  Play an instrument\, tell a joke\, do a dance\, show off a cool piece of art\, perform a magic or a skateboard trick.  If you don’t want to perform you can help host in many other ways!   RSVP to Sara Hackett \nThe Children and Families Ministry team is hosting monthly family events to foster a caring community of families at ELPC\, where kids and adults feel loved and empowered to explore their faith. \nSave the Date for our Monthly Family Events on the Third Sunday of the month …\nFebruary 15 – Make Dog Treats for Ellie’s Pet Pantry\nMarch 15 – Board Games with the Happy Wanderers\nApril 19 – Bowling at ELPC\nMay 17 -Service Projects around the Church
URL:https://cathedralofhope.org/event/family-variety-show/
LOCATION:PA
CATEGORIES:Children & Youth
ATTACH;FMTTYPE=image/png:https://cathedralofhope.org/wp-content/uploads/2025/08/variety-show-2.png
END:VEVENT
BEGIN:VEVENT
DTSTART;TZID=America/New_York:20260118T131500
DTEND;TZID=America/New_York:20260118T160000
DTSTAMP:20260423T160643
CREATED:20260114T191911Z
LAST-MODIFIED:20260114T191911Z
UID:10006357-1768742100-1768752000@cathedralofhope.org
SUMMARY:ELPC Families' Variety Show
DESCRIPTION:Families with children and teens are hosting a Variety Show at Ivy Park Nursing and Rehabilitation Center on Sunday\, January 18! Families are invited to eat lunch and coordinate tasks here at ELPC after worship in the First Floor Fellowship Room. We will leave ELPC at 1:15 pm to head over to Ivy Park to set up and welcome residents (you can ride in the church van or drive on your own). Come with a musical performance\, joke\, magic trick\, story\, art piece\, dance or whatever you dream up to share with the residents! Sara will have some fun and easy things folks can help with if you forget your kazoo! \nPlease RSVP to Sara Hackett. \nThere is a small parking lot at 5609 Fifth Ave\, Pittsburgh\, PA 15232\, and street parking behind the building.
URL:https://cathedralofhope.org/event/elpc-families-variety-show/
LOCATION:PA
CATEGORIES:Children & Youth,Featured Events
END:VEVENT
END:VCALENDAR