BEGIN:VCALENDAR
VERSION:2.0
PRODID:-//East Liberty Presbyterian Church - ECPv6.15.20//NONSGML v1.0//EN
CALSCALE:GREGORIAN
METHOD:PUBLISH
X-WR-CALNAME:East Liberty Presbyterian Church
X-ORIGINAL-URL:https://cathedralofhope.org
X-WR-CALDESC:Events for East Liberty Presbyterian Church
REFRESH-INTERVAL;VALUE=DURATION:PT1H
X-Robots-Tag:noindex
X-PUBLISHED-TTL:PT1H
BEGIN:VTIMEZONE
TZID:America/New_York
BEGIN:DAYLIGHT
TZOFFSETFROM:-0500
TZOFFSETTO:-0400
TZNAME:EDT
DTSTART:20250309T070000
END:DAYLIGHT
BEGIN:STANDARD
TZOFFSETFROM:-0400
TZOFFSETTO:-0500
TZNAME:EST
DTSTART:20251102T060000
END:STANDARD
BEGIN:DAYLIGHT
TZOFFSETFROM:-0500
TZOFFSETTO:-0400
TZNAME:EDT
DTSTART:20260308T070000
END:DAYLIGHT
BEGIN:STANDARD
TZOFFSETFROM:-0400
TZOFFSETTO:-0500
TZNAME:EST
DTSTART:20261101T060000
END:STANDARD
BEGIN:DAYLIGHT
TZOFFSETFROM:-0500
TZOFFSETTO:-0400
TZNAME:EDT
DTSTART:20270314T070000
END:DAYLIGHT
BEGIN:STANDARD
TZOFFSETFROM:-0400
TZOFFSETTO:-0500
TZNAME:EST
DTSTART:20271107T060000
END:STANDARD
END:VTIMEZONE
BEGIN:VEVENT
DTSTART;TZID=America/New_York:20260124T100000
DTEND;TZID=America/New_York:20260124T150000
DTSTAMP:20260423T160639
CREATED:20260105T190102Z
LAST-MODIFIED:20260105T190155Z
UID:10006555-1769248800-1769266800@cathedralofhope.org
SUMMARY:Confirmation Retreat
DESCRIPTION:On Saturday\, January 24\, 10 am–3 pm\, our Confirmation Class\, for youth in grades 8–9\, will explore the Bible through conversations\, games\, art projects\, and more…asking questions like\, ”What’s in the Bible? Why don’t Christians agree on what the Bible says? What does it mean that the Bible is the ’Word of God’?” \nContact Sara Hackett with questions.
URL:https://cathedralofhope.org/event/confirmation-retreat/
LOCATION:PA
CATEGORIES:Children & Youth,Featured Events
END:VEVENT
END:VCALENDAR