BEGIN:VCALENDAR
VERSION:2.0
PRODID:-//East Liberty Presbyterian Church - ECPv6.15.20//NONSGML v1.0//EN
CALSCALE:GREGORIAN
METHOD:PUBLISH
X-ORIGINAL-URL:https://cathedralofhope.org
X-WR-CALDESC:Events for East Liberty Presbyterian Church
REFRESH-INTERVAL;VALUE=DURATION:PT1H
X-Robots-Tag:noindex
X-PUBLISHED-TTL:PT1H
BEGIN:VTIMEZONE
TZID:America/Halifax
BEGIN:DAYLIGHT
TZOFFSETFROM:-0400
TZOFFSETTO:-0300
TZNAME:ADT
DTSTART:20250309T060000
END:DAYLIGHT
BEGIN:STANDARD
TZOFFSETFROM:-0300
TZOFFSETTO:-0400
TZNAME:AST
DTSTART:20251102T050000
END:STANDARD
BEGIN:DAYLIGHT
TZOFFSETFROM:-0400
TZOFFSETTO:-0300
TZNAME:ADT
DTSTART:20260308T060000
END:DAYLIGHT
BEGIN:STANDARD
TZOFFSETFROM:-0300
TZOFFSETTO:-0400
TZNAME:AST
DTSTART:20261101T050000
END:STANDARD
BEGIN:DAYLIGHT
TZOFFSETFROM:-0400
TZOFFSETTO:-0300
TZNAME:ADT
DTSTART:20270314T060000
END:DAYLIGHT
BEGIN:STANDARD
TZOFFSETFROM:-0300
TZOFFSETTO:-0400
TZNAME:AST
DTSTART:20271107T050000
END:STANDARD
END:VTIMEZONE
BEGIN:VEVENT
DTSTART;TZID=America/Halifax:20260222T121500
DTEND;TZID=America/Halifax:20260222T143000
DTSTAMP:20260423T123053
CREATED:20231005T100047Z
LAST-MODIFIED:20260217T135755Z
UID:10003121-1771762500-1771770600@cathedralofhope.org
SUMMARY:Confirmation Class
DESCRIPTION:On Sunday\, February 22\, 12:15–2:30 pm\, the Confirmation Class will have lunch\, learn about the church and what it means to be Presbyterian\, including: what sacraments Presbyterians celebrate\, what type of government Presbyterians use to discern God’s call for the church\, and the questions people are asked in worship when they become members. \nFor more details\, contact Sara Hackett.
URL:https://cathedralofhope.org/event/confirmation-class/
LOCATION:East Liberty Presbyterian Church\, 116 S. Highland Avenue\, Pittsburgh\, PA\, 15206\, United States
CATEGORIES:Children & Youth,Featured Events
ORGANIZER;CN="Sara Hackett":MAILTO:SaraH@coh.net
GEO:40.4609708;-79.9253554
X-APPLE-STRUCTURED-LOCATION;VALUE=URI;X-ADDRESS=East Liberty Presbyterian Church 116 S. Highland Avenue Pittsburgh PA 15206 United States;X-APPLE-RADIUS=500;X-TITLE=116 S. Highland Avenue:geo:-79.9253554,40.4609708
END:VEVENT
END:VCALENDAR