BEGIN:VCALENDAR
VERSION:2.0
PRODID:-//East Liberty Presbyterian Church - ECPv6.15.20//NONSGML v1.0//EN
CALSCALE:GREGORIAN
METHOD:PUBLISH
X-WR-CALNAME:East Liberty Presbyterian Church
X-ORIGINAL-URL:https://cathedralofhope.org
X-WR-CALDESC:Events for East Liberty Presbyterian Church
REFRESH-INTERVAL;VALUE=DURATION:PT1H
X-Robots-Tag:noindex
X-PUBLISHED-TTL:PT1H
BEGIN:VTIMEZONE
TZID:America/New_York
BEGIN:DAYLIGHT
TZOFFSETFROM:-0500
TZOFFSETTO:-0400
TZNAME:EDT
DTSTART:20240310T070000
END:DAYLIGHT
BEGIN:STANDARD
TZOFFSETFROM:-0400
TZOFFSETTO:-0500
TZNAME:EST
DTSTART:20241103T060000
END:STANDARD
BEGIN:DAYLIGHT
TZOFFSETFROM:-0500
TZOFFSETTO:-0400
TZNAME:EDT
DTSTART:20250309T070000
END:DAYLIGHT
BEGIN:STANDARD
TZOFFSETFROM:-0400
TZOFFSETTO:-0500
TZNAME:EST
DTSTART:20251102T060000
END:STANDARD
BEGIN:DAYLIGHT
TZOFFSETFROM:-0500
TZOFFSETTO:-0400
TZNAME:EDT
DTSTART:20260308T070000
END:DAYLIGHT
BEGIN:STANDARD
TZOFFSETFROM:-0400
TZOFFSETTO:-0500
TZNAME:EST
DTSTART:20261101T060000
END:STANDARD
END:VTIMEZONE
BEGIN:VTIMEZONE
TZID:America/Halifax
BEGIN:DAYLIGHT
TZOFFSETFROM:-0400
TZOFFSETTO:-0300
TZNAME:ADT
DTSTART:20240310T060000
END:DAYLIGHT
BEGIN:STANDARD
TZOFFSETFROM:-0300
TZOFFSETTO:-0400
TZNAME:AST
DTSTART:20241103T050000
END:STANDARD
BEGIN:DAYLIGHT
TZOFFSETFROM:-0400
TZOFFSETTO:-0300
TZNAME:ADT
DTSTART:20250309T060000
END:DAYLIGHT
BEGIN:STANDARD
TZOFFSETFROM:-0300
TZOFFSETTO:-0400
TZNAME:AST
DTSTART:20251102T050000
END:STANDARD
BEGIN:DAYLIGHT
TZOFFSETFROM:-0400
TZOFFSETTO:-0300
TZNAME:ADT
DTSTART:20260308T060000
END:DAYLIGHT
BEGIN:STANDARD
TZOFFSETFROM:-0300
TZOFFSETTO:-0400
TZNAME:AST
DTSTART:20261101T050000
END:STANDARD
END:VTIMEZONE
BEGIN:VEVENT
DTSTART;TZID=America/New_York:20250130T163000
DTEND;TZID=America/New_York:20250130T190000
DTSTAMP:20260425T123046
CREATED:20240904T204042Z
LAST-MODIFIED:20250116T155650Z
UID:10003420-1738254600-1738263600@cathedralofhope.org
SUMMARY:Youth Group
DESCRIPTION:Thursday Nights is Youth Group for 7th-12th grade students.  Together with Sixth Presbyterian church we share dinner\, pray\, play\, and explore faith with the flexibility to do service projects\, ‘field trips’\, and whatever else we dream up!  Register Online. \nTeens in  grade 7th-12th also meet for Breakfast on the first Sunday of the month from 9:45-10:45am and after church one Sunday a month for lunch and programing –  see the full schedule here.
URL:https://cathedralofhope.org/event/youth-group/2025-01-30/
CATEGORIES:Children & Youth
ATTACH;FMTTYPE=image/jpeg:https://cathedralofhope.org/wp-content/uploads/2024/09/teen-3-scaled-e1725479018464.jpg
END:VEVENT
BEGIN:VEVENT
DTSTART;TZID=America/New_York:20250205T163000
DTEND;TZID=America/New_York:20250205T183000
DTSTAMP:20260425T123046
CREATED:20240904T203355Z
LAST-MODIFIED:20250116T160532Z
UID:10006383-1738773000-1738780200@cathedralofhope.org
SUMMARY:Club 116
DESCRIPTION:Kids in 1st-6th grade gather for Bible study\, crafts\, games in the gym\, and dinner together. \nRegistration is required and can be completed online.
URL:https://cathedralofhope.org/event/club-116/2025-02-05/
CATEGORIES:Children & Youth
ATTACH;FMTTYPE=image/jpeg:https://cathedralofhope.org/wp-content/uploads/2024/09/club-3.jpg
END:VEVENT
BEGIN:VEVENT
DTSTART;TZID=America/New_York:20250206T163000
DTEND;TZID=America/New_York:20250206T190000
DTSTAMP:20260425T123046
CREATED:20240904T204042Z
LAST-MODIFIED:20250116T155650Z
UID:10003421-1738859400-1738868400@cathedralofhope.org
SUMMARY:Youth Group
DESCRIPTION:Thursday Nights is Youth Group for 7th-12th grade students.  Together with Sixth Presbyterian church we share dinner\, pray\, play\, and explore faith with the flexibility to do service projects\, ‘field trips’\, and whatever else we dream up!  Register Online. \nTeens in  grade 7th-12th also meet for Breakfast on the first Sunday of the month from 9:45-10:45am and after church one Sunday a month for lunch and programing –  see the full schedule here.
URL:https://cathedralofhope.org/event/youth-group/2025-02-06/
CATEGORIES:Children & Youth
ATTACH;FMTTYPE=image/jpeg:https://cathedralofhope.org/wp-content/uploads/2024/09/teen-3-scaled-e1725479018464.jpg
END:VEVENT
BEGIN:VEVENT
DTSTART;TZID=America/New_York:20250212T163000
DTEND;TZID=America/New_York:20250212T183000
DTSTAMP:20260425T123046
CREATED:20240904T203355Z
LAST-MODIFIED:20250116T160532Z
UID:10006384-1739377800-1739385000@cathedralofhope.org
SUMMARY:Club 116
DESCRIPTION:Kids in 1st-6th grade gather for Bible study\, crafts\, games in the gym\, and dinner together. \nRegistration is required and can be completed online.
URL:https://cathedralofhope.org/event/club-116/2025-02-12/
CATEGORIES:Children & Youth
ATTACH;FMTTYPE=image/jpeg:https://cathedralofhope.org/wp-content/uploads/2024/09/club-3.jpg
END:VEVENT
BEGIN:VEVENT
DTSTART;TZID=America/New_York:20250213T163000
DTEND;TZID=America/New_York:20250213T190000
DTSTAMP:20260425T123046
CREATED:20240904T204042Z
LAST-MODIFIED:20250116T155650Z
UID:10003422-1739464200-1739473200@cathedralofhope.org
SUMMARY:Youth Group
DESCRIPTION:Thursday Nights is Youth Group for 7th-12th grade students.  Together with Sixth Presbyterian church we share dinner\, pray\, play\, and explore faith with the flexibility to do service projects\, ‘field trips’\, and whatever else we dream up!  Register Online. \nTeens in  grade 7th-12th also meet for Breakfast on the first Sunday of the month from 9:45-10:45am and after church one Sunday a month for lunch and programing –  see the full schedule here.
URL:https://cathedralofhope.org/event/youth-group/2025-02-13/
CATEGORIES:Children & Youth
ATTACH;FMTTYPE=image/jpeg:https://cathedralofhope.org/wp-content/uploads/2024/09/teen-3-scaled-e1725479018464.jpg
END:VEVENT
BEGIN:VEVENT
DTSTART;TZID=America/New_York:20250219T163000
DTEND;TZID=America/New_York:20250219T183000
DTSTAMP:20260425T123046
CREATED:20240904T203355Z
LAST-MODIFIED:20250116T160532Z
UID:10006385-1739982600-1739989800@cathedralofhope.org
SUMMARY:Club 116
DESCRIPTION:Kids in 1st-6th grade gather for Bible study\, crafts\, games in the gym\, and dinner together. \nRegistration is required and can be completed online.
URL:https://cathedralofhope.org/event/club-116/2025-02-19/
CATEGORIES:Children & Youth
ATTACH;FMTTYPE=image/jpeg:https://cathedralofhope.org/wp-content/uploads/2024/09/club-3.jpg
END:VEVENT
BEGIN:VEVENT
DTSTART;TZID=America/New_York:20250220T163000
DTEND;TZID=America/New_York:20250220T190000
DTSTAMP:20260425T123046
CREATED:20240904T204042Z
LAST-MODIFIED:20250116T155650Z
UID:10003423-1740069000-1740078000@cathedralofhope.org
SUMMARY:Youth Group
DESCRIPTION:Thursday Nights is Youth Group for 7th-12th grade students.  Together with Sixth Presbyterian church we share dinner\, pray\, play\, and explore faith with the flexibility to do service projects\, ‘field trips’\, and whatever else we dream up!  Register Online. \nTeens in  grade 7th-12th also meet for Breakfast on the first Sunday of the month from 9:45-10:45am and after church one Sunday a month for lunch and programing –  see the full schedule here.
URL:https://cathedralofhope.org/event/youth-group/2025-02-20/
CATEGORIES:Children & Youth
ATTACH;FMTTYPE=image/jpeg:https://cathedralofhope.org/wp-content/uploads/2024/09/teen-3-scaled-e1725479018464.jpg
END:VEVENT
BEGIN:VEVENT
DTSTART;TZID=America/New_York:20250226T163000
DTEND;TZID=America/New_York:20250226T183000
DTSTAMP:20260425T123046
CREATED:20240904T203355Z
LAST-MODIFIED:20250116T160532Z
UID:10006386-1740587400-1740594600@cathedralofhope.org
SUMMARY:Club 116
DESCRIPTION:Kids in 1st-6th grade gather for Bible study\, crafts\, games in the gym\, and dinner together. \nRegistration is required and can be completed online.
URL:https://cathedralofhope.org/event/club-116/2025-02-26/
CATEGORIES:Children & Youth
ATTACH;FMTTYPE=image/jpeg:https://cathedralofhope.org/wp-content/uploads/2024/09/club-3.jpg
END:VEVENT
BEGIN:VEVENT
DTSTART;TZID=America/New_York:20250227T163000
DTEND;TZID=America/New_York:20250227T190000
DTSTAMP:20260425T123046
CREATED:20240904T204042Z
LAST-MODIFIED:20250116T155650Z
UID:10003424-1740673800-1740682800@cathedralofhope.org
SUMMARY:Youth Group
DESCRIPTION:Thursday Nights is Youth Group for 7th-12th grade students.  Together with Sixth Presbyterian church we share dinner\, pray\, play\, and explore faith with the flexibility to do service projects\, ‘field trips’\, and whatever else we dream up!  Register Online. \nTeens in  grade 7th-12th also meet for Breakfast on the first Sunday of the month from 9:45-10:45am and after church one Sunday a month for lunch and programing –  see the full schedule here.
URL:https://cathedralofhope.org/event/youth-group/2025-02-27/
CATEGORIES:Children & Youth
ATTACH;FMTTYPE=image/jpeg:https://cathedralofhope.org/wp-content/uploads/2024/09/teen-3-scaled-e1725479018464.jpg
END:VEVENT
BEGIN:VEVENT
DTSTART;TZID=America/New_York:20250305T163000
DTEND;TZID=America/New_York:20250305T183000
DTSTAMP:20260425T123046
CREATED:20240904T203355Z
LAST-MODIFIED:20250116T160532Z
UID:10006387-1741192200-1741199400@cathedralofhope.org
SUMMARY:Club 116
DESCRIPTION:Kids in 1st-6th grade gather for Bible study\, crafts\, games in the gym\, and dinner together. \nRegistration is required and can be completed online.
URL:https://cathedralofhope.org/event/club-116/2025-03-05/
CATEGORIES:Children & Youth
ATTACH;FMTTYPE=image/jpeg:https://cathedralofhope.org/wp-content/uploads/2024/09/club-3.jpg
END:VEVENT
BEGIN:VEVENT
DTSTART;TZID=America/New_York:20250306T163000
DTEND;TZID=America/New_York:20250306T190000
DTSTAMP:20260425T123046
CREATED:20240904T204042Z
LAST-MODIFIED:20250116T155650Z
UID:10003425-1741278600-1741287600@cathedralofhope.org
SUMMARY:Youth Group
DESCRIPTION:Thursday Nights is Youth Group for 7th-12th grade students.  Together with Sixth Presbyterian church we share dinner\, pray\, play\, and explore faith with the flexibility to do service projects\, ‘field trips’\, and whatever else we dream up!  Register Online. \nTeens in  grade 7th-12th also meet for Breakfast on the first Sunday of the month from 9:45-10:45am and after church one Sunday a month for lunch and programing –  see the full schedule here.
URL:https://cathedralofhope.org/event/youth-group/2025-03-06/
CATEGORIES:Children & Youth
ATTACH;FMTTYPE=image/jpeg:https://cathedralofhope.org/wp-content/uploads/2024/09/teen-3-scaled-e1725479018464.jpg
END:VEVENT
BEGIN:VEVENT
DTSTART;TZID=America/New_York:20250312T163000
DTEND;TZID=America/New_York:20250312T183000
DTSTAMP:20260425T123046
CREATED:20240904T203355Z
LAST-MODIFIED:20250116T160532Z
UID:10006388-1741797000-1741804200@cathedralofhope.org
SUMMARY:Club 116
DESCRIPTION:Kids in 1st-6th grade gather for Bible study\, crafts\, games in the gym\, and dinner together. \nRegistration is required and can be completed online.
URL:https://cathedralofhope.org/event/club-116/2025-03-12/
CATEGORIES:Children & Youth
ATTACH;FMTTYPE=image/jpeg:https://cathedralofhope.org/wp-content/uploads/2024/09/club-3.jpg
END:VEVENT
BEGIN:VEVENT
DTSTART;TZID=America/New_York:20250313T163000
DTEND;TZID=America/New_York:20250313T190000
DTSTAMP:20260425T123046
CREATED:20240904T204042Z
LAST-MODIFIED:20250116T155650Z
UID:10003426-1741883400-1741892400@cathedralofhope.org
SUMMARY:Youth Group
DESCRIPTION:Thursday Nights is Youth Group for 7th-12th grade students.  Together with Sixth Presbyterian church we share dinner\, pray\, play\, and explore faith with the flexibility to do service projects\, ‘field trips’\, and whatever else we dream up!  Register Online. \nTeens in  grade 7th-12th also meet for Breakfast on the first Sunday of the month from 9:45-10:45am and after church one Sunday a month for lunch and programing –  see the full schedule here.
URL:https://cathedralofhope.org/event/youth-group/2025-03-13/
CATEGORIES:Children & Youth
ATTACH;FMTTYPE=image/jpeg:https://cathedralofhope.org/wp-content/uploads/2024/09/teen-3-scaled-e1725479018464.jpg
END:VEVENT
BEGIN:VEVENT
DTSTART;TZID=America/New_York:20250319T163000
DTEND;TZID=America/New_York:20250319T183000
DTSTAMP:20260425T123046
CREATED:20240904T203355Z
LAST-MODIFIED:20250116T160532Z
UID:10006389-1742401800-1742409000@cathedralofhope.org
SUMMARY:Club 116
DESCRIPTION:Kids in 1st-6th grade gather for Bible study\, crafts\, games in the gym\, and dinner together. \nRegistration is required and can be completed online.
URL:https://cathedralofhope.org/event/club-116/2025-03-19/
CATEGORIES:Children & Youth
ATTACH;FMTTYPE=image/jpeg:https://cathedralofhope.org/wp-content/uploads/2024/09/club-3.jpg
END:VEVENT
BEGIN:VEVENT
DTSTART;TZID=America/New_York:20250320T163000
DTEND;TZID=America/New_York:20250320T190000
DTSTAMP:20260425T123046
CREATED:20240904T204042Z
LAST-MODIFIED:20250116T155650Z
UID:10003427-1742488200-1742497200@cathedralofhope.org
SUMMARY:Youth Group
DESCRIPTION:Thursday Nights is Youth Group for 7th-12th grade students.  Together with Sixth Presbyterian church we share dinner\, pray\, play\, and explore faith with the flexibility to do service projects\, ‘field trips’\, and whatever else we dream up!  Register Online. \nTeens in  grade 7th-12th also meet for Breakfast on the first Sunday of the month from 9:45-10:45am and after church one Sunday a month for lunch and programing –  see the full schedule here.
URL:https://cathedralofhope.org/event/youth-group/2025-03-20/
CATEGORIES:Children & Youth
ATTACH;FMTTYPE=image/jpeg:https://cathedralofhope.org/wp-content/uploads/2024/09/teen-3-scaled-e1725479018464.jpg
END:VEVENT
BEGIN:VEVENT
DTSTART;TZID=America/New_York:20250326T163000
DTEND;TZID=America/New_York:20250326T183000
DTSTAMP:20260425T123046
CREATED:20240904T203355Z
LAST-MODIFIED:20250116T160532Z
UID:10006390-1743006600-1743013800@cathedralofhope.org
SUMMARY:Club 116
DESCRIPTION:Kids in 1st-6th grade gather for Bible study\, crafts\, games in the gym\, and dinner together. \nRegistration is required and can be completed online.
URL:https://cathedralofhope.org/event/club-116/2025-03-26/
CATEGORIES:Children & Youth
ATTACH;FMTTYPE=image/jpeg:https://cathedralofhope.org/wp-content/uploads/2024/09/club-3.jpg
END:VEVENT
BEGIN:VEVENT
DTSTART;TZID=America/New_York:20250327T163000
DTEND;TZID=America/New_York:20250327T190000
DTSTAMP:20260425T123046
CREATED:20240904T204042Z
LAST-MODIFIED:20250116T155650Z
UID:10003428-1743093000-1743102000@cathedralofhope.org
SUMMARY:Youth Group
DESCRIPTION:Thursday Nights is Youth Group for 7th-12th grade students.  Together with Sixth Presbyterian church we share dinner\, pray\, play\, and explore faith with the flexibility to do service projects\, ‘field trips’\, and whatever else we dream up!  Register Online. \nTeens in  grade 7th-12th also meet for Breakfast on the first Sunday of the month from 9:45-10:45am and after church one Sunday a month for lunch and programing –  see the full schedule here.
URL:https://cathedralofhope.org/event/youth-group/2025-03-27/
CATEGORIES:Children & Youth
ATTACH;FMTTYPE=image/jpeg:https://cathedralofhope.org/wp-content/uploads/2024/09/teen-3-scaled-e1725479018464.jpg
END:VEVENT
BEGIN:VEVENT
DTSTART;TZID=America/New_York:20250402T163000
DTEND;TZID=America/New_York:20250402T183000
DTSTAMP:20260425T123046
CREATED:20240904T203355Z
LAST-MODIFIED:20250116T160532Z
UID:10006391-1743611400-1743618600@cathedralofhope.org
SUMMARY:Club 116
DESCRIPTION:Kids in 1st-6th grade gather for Bible study\, crafts\, games in the gym\, and dinner together. \nRegistration is required and can be completed online.
URL:https://cathedralofhope.org/event/club-116/2025-04-02/
CATEGORIES:Children & Youth
ATTACH;FMTTYPE=image/jpeg:https://cathedralofhope.org/wp-content/uploads/2024/09/club-3.jpg
END:VEVENT
BEGIN:VEVENT
DTSTART;TZID=America/New_York:20250403T163000
DTEND;TZID=America/New_York:20250403T190000
DTSTAMP:20260425T123046
CREATED:20240904T204042Z
LAST-MODIFIED:20250116T155650Z
UID:10003429-1743697800-1743706800@cathedralofhope.org
SUMMARY:Youth Group
DESCRIPTION:Thursday Nights is Youth Group for 7th-12th grade students.  Together with Sixth Presbyterian church we share dinner\, pray\, play\, and explore faith with the flexibility to do service projects\, ‘field trips’\, and whatever else we dream up!  Register Online. \nTeens in  grade 7th-12th also meet for Breakfast on the first Sunday of the month from 9:45-10:45am and after church one Sunday a month for lunch and programing –  see the full schedule here.
URL:https://cathedralofhope.org/event/youth-group/2025-04-03/
CATEGORIES:Children & Youth
ATTACH;FMTTYPE=image/jpeg:https://cathedralofhope.org/wp-content/uploads/2024/09/teen-3-scaled-e1725479018464.jpg
END:VEVENT
BEGIN:VEVENT
DTSTART;TZID=America/New_York:20250409T163000
DTEND;TZID=America/New_York:20250409T183000
DTSTAMP:20260425T123046
CREATED:20240904T203355Z
LAST-MODIFIED:20250116T160532Z
UID:10006392-1744216200-1744223400@cathedralofhope.org
SUMMARY:Club 116
DESCRIPTION:Kids in 1st-6th grade gather for Bible study\, crafts\, games in the gym\, and dinner together. \nRegistration is required and can be completed online.
URL:https://cathedralofhope.org/event/club-116/2025-04-09/
CATEGORIES:Children & Youth
ATTACH;FMTTYPE=image/jpeg:https://cathedralofhope.org/wp-content/uploads/2024/09/club-3.jpg
END:VEVENT
BEGIN:VEVENT
DTSTART;TZID=America/New_York:20250410T163000
DTEND;TZID=America/New_York:20250410T190000
DTSTAMP:20260425T123046
CREATED:20240904T204042Z
LAST-MODIFIED:20250116T155650Z
UID:10003430-1744302600-1744311600@cathedralofhope.org
SUMMARY:Youth Group
DESCRIPTION:Thursday Nights is Youth Group for 7th-12th grade students.  Together with Sixth Presbyterian church we share dinner\, pray\, play\, and explore faith with the flexibility to do service projects\, ‘field trips’\, and whatever else we dream up!  Register Online. \nTeens in  grade 7th-12th also meet for Breakfast on the first Sunday of the month from 9:45-10:45am and after church one Sunday a month for lunch and programing –  see the full schedule here.
URL:https://cathedralofhope.org/event/youth-group/2025-04-10/
CATEGORIES:Children & Youth
ATTACH;FMTTYPE=image/jpeg:https://cathedralofhope.org/wp-content/uploads/2024/09/teen-3-scaled-e1725479018464.jpg
END:VEVENT
BEGIN:VEVENT
DTSTART;TZID=America/New_York:20250413T120000
DTEND;TZID=America/New_York:20250413T133000
DTSTAMP:20260425T123046
CREATED:20250403T181459Z
LAST-MODIFIED:20250403T181716Z
UID:10006479-1744545600-1744551000@cathedralofhope.org
SUMMARY:Easter Egg Hut
DESCRIPTION:Join us after Sanctuary worship on Palm Sunday\, April 13\, 12–1:30 pm\, as we find eggs around the church that help us tell the Easter story together. We will begin in the Fellowship Room and a simple sandwich lunch will be served.
URL:https://cathedralofhope.org/event/easter-egg-hut/
LOCATION:ELPC – Fellowship Room\, 116 South Highland Avenue\, Pittsburgh\, PA\, 15206\, United States
CATEGORIES:Children & Youth,Featured Events
ATTACH;FMTTYPE=image/png:https://cathedralofhope.org/wp-content/uploads/2025/04/img-easter-egg-hunt.png
END:VEVENT
BEGIN:VEVENT
DTSTART;TZID=America/New_York:20250423T163000
DTEND;TZID=America/New_York:20250423T183000
DTSTAMP:20260425T123046
CREATED:20240904T203355Z
LAST-MODIFIED:20250116T160532Z
UID:10006393-1745425800-1745433000@cathedralofhope.org
SUMMARY:Club 116
DESCRIPTION:Kids in 1st-6th grade gather for Bible study\, crafts\, games in the gym\, and dinner together. \nRegistration is required and can be completed online.
URL:https://cathedralofhope.org/event/club-116/2025-04-23/
CATEGORIES:Children & Youth
ATTACH;FMTTYPE=image/jpeg:https://cathedralofhope.org/wp-content/uploads/2024/09/club-3.jpg
END:VEVENT
BEGIN:VEVENT
DTSTART;TZID=America/New_York:20250424T163000
DTEND;TZID=America/New_York:20250424T190000
DTSTAMP:20260425T123046
CREATED:20240904T204042Z
LAST-MODIFIED:20250116T155650Z
UID:10003431-1745512200-1745521200@cathedralofhope.org
SUMMARY:Youth Group
DESCRIPTION:Thursday Nights is Youth Group for 7th-12th grade students.  Together with Sixth Presbyterian church we share dinner\, pray\, play\, and explore faith with the flexibility to do service projects\, ‘field trips’\, and whatever else we dream up!  Register Online. \nTeens in  grade 7th-12th also meet for Breakfast on the first Sunday of the month from 9:45-10:45am and after church one Sunday a month for lunch and programing –  see the full schedule here.
URL:https://cathedralofhope.org/event/youth-group/2025-04-24/
CATEGORIES:Children & Youth
ATTACH;FMTTYPE=image/jpeg:https://cathedralofhope.org/wp-content/uploads/2024/09/teen-3-scaled-e1725479018464.jpg
END:VEVENT
BEGIN:VEVENT
DTSTART;TZID=America/New_York:20250425T170000
DTEND;TZID=America/New_York:20250425T190000
DTSTAMP:20260425T123046
CREATED:20250410T181623Z
LAST-MODIFIED:20250410T181834Z
UID:10000039-1745600400-1745607600@cathedralofhope.org
SUMMARY:Tween Kickball
DESCRIPTION:Youth in grades 4–6 will be gathering for pizza and kickball on Friday\, April 25\, 5–7 pm. Friends are always SUPER welcome. RSVP to Sara Hackett.
URL:https://cathedralofhope.org/event/tween-kickball/
CATEGORIES:Children & Youth,Featured Events
ATTACH;FMTTYPE=image/png:https://cathedralofhope.org/wp-content/uploads/2025/04/img_tween-kickball.png
END:VEVENT
BEGIN:VEVENT
DTSTART;TZID=America/New_York:20250430T163000
DTEND;TZID=America/New_York:20250430T183000
DTSTAMP:20260425T123046
CREATED:20240904T203355Z
LAST-MODIFIED:20250116T160532Z
UID:10006394-1746030600-1746037800@cathedralofhope.org
SUMMARY:Club 116
DESCRIPTION:Kids in 1st-6th grade gather for Bible study\, crafts\, games in the gym\, and dinner together. \nRegistration is required and can be completed online.
URL:https://cathedralofhope.org/event/club-116/2025-04-30/
CATEGORIES:Children & Youth
ATTACH;FMTTYPE=image/jpeg:https://cathedralofhope.org/wp-content/uploads/2024/09/club-3.jpg
END:VEVENT
BEGIN:VEVENT
DTSTART;TZID=America/New_York:20250501T163000
DTEND;TZID=America/New_York:20250501T190000
DTSTAMP:20260425T123046
CREATED:20240904T204042Z
LAST-MODIFIED:20250116T155650Z
UID:10003432-1746117000-1746126000@cathedralofhope.org
SUMMARY:Youth Group
DESCRIPTION:Thursday Nights is Youth Group for 7th-12th grade students.  Together with Sixth Presbyterian church we share dinner\, pray\, play\, and explore faith with the flexibility to do service projects\, ‘field trips’\, and whatever else we dream up!  Register Online. \nTeens in  grade 7th-12th also meet for Breakfast on the first Sunday of the month from 9:45-10:45am and after church one Sunday a month for lunch and programing –  see the full schedule here.
URL:https://cathedralofhope.org/event/youth-group/2025-05-01/
CATEGORIES:Children & Youth
ATTACH;FMTTYPE=image/jpeg:https://cathedralofhope.org/wp-content/uploads/2024/09/teen-3-scaled-e1725479018464.jpg
END:VEVENT
BEGIN:VEVENT
DTSTART;TZID=America/Halifax:20250504T094500
DTEND;TZID=America/Halifax:20250504T104500
DTSTAMP:20260425T123046
CREATED:20170901T130547Z
LAST-MODIFIED:20250501T132842Z
UID:10007365-1746351900-1746355500@cathedralofhope.org
SUMMARY:NO Sunday Church School
DESCRIPTION:As a reminder\, there will be no services or Church School on Sunday\, May 4\, due to the route of the Pittsburgh Marathon. Our regular schedule will resume next Sunday\, May 11. \n\nThe ELPC Christian Education (CE) Committee offers Church School classes and events for all ages—from infants to adults. CE is the life-long process of learning and living in relationship to God\, our neighbors\, and ourselves. Through the study of scripture and the practice of prayer\, we begin to understand our life experiences as they relate to the life\, death\, and resurrection of Jesus Christ. Come and join us! Your questions\, insights\, doubts\, and concerns are welcome. \nAdult Church School\nClasses for adults meet on Sundays\, 9:45–10:45 am\, from September through May\, unless otherwise noted. \nView this Week’s Adult Church School Offerings \n\nYouth Sunday School\nThe Nursery\, for children up to age 3  is staffed from 8:30am-12:30pm on Sunday mornings for children to sing songs\, tell stories\, and play. \nChildren age 4- 3rd grade go to Sunday School: Sacred Stories for Kids after the Moments with our Children in the Sanctuary (11:15am)  and parents pick kids up after worship in room 206. \nTweens in grade 4th-6th go to Sunday School: Sacred Stories for Tweens after the Moments with our Children in the Sanctuary (11:15am) and parents pick kids up after worship in room 207. \nTeens in  grade 7th-12th meet for Breakfast on the first Sunday of the month from 9:45-10:45am.  Teens also meet after church one Sunday a month for lunch and programing – see the full schedule here. \n  \n 
URL:https://cathedralofhope.org/event/church-school-2025-05-04/
LOCATION:East Liberty Presbyterian Church\, 116 S. Highland Avenue\, Pittsburgh\, PA\, 15206\, United States
CATEGORIES:Children & Youth,Church Life,Educational & Spiritual Life
ATTACH;FMTTYPE=image/png:https://cathedralofhope.org/wp-content/uploads/2015/09/sunday-school.png
GEO:40.4609708;-79.9253554
X-APPLE-STRUCTURED-LOCATION;VALUE=URI;X-ADDRESS=East Liberty Presbyterian Church 116 S. Highland Avenue Pittsburgh PA 15206 United States;X-APPLE-RADIUS=500;X-TITLE=116 S. Highland Avenue:geo:-79.9253554,40.4609708
END:VEVENT
BEGIN:VEVENT
DTSTART;TZID=America/New_York:20250507T163000
DTEND;TZID=America/New_York:20250507T183000
DTSTAMP:20260425T123046
CREATED:20240904T203355Z
LAST-MODIFIED:20250116T160532Z
UID:10006395-1746635400-1746642600@cathedralofhope.org
SUMMARY:Club 116
DESCRIPTION:Kids in 1st-6th grade gather for Bible study\, crafts\, games in the gym\, and dinner together. \nRegistration is required and can be completed online.
URL:https://cathedralofhope.org/event/club-116/2025-05-07/
CATEGORIES:Children & Youth
ATTACH;FMTTYPE=image/jpeg:https://cathedralofhope.org/wp-content/uploads/2024/09/club-3.jpg
END:VEVENT
BEGIN:VEVENT
DTSTART;TZID=America/New_York:20250508T163000
DTEND;TZID=America/New_York:20250508T190000
DTSTAMP:20260425T123046
CREATED:20240904T204042Z
LAST-MODIFIED:20250116T155650Z
UID:10003433-1746721800-1746730800@cathedralofhope.org
SUMMARY:Youth Group
DESCRIPTION:Thursday Nights is Youth Group for 7th-12th grade students.  Together with Sixth Presbyterian church we share dinner\, pray\, play\, and explore faith with the flexibility to do service projects\, ‘field trips’\, and whatever else we dream up!  Register Online. \nTeens in  grade 7th-12th also meet for Breakfast on the first Sunday of the month from 9:45-10:45am and after church one Sunday a month for lunch and programing –  see the full schedule here.
URL:https://cathedralofhope.org/event/youth-group/2025-05-08/
CATEGORIES:Children & Youth
ATTACH;FMTTYPE=image/jpeg:https://cathedralofhope.org/wp-content/uploads/2024/09/teen-3-scaled-e1725479018464.jpg
END:VEVENT
END:VCALENDAR