BEGIN:VCALENDAR
VERSION:2.0
PRODID:-//East Liberty Presbyterian Church - ECPv6.15.20//NONSGML v1.0//EN
CALSCALE:GREGORIAN
METHOD:PUBLISH
X-ORIGINAL-URL:https://cathedralofhope.org
X-WR-CALDESC:Events for East Liberty Presbyterian Church
REFRESH-INTERVAL;VALUE=DURATION:PT1H
X-Robots-Tag:noindex
X-PUBLISHED-TTL:PT1H
BEGIN:VTIMEZONE
TZID:America/New_York
BEGIN:DAYLIGHT
TZOFFSETFROM:-0500
TZOFFSETTO:-0400
TZNAME:EDT
DTSTART:20250309T070000
END:DAYLIGHT
BEGIN:STANDARD
TZOFFSETFROM:-0400
TZOFFSETTO:-0500
TZNAME:EST
DTSTART:20251102T060000
END:STANDARD
BEGIN:DAYLIGHT
TZOFFSETFROM:-0500
TZOFFSETTO:-0400
TZNAME:EDT
DTSTART:20260308T070000
END:DAYLIGHT
BEGIN:STANDARD
TZOFFSETFROM:-0400
TZOFFSETTO:-0500
TZNAME:EST
DTSTART:20261101T060000
END:STANDARD
BEGIN:DAYLIGHT
TZOFFSETFROM:-0500
TZOFFSETTO:-0400
TZNAME:EDT
DTSTART:20270314T070000
END:DAYLIGHT
BEGIN:STANDARD
TZOFFSETFROM:-0400
TZOFFSETTO:-0500
TZNAME:EST
DTSTART:20271107T060000
END:STANDARD
END:VTIMEZONE
BEGIN:VTIMEZONE
TZID:America/Halifax
BEGIN:DAYLIGHT
TZOFFSETFROM:-0400
TZOFFSETTO:-0300
TZNAME:ADT
DTSTART:20250309T060000
END:DAYLIGHT
BEGIN:STANDARD
TZOFFSETFROM:-0300
TZOFFSETTO:-0400
TZNAME:AST
DTSTART:20251102T050000
END:STANDARD
BEGIN:DAYLIGHT
TZOFFSETFROM:-0400
TZOFFSETTO:-0300
TZNAME:ADT
DTSTART:20260308T060000
END:DAYLIGHT
BEGIN:STANDARD
TZOFFSETFROM:-0300
TZOFFSETTO:-0400
TZNAME:AST
DTSTART:20261101T050000
END:STANDARD
BEGIN:DAYLIGHT
TZOFFSETFROM:-0400
TZOFFSETTO:-0300
TZNAME:ADT
DTSTART:20270314T060000
END:DAYLIGHT
BEGIN:STANDARD
TZOFFSETFROM:-0300
TZOFFSETTO:-0400
TZNAME:AST
DTSTART:20271107T050000
END:STANDARD
END:VTIMEZONE
BEGIN:VEVENT
DTSTART;TZID=America/New_York:20260118T131500
DTEND;TZID=America/New_York:20260118T160000
DTSTAMP:20260423T195137
CREATED:20260114T191911Z
LAST-MODIFIED:20260114T191911Z
UID:10006357-1768742100-1768752000@cathedralofhope.org
SUMMARY:ELPC Families' Variety Show
DESCRIPTION:Families with children and teens are hosting a Variety Show at Ivy Park Nursing and Rehabilitation Center on Sunday\, January 18! Families are invited to eat lunch and coordinate tasks here at ELPC after worship in the First Floor Fellowship Room. We will leave ELPC at 1:15 pm to head over to Ivy Park to set up and welcome residents (you can ride in the church van or drive on your own). Come with a musical performance\, joke\, magic trick\, story\, art piece\, dance or whatever you dream up to share with the residents! Sara will have some fun and easy things folks can help with if you forget your kazoo! \nPlease RSVP to Sara Hackett. \nThere is a small parking lot at 5609 Fifth Ave\, Pittsburgh\, PA 15232\, and street parking behind the building.
URL:https://cathedralofhope.org/event/elpc-families-variety-show/
CATEGORIES:Children & Youth,Featured Events
END:VEVENT
BEGIN:VEVENT
DTSTART;TZID=America/New_York:20260124T100000
DTEND;TZID=America/New_York:20260124T150000
DTSTAMP:20260423T195137
CREATED:20260105T190102Z
LAST-MODIFIED:20260105T190155Z
UID:10006555-1769248800-1769266800@cathedralofhope.org
SUMMARY:Confirmation Retreat
DESCRIPTION:On Saturday\, January 24\, 10 am–3 pm\, our Confirmation Class\, for youth in grades 8–9\, will explore the Bible through conversations\, games\, art projects\, and more…asking questions like\, ”What’s in the Bible? Why don’t Christians agree on what the Bible says? What does it mean that the Bible is the ’Word of God’?” \nContact Sara Hackett with questions.
URL:https://cathedralofhope.org/event/confirmation-retreat/
CATEGORIES:Children & Youth,Featured Events
END:VEVENT
BEGIN:VEVENT
DTSTART;TZID=America/New_York:20260201T094500
DTEND;TZID=America/New_York:20260201T094500
DTSTAMP:20260423T195137
CREATED:20250820T164454Z
LAST-MODIFIED:20250820T164454Z
UID:10006681-1769939100-1769939100@cathedralofhope.org
SUMMARY:Youth Sunday School
DESCRIPTION:7th-12th grade teens meet on the first and third Sunday of the month from 9:45-10:45am in the Second Floor Parlor. \nAlso check out Youth Group for 7th -12th graders happening Thursdays from 4:30-7pm with dinner\, games\, conversation\, God talk\, service projects\, and a lot of laughter. Contact Sara Hackett for more information.
URL:https://cathedralofhope.org/event/youth-sunday-school-2/2026-02-01/
CATEGORIES:Children & Youth
ATTACH;FMTTYPE=image/jpeg:https://cathedralofhope.org/wp-content/uploads/2025/08/20250202_103321-scaled-e1755707879820.jpg
END:VEVENT
BEGIN:VEVENT
DTSTART;TZID=America/New_York:20260201T094500
DTEND;TZID=America/New_York:20260201T104500
DTSTAMP:20260423T195137
CREATED:20250116T171029Z
LAST-MODIFIED:20250820T213853Z
UID:10006269-1769939100-1769942700@cathedralofhope.org
SUMMARY:Open Gym for Families
DESCRIPTION:Parents and kids are welcome to hang out\, drink coffee or juice\, eat a donut\, and play in the gym on the first Sunday of every month from 9:45-10:45am.   If you want to meet other parents or just love basketball or scooters – this is for you!  This is also perfect for parents of older teens (7th-12th grade) who have Sunday School breakfast at the same time – the first Sunday of every month at 9:45am. \nKids must be supervised by their adult during open gym times.
URL:https://cathedralofhope.org/event/open-gym-for-families/2026-02-01/
CATEGORIES:Children & Youth
ATTACH;FMTTYPE=image/jpeg:https://cathedralofhope.org/wp-content/uploads/2025/01/coffee-in-gym-scaled-e1737046786660.jpg
END:VEVENT
BEGIN:VEVENT
DTSTART;TZID=America/New_York:20260215T094500
DTEND;TZID=America/New_York:20260215T094500
DTSTAMP:20260423T195137
CREATED:20250820T164454Z
LAST-MODIFIED:20250820T164454Z
UID:10006682-1771148700-1771148700@cathedralofhope.org
SUMMARY:Youth Sunday School
DESCRIPTION:7th-12th grade teens meet on the first and third Sunday of the month from 9:45-10:45am in the Second Floor Parlor. \nAlso check out Youth Group for 7th -12th graders happening Thursdays from 4:30-7pm with dinner\, games\, conversation\, God talk\, service projects\, and a lot of laughter. Contact Sara Hackett for more information.
URL:https://cathedralofhope.org/event/youth-sunday-school-2/2026-02-15/
CATEGORIES:Children & Youth
ATTACH;FMTTYPE=image/jpeg:https://cathedralofhope.org/wp-content/uploads/2025/08/20250202_103321-scaled-e1755707879820.jpg
END:VEVENT
BEGIN:VEVENT
DTSTART;TZID=America/New_York:20260215T120000
DTEND;TZID=America/New_York:20260215T143000
DTSTAMP:20260423T195137
CREATED:20250820T195956Z
LAST-MODIFIED:20250820T195956Z
UID:10006398-1771156800-1771165800@cathedralofhope.org
SUMMARY:Make Dog Treats for Ellie’s Pet Pantry
DESCRIPTION:Children\, Youth\, and Families are baking and decorating dog treats in the Good Samaritan Room following Sanctuary worship. We’ll be making dog treats for Ellie’s Pet Pantry\, a program at Humane Animal Rescue. Pups and their humans will be thrilled to receive the homemade treats and the love we will put into them! \nLunch will be provided.  Questions and/or RSVP to Sara Hackett \nThe Children and Families Ministry team is hosting monthly family events to foster a caring community of families at ELPC\, where kids and adults feel loved and empowered to explore their faith. \nSave the Date for our Monthly Family Events on the Third Sunday of the month …\nMarch 15 – Board Games with the Happy Wanderers\nApril 19 – Bowling at ELPC\nMay 17 -Service Projects around the Church
URL:https://cathedralofhope.org/event/family-dog-treats/
CATEGORIES:Children & Youth
ATTACH;FMTTYPE=image/png:https://cathedralofhope.org/wp-content/uploads/2023/01/Orange-Dog-Tips-Instagram-Post-8.5-×-11-in-8.5-×-8.5-in.png
END:VEVENT
BEGIN:VEVENT
DTSTART;TZID=America/New_York:20260218T170000
DTEND;TZID=America/New_York:20260218T190000
DTSTAMP:20260423T195137
CREATED:20260205T195325Z
LAST-MODIFIED:20260320T185508Z
UID:10005763-1771434000-1771441200@cathedralofhope.org
SUMMARY:Justice League - Art Edition
DESCRIPTION:Art as Prayer: Visio Divina\nWednesday evenings in Lent\nfrom 5:00-7:00pm\nFamilies and Tweens are invited to share dinner\, make art\, and explore different ways of praying.\nActivities will follow the themes in our Lenten worship and devotional series\, Tell Me Something Good. \nFamilies with kids of any age are welcome and tweens in 3rd-6th grade can join with or without a parent.\nRSVP to Sara Hackett at SaraH@coh.net \nFeb 18th theme: All are Invited\nart: Weaving\ndinner: Lasagna \nFeb 25th theme: So Good it Catches us by Suprise\nart: Pottery with the Union Project\ndinner: Chicken Sandwiches \nMarch 4 theme: Great Love for God and Neighbor\nart: Painting and Gold Leaf\ndinner: Tacos \nMarch 11th theme: Together the Impossible is Possible\nart: Block Printing table cloths\ndinner: Pasta \nMarch 18th theme: All are Invited\nart: Papermaking\ndinner: Pizza \nMarch 25th theme: Inspiring us to Act\nart: Protest Banner/Signs\ndinner: Soup and Grilled Cheese
URL:https://cathedralofhope.org/event/justice-league-art-edition/2026-02-18/
CATEGORIES:Children & Youth,Educational & Spiritual Life,Featured Events
ATTACH;FMTTYPE=image/png:https://cathedralofhope.org/wp-content/uploads/2026/02/Your-paragraph-text-11-x-17-in-e1770321185952.png
END:VEVENT
BEGIN:VEVENT
DTSTART;TZID=America/Halifax:20260222T121500
DTEND;TZID=America/Halifax:20260222T143000
DTSTAMP:20260423T195137
CREATED:20231005T100047Z
LAST-MODIFIED:20260217T135755Z
UID:10003121-1771762500-1771770600@cathedralofhope.org
SUMMARY:Confirmation Class
DESCRIPTION:On Sunday\, February 22\, 12:15–2:30 pm\, the Confirmation Class will have lunch\, learn about the church and what it means to be Presbyterian\, including: what sacraments Presbyterians celebrate\, what type of government Presbyterians use to discern God’s call for the church\, and the questions people are asked in worship when they become members. \nFor more details\, contact Sara Hackett.
URL:https://cathedralofhope.org/event/confirmation-class/
LOCATION:East Liberty Presbyterian Church\, 116 S. Highland Avenue\, Pittsburgh\, PA\, 15206\, United States
CATEGORIES:Children & Youth,Featured Events
ORGANIZER;CN="Sara Hackett":MAILTO:SaraH@coh.net
GEO:40.4609708;-79.9253554
X-APPLE-STRUCTURED-LOCATION;VALUE=URI;X-ADDRESS=East Liberty Presbyterian Church 116 S. Highland Avenue Pittsburgh PA 15206 United States;X-APPLE-RADIUS=500;X-TITLE=116 S. Highland Avenue:geo:-79.9253554,40.4609708
END:VEVENT
BEGIN:VEVENT
DTSTART;TZID=America/New_York:20260225T170000
DTEND;TZID=America/New_York:20260225T190000
DTSTAMP:20260423T195137
CREATED:20260205T195325Z
LAST-MODIFIED:20260320T185508Z
UID:10005764-1772038800-1772046000@cathedralofhope.org
SUMMARY:Justice League - Art Edition
DESCRIPTION:Art as Prayer: Visio Divina\nWednesday evenings in Lent\nfrom 5:00-7:00pm\nFamilies and Tweens are invited to share dinner\, make art\, and explore different ways of praying.\nActivities will follow the themes in our Lenten worship and devotional series\, Tell Me Something Good. \nFamilies with kids of any age are welcome and tweens in 3rd-6th grade can join with or without a parent.\nRSVP to Sara Hackett at SaraH@coh.net \nFeb 18th theme: All are Invited\nart: Weaving\ndinner: Lasagna \nFeb 25th theme: So Good it Catches us by Suprise\nart: Pottery with the Union Project\ndinner: Chicken Sandwiches \nMarch 4 theme: Great Love for God and Neighbor\nart: Painting and Gold Leaf\ndinner: Tacos \nMarch 11th theme: Together the Impossible is Possible\nart: Block Printing table cloths\ndinner: Pasta \nMarch 18th theme: All are Invited\nart: Papermaking\ndinner: Pizza \nMarch 25th theme: Inspiring us to Act\nart: Protest Banner/Signs\ndinner: Soup and Grilled Cheese
URL:https://cathedralofhope.org/event/justice-league-art-edition/2026-02-25/
CATEGORIES:Children & Youth,Educational & Spiritual Life,Featured Events
ATTACH;FMTTYPE=image/png:https://cathedralofhope.org/wp-content/uploads/2026/02/Your-paragraph-text-11-x-17-in-e1770321185952.png
END:VEVENT
BEGIN:VEVENT
DTSTART;TZID=America/New_York:20260228T080000
DTEND;TZID=America/New_York:20260301T120000
DTSTAMP:20260423T195137
CREATED:20260206T213005Z
LAST-MODIFIED:20260206T220946Z
UID:10006850-1772265600-1772366400@cathedralofhope.org
SUMMARY:Tween Retreat
DESCRIPTION:4th through 6th graders can join us for this single night retreat at Crestfield Camp and Conference Center with kids from Presbyterian Churches all around the city.  Crafts\, worship\, games\, campfires\, music\, silliness\, and thoughtful questions always fill these retreats.  You can watch highlights from last year’s retreat here.  We will meet at ELPC at 8am on Saturday morning and return Sunday at noon.  Cost of the retreat is $100 and scholarship money is available.  Parents interested in joining the fun by chaperoning should contact Sara Hackett. \nRegister Here \nRequest a Scholarship
URL:https://cathedralofhope.org/event/tween-retreat-4/
LOCATION:Camp Crestfield & Conference Center\, 195 Taggart Road\, Slippery Rock\, PA\, 16057\, United States
CATEGORIES:Children & Youth
ATTACH;FMTTYPE=image/png:https://cathedralofhope.org/wp-content/uploads/2025/01/tween-retreat-26-1536x1536-1.png
GEO:41.0639506;-80.0564468
X-APPLE-STRUCTURED-LOCATION;VALUE=URI;X-ADDRESS=Camp Crestfield & Conference Center 195 Taggart Road Slippery Rock PA 16057 United States;X-APPLE-RADIUS=500;X-TITLE=195 Taggart Road:geo:-80.0564468,41.0639506
END:VEVENT
BEGIN:VEVENT
DTSTART;TZID=America/New_York:20260301T094500
DTEND;TZID=America/New_York:20260301T094500
DTSTAMP:20260423T195137
CREATED:20250820T164454Z
LAST-MODIFIED:20250820T164454Z
UID:10006683-1772358300-1772358300@cathedralofhope.org
SUMMARY:Youth Sunday School
DESCRIPTION:7th-12th grade teens meet on the first and third Sunday of the month from 9:45-10:45am in the Second Floor Parlor. \nAlso check out Youth Group for 7th -12th graders happening Thursdays from 4:30-7pm with dinner\, games\, conversation\, God talk\, service projects\, and a lot of laughter. Contact Sara Hackett for more information.
URL:https://cathedralofhope.org/event/youth-sunday-school-2/2026-03-01/
CATEGORIES:Children & Youth
ATTACH;FMTTYPE=image/jpeg:https://cathedralofhope.org/wp-content/uploads/2025/08/20250202_103321-scaled-e1755707879820.jpg
END:VEVENT
BEGIN:VEVENT
DTSTART;TZID=America/New_York:20260301T094500
DTEND;TZID=America/New_York:20260301T104500
DTSTAMP:20260423T195137
CREATED:20250116T171029Z
LAST-MODIFIED:20250820T213853Z
UID:10006270-1772358300-1772361900@cathedralofhope.org
SUMMARY:Open Gym for Families
DESCRIPTION:Parents and kids are welcome to hang out\, drink coffee or juice\, eat a donut\, and play in the gym on the first Sunday of every month from 9:45-10:45am.   If you want to meet other parents or just love basketball or scooters – this is for you!  This is also perfect for parents of older teens (7th-12th grade) who have Sunday School breakfast at the same time – the first Sunday of every month at 9:45am. \nKids must be supervised by their adult during open gym times.
URL:https://cathedralofhope.org/event/open-gym-for-families/2026-03-01/
CATEGORIES:Children & Youth
ATTACH;FMTTYPE=image/jpeg:https://cathedralofhope.org/wp-content/uploads/2025/01/coffee-in-gym-scaled-e1737046786660.jpg
END:VEVENT
BEGIN:VEVENT
DTSTART;TZID=America/New_York:20260304T170000
DTEND;TZID=America/New_York:20260304T190000
DTSTAMP:20260423T195137
CREATED:20260205T195325Z
LAST-MODIFIED:20260320T185508Z
UID:10005765-1772643600-1772650800@cathedralofhope.org
SUMMARY:Justice League - Art Edition
DESCRIPTION:Art as Prayer: Visio Divina\nWednesday evenings in Lent\nfrom 5:00-7:00pm\nFamilies and Tweens are invited to share dinner\, make art\, and explore different ways of praying.\nActivities will follow the themes in our Lenten worship and devotional series\, Tell Me Something Good. \nFamilies with kids of any age are welcome and tweens in 3rd-6th grade can join with or without a parent.\nRSVP to Sara Hackett at SaraH@coh.net \nFeb 18th theme: All are Invited\nart: Weaving\ndinner: Lasagna \nFeb 25th theme: So Good it Catches us by Suprise\nart: Pottery with the Union Project\ndinner: Chicken Sandwiches \nMarch 4 theme: Great Love for God and Neighbor\nart: Painting and Gold Leaf\ndinner: Tacos \nMarch 11th theme: Together the Impossible is Possible\nart: Block Printing table cloths\ndinner: Pasta \nMarch 18th theme: All are Invited\nart: Papermaking\ndinner: Pizza \nMarch 25th theme: Inspiring us to Act\nart: Protest Banner/Signs\ndinner: Soup and Grilled Cheese
URL:https://cathedralofhope.org/event/justice-league-art-edition/2026-03-04/
CATEGORIES:Children & Youth,Educational & Spiritual Life,Featured Events
ATTACH;FMTTYPE=image/png:https://cathedralofhope.org/wp-content/uploads/2026/02/Your-paragraph-text-11-x-17-in-e1770321185952.png
END:VEVENT
BEGIN:VEVENT
DTSTART;TZID=America/New_York:20260311T170000
DTEND;TZID=America/New_York:20260311T190000
DTSTAMP:20260423T195137
CREATED:20260205T195325Z
LAST-MODIFIED:20260320T185508Z
UID:10005766-1773248400-1773255600@cathedralofhope.org
SUMMARY:Justice League - Art Edition
DESCRIPTION:Art as Prayer: Visio Divina\nWednesday evenings in Lent\nfrom 5:00-7:00pm\nFamilies and Tweens are invited to share dinner\, make art\, and explore different ways of praying.\nActivities will follow the themes in our Lenten worship and devotional series\, Tell Me Something Good. \nFamilies with kids of any age are welcome and tweens in 3rd-6th grade can join with or without a parent.\nRSVP to Sara Hackett at SaraH@coh.net \nFeb 18th theme: All are Invited\nart: Weaving\ndinner: Lasagna \nFeb 25th theme: So Good it Catches us by Suprise\nart: Pottery with the Union Project\ndinner: Chicken Sandwiches \nMarch 4 theme: Great Love for God and Neighbor\nart: Painting and Gold Leaf\ndinner: Tacos \nMarch 11th theme: Together the Impossible is Possible\nart: Block Printing table cloths\ndinner: Pasta \nMarch 18th theme: All are Invited\nart: Papermaking\ndinner: Pizza \nMarch 25th theme: Inspiring us to Act\nart: Protest Banner/Signs\ndinner: Soup and Grilled Cheese
URL:https://cathedralofhope.org/event/justice-league-art-edition/2026-03-11/
CATEGORIES:Children & Youth,Educational & Spiritual Life,Featured Events
ATTACH;FMTTYPE=image/png:https://cathedralofhope.org/wp-content/uploads/2026/02/Your-paragraph-text-11-x-17-in-e1770321185952.png
END:VEVENT
BEGIN:VEVENT
DTSTART;TZID=America/New_York:20260315T094500
DTEND;TZID=America/New_York:20260315T094500
DTSTAMP:20260423T195137
CREATED:20250820T164454Z
LAST-MODIFIED:20250820T164454Z
UID:10006684-1773567900-1773567900@cathedralofhope.org
SUMMARY:Youth Sunday School
DESCRIPTION:7th-12th grade teens meet on the first and third Sunday of the month from 9:45-10:45am in the Second Floor Parlor. \nAlso check out Youth Group for 7th -12th graders happening Thursdays from 4:30-7pm with dinner\, games\, conversation\, God talk\, service projects\, and a lot of laughter. Contact Sara Hackett for more information.
URL:https://cathedralofhope.org/event/youth-sunday-school-2/2026-03-15/
CATEGORIES:Children & Youth
ATTACH;FMTTYPE=image/jpeg:https://cathedralofhope.org/wp-content/uploads/2025/08/20250202_103321-scaled-e1755707879820.jpg
END:VEVENT
BEGIN:VEVENT
DTSTART;TZID=America/New_York:20260318T170000
DTEND;TZID=America/New_York:20260318T190000
DTSTAMP:20260423T195137
CREATED:20260205T195325Z
LAST-MODIFIED:20260320T185508Z
UID:10005767-1773853200-1773860400@cathedralofhope.org
SUMMARY:Justice League - Art Edition
DESCRIPTION:Art as Prayer: Visio Divina\nWednesday evenings in Lent\nfrom 5:00-7:00pm\nFamilies and Tweens are invited to share dinner\, make art\, and explore different ways of praying.\nActivities will follow the themes in our Lenten worship and devotional series\, Tell Me Something Good. \nFamilies with kids of any age are welcome and tweens in 3rd-6th grade can join with or without a parent.\nRSVP to Sara Hackett at SaraH@coh.net \nFeb 18th theme: All are Invited\nart: Weaving\ndinner: Lasagna \nFeb 25th theme: So Good it Catches us by Suprise\nart: Pottery with the Union Project\ndinner: Chicken Sandwiches \nMarch 4 theme: Great Love for God and Neighbor\nart: Painting and Gold Leaf\ndinner: Tacos \nMarch 11th theme: Together the Impossible is Possible\nart: Block Printing table cloths\ndinner: Pasta \nMarch 18th theme: All are Invited\nart: Papermaking\ndinner: Pizza \nMarch 25th theme: Inspiring us to Act\nart: Protest Banner/Signs\ndinner: Soup and Grilled Cheese
URL:https://cathedralofhope.org/event/justice-league-art-edition/2026-03-18/
CATEGORIES:Children & Youth,Educational & Spiritual Life,Featured Events
ATTACH;FMTTYPE=image/png:https://cathedralofhope.org/wp-content/uploads/2026/02/Your-paragraph-text-11-x-17-in-e1770321185952.png
END:VEVENT
BEGIN:VEVENT
DTSTART;TZID=America/New_York:20260325T170000
DTEND;TZID=America/New_York:20260325T190000
DTSTAMP:20260423T195137
CREATED:20260205T195325Z
LAST-MODIFIED:20260320T185508Z
UID:10005768-1774458000-1774465200@cathedralofhope.org
SUMMARY:Justice League - Art Edition
DESCRIPTION:Art as Prayer: Visio Divina\nWednesday evenings in Lent\nfrom 5:00-7:00pm\nFamilies and Tweens are invited to share dinner\, make art\, and explore different ways of praying.\nActivities will follow the themes in our Lenten worship and devotional series\, Tell Me Something Good. \nFamilies with kids of any age are welcome and tweens in 3rd-6th grade can join with or without a parent.\nRSVP to Sara Hackett at SaraH@coh.net \nFeb 18th theme: All are Invited\nart: Weaving\ndinner: Lasagna \nFeb 25th theme: So Good it Catches us by Suprise\nart: Pottery with the Union Project\ndinner: Chicken Sandwiches \nMarch 4 theme: Great Love for God and Neighbor\nart: Painting and Gold Leaf\ndinner: Tacos \nMarch 11th theme: Together the Impossible is Possible\nart: Block Printing table cloths\ndinner: Pasta \nMarch 18th theme: All are Invited\nart: Papermaking\ndinner: Pizza \nMarch 25th theme: Inspiring us to Act\nart: Protest Banner/Signs\ndinner: Soup and Grilled Cheese
URL:https://cathedralofhope.org/event/justice-league-art-edition/2026-03-25/
CATEGORIES:Children & Youth,Educational & Spiritual Life,Featured Events
ATTACH;FMTTYPE=image/png:https://cathedralofhope.org/wp-content/uploads/2026/02/Your-paragraph-text-11-x-17-in-e1770321185952.png
END:VEVENT
BEGIN:VEVENT
DTSTART;TZID=America/New_York:20260405T094500
DTEND;TZID=America/New_York:20260405T104500
DTSTAMP:20260423T195137
CREATED:20250116T171029Z
LAST-MODIFIED:20250820T213853Z
UID:10006271-1775382300-1775385900@cathedralofhope.org
SUMMARY:Open Gym for Families
DESCRIPTION:Parents and kids are welcome to hang out\, drink coffee or juice\, eat a donut\, and play in the gym on the first Sunday of every month from 9:45-10:45am.   If you want to meet other parents or just love basketball or scooters – this is for you!  This is also perfect for parents of older teens (7th-12th grade) who have Sunday School breakfast at the same time – the first Sunday of every month at 9:45am. \nKids must be supervised by their adult during open gym times.
URL:https://cathedralofhope.org/event/open-gym-for-families/2026-04-05/
CATEGORIES:Children & Youth
ATTACH;FMTTYPE=image/jpeg:https://cathedralofhope.org/wp-content/uploads/2025/01/coffee-in-gym-scaled-e1737046786660.jpg
END:VEVENT
BEGIN:VEVENT
DTSTART;TZID=America/New_York:20260419T094500
DTEND;TZID=America/New_York:20260419T094500
DTSTAMP:20260423T195137
CREATED:20250820T164558Z
LAST-MODIFIED:20250820T164558Z
UID:10006201-1776591900-1776591900@cathedralofhope.org
SUMMARY:Youth Sunday School
DESCRIPTION:7th-12th grade teens meet on the first and third Sunday of the month from 9:45-10:45am in the Second Floor Parlor. \nAlso check out Youth Group for 7th -12th graders happening Thursdays from 4:30-7pm with dinner\, games\, conversation\, God talk\, service projects\, and a lot of laughter. Contact Sara Hackett for more information.
URL:https://cathedralofhope.org/event/youth-sunday-school-3/2026-04-19/
CATEGORIES:Children & Youth
ATTACH;FMTTYPE=image/jpeg:https://cathedralofhope.org/wp-content/uploads/2025/08/20250202_103321-scaled-e1755707879820.jpg
END:VEVENT
BEGIN:VEVENT
DTSTART;TZID=America/New_York:20260419T120000
DTEND;TZID=America/New_York:20260419T140000
DTSTAMP:20260423T195137
CREATED:20250820T195543Z
LAST-MODIFIED:20250820T212122Z
UID:10006399-1776600000-1776607200@cathedralofhope.org
SUMMARY:Family Bowling
DESCRIPTION:Families with children and teens are invited to stay after Sanctuary worship on Sunday\, April 19 for pizza and bowling. RSVP to Sara Hackett. \nThe Children and Families Ministry team is hosting monthly family events to foster a caring community of families at ELPC\, where kids and adults feel loved and empowered to explore their faith. \nSave the Date for our Monthly Family Events …\nMay 17 -Service Projects around the Church
URL:https://cathedralofhope.org/event/family-bowling-3/
LOCATION:ELPC – Bowling Alley
CATEGORIES:Children & Youth,Featured Events
ATTACH;FMTTYPE=image/png:https://cathedralofhope.org/wp-content/uploads/2025/08/variety-show-3.png
END:VEVENT
BEGIN:VEVENT
DTSTART;TZID=America/New_York:20260426T123000
DTEND;TZID=America/New_York:20260426T140000
DTSTAMP:20260423T195137
CREATED:20241226T212437Z
LAST-MODIFIED:20260423T133852Z
UID:10006764-1777206600-1777212000@cathedralofhope.org
SUMMARY:Tween Mini Golf
DESCRIPTION:On Sunday\, January 26\, 12:30–2 pm\, all tweens are invited to help create a mini golf course around the church and then play a round. Bonus points if you get a hole in one in the bell tower! Friends are welcome and lunch will be served. \nPlease RSVP to Sara Hackett.
URL:https://cathedralofhope.org/event/tween-mini-golf-3/
LOCATION:East Liberty Presbyterian Church\, 116 S. Highland Avenue\, Pittsburgh\, PA\, 15206\, United States
CATEGORIES:Children & Youth,Featured Events
ATTACH;FMTTYPE=image/png:https://cathedralofhope.org/wp-content/uploads/2024/12/img_teen-mini-golf.png
GEO:40.4609708;-79.9253554
X-APPLE-STRUCTURED-LOCATION;VALUE=URI;X-ADDRESS=East Liberty Presbyterian Church 116 S. Highland Avenue Pittsburgh PA 15206 United States;X-APPLE-RADIUS=500;X-TITLE=116 S. Highland Avenue:geo:-79.9253554,40.4609708
END:VEVENT
BEGIN:VEVENT
DTSTART;TZID=America/New_York:20260503T094500
DTEND;TZID=America/New_York:20260503T094500
DTSTAMP:20260423T195137
CREATED:20250820T164558Z
LAST-MODIFIED:20250820T164558Z
UID:10006202-1777801500-1777801500@cathedralofhope.org
SUMMARY:Youth Sunday School
DESCRIPTION:7th-12th grade teens meet on the first and third Sunday of the month from 9:45-10:45am in the Second Floor Parlor. \nAlso check out Youth Group for 7th -12th graders happening Thursdays from 4:30-7pm with dinner\, games\, conversation\, God talk\, service projects\, and a lot of laughter. Contact Sara Hackett for more information.
URL:https://cathedralofhope.org/event/youth-sunday-school-3/2026-05-03/
CATEGORIES:Children & Youth
ATTACH;FMTTYPE=image/jpeg:https://cathedralofhope.org/wp-content/uploads/2025/08/20250202_103321-scaled-e1755707879820.jpg
END:VEVENT
BEGIN:VEVENT
DTSTART;TZID=America/New_York:20260517T094500
DTEND;TZID=America/New_York:20260517T094500
DTSTAMP:20260423T195137
CREATED:20250820T164558Z
LAST-MODIFIED:20250820T164558Z
UID:10006203-1779011100-1779011100@cathedralofhope.org
SUMMARY:Youth Sunday School
DESCRIPTION:7th-12th grade teens meet on the first and third Sunday of the month from 9:45-10:45am in the Second Floor Parlor. \nAlso check out Youth Group for 7th -12th graders happening Thursdays from 4:30-7pm with dinner\, games\, conversation\, God talk\, service projects\, and a lot of laughter. Contact Sara Hackett for more information.
URL:https://cathedralofhope.org/event/youth-sunday-school-3/2026-05-17/
CATEGORIES:Children & Youth
ATTACH;FMTTYPE=image/jpeg:https://cathedralofhope.org/wp-content/uploads/2025/08/20250202_103321-scaled-e1755707879820.jpg
END:VEVENT
END:VCALENDAR