BEGIN:VCALENDAR
VERSION:2.0
PRODID:-//East Liberty Presbyterian Church - ECPv6.15.20//NONSGML v1.0//EN
CALSCALE:GREGORIAN
METHOD:PUBLISH
X-WR-CALNAME:East Liberty Presbyterian Church
X-ORIGINAL-URL:https://cathedralofhope.org
X-WR-CALDESC:Events for East Liberty Presbyterian Church
REFRESH-INTERVAL;VALUE=DURATION:PT1H
X-Robots-Tag:noindex
X-PUBLISHED-TTL:PT1H
BEGIN:VTIMEZONE
TZID:America/New_York
BEGIN:DAYLIGHT
TZOFFSETFROM:-0500
TZOFFSETTO:-0400
TZNAME:EDT
DTSTART:20240310T070000
END:DAYLIGHT
BEGIN:STANDARD
TZOFFSETFROM:-0400
TZOFFSETTO:-0500
TZNAME:EST
DTSTART:20241103T060000
END:STANDARD
BEGIN:DAYLIGHT
TZOFFSETFROM:-0500
TZOFFSETTO:-0400
TZNAME:EDT
DTSTART:20250309T070000
END:DAYLIGHT
BEGIN:STANDARD
TZOFFSETFROM:-0400
TZOFFSETTO:-0500
TZNAME:EST
DTSTART:20251102T060000
END:STANDARD
BEGIN:DAYLIGHT
TZOFFSETFROM:-0500
TZOFFSETTO:-0400
TZNAME:EDT
DTSTART:20260308T070000
END:DAYLIGHT
BEGIN:STANDARD
TZOFFSETFROM:-0400
TZOFFSETTO:-0500
TZNAME:EST
DTSTART:20261101T060000
END:STANDARD
END:VTIMEZONE
BEGIN:VTIMEZONE
TZID:America/Halifax
BEGIN:DAYLIGHT
TZOFFSETFROM:-0400
TZOFFSETTO:-0300
TZNAME:ADT
DTSTART:20240310T060000
END:DAYLIGHT
BEGIN:STANDARD
TZOFFSETFROM:-0300
TZOFFSETTO:-0400
TZNAME:AST
DTSTART:20241103T050000
END:STANDARD
BEGIN:DAYLIGHT
TZOFFSETFROM:-0400
TZOFFSETTO:-0300
TZNAME:ADT
DTSTART:20250309T060000
END:DAYLIGHT
BEGIN:STANDARD
TZOFFSETFROM:-0300
TZOFFSETTO:-0400
TZNAME:AST
DTSTART:20251102T050000
END:STANDARD
BEGIN:DAYLIGHT
TZOFFSETFROM:-0400
TZOFFSETTO:-0300
TZNAME:ADT
DTSTART:20260308T060000
END:DAYLIGHT
BEGIN:STANDARD
TZOFFSETFROM:-0300
TZOFFSETTO:-0400
TZNAME:AST
DTSTART:20261101T050000
END:STANDARD
END:VTIMEZONE
BEGIN:VEVENT
DTSTART;TZID=America/New_York:20251016T163000
DTEND;TZID=America/New_York:20251016T163000
DTSTAMP:20260423T180119
CREATED:20250813T190210Z
LAST-MODIFIED:20250820T201046Z
UID:10006733-1760632200-1760632200@cathedralofhope.org
SUMMARY:Youth Group
DESCRIPTION:Thursday Nights is Youth Group for 7th-12th grade students.  Together with Sixth Presbyterian church we share dinner\, pray\, play\, and explore faith with the flexibility to do service projects\, ‘field trips’\, and whatever else we dream up!  Register Online. \nTeens in  grade 7th-12th also meet for Sunday School on the first and third Sundays of the month from 9:45-10:45am in the Second Floor Parlor.
URL:https://cathedralofhope.org/event/youth-group-2/2025-10-16/
CATEGORIES:Children & Youth
ATTACH;FMTTYPE=image/jpeg:https://cathedralofhope.org/wp-content/uploads/2024/09/teen-3-scaled-e1725479018464.jpg
END:VEVENT
BEGIN:VEVENT
DTSTART;TZID=America/New_York:20251015T170000
DTEND;TZID=America/New_York:20251015T170000
DTSTAMP:20260423T180119
CREATED:20250820T220443Z
LAST-MODIFIED:20250820T220443Z
UID:10006486-1760547600-1760547600@cathedralofhope.org
SUMMARY:Tween Justice League
DESCRIPTION:Justice League – NEW in October and November\nWednesday from 5-7pm for 3rd-6th grade students and teen volunteers.\nEach week we will eat dinner\, look at what Jesus taught about love and justice\, do a service project\, and HAVE FUN! \nRegister Here
URL:https://cathedralofhope.org/event/tween-justice-league/2025-10-15/
CATEGORIES:Children & Youth
ATTACH;FMTTYPE=image/png:https://cathedralofhope.org/wp-content/uploads/2025/08/Justice-League-ELPC-8.5-x-8.5-in.png
END:VEVENT
BEGIN:VEVENT
DTSTART;TZID=America/New_York:20251009T163000
DTEND;TZID=America/New_York:20251009T163000
DTSTAMP:20260423T180119
CREATED:20250813T190210Z
LAST-MODIFIED:20250820T201046Z
UID:10006732-1760027400-1760027400@cathedralofhope.org
SUMMARY:Youth Group
DESCRIPTION:Thursday Nights is Youth Group for 7th-12th grade students.  Together with Sixth Presbyterian church we share dinner\, pray\, play\, and explore faith with the flexibility to do service projects\, ‘field trips’\, and whatever else we dream up!  Register Online. \nTeens in  grade 7th-12th also meet for Sunday School on the first and third Sundays of the month from 9:45-10:45am in the Second Floor Parlor.
URL:https://cathedralofhope.org/event/youth-group-2/2025-10-09/
CATEGORIES:Children & Youth
ATTACH;FMTTYPE=image/jpeg:https://cathedralofhope.org/wp-content/uploads/2024/09/teen-3-scaled-e1725479018464.jpg
END:VEVENT
BEGIN:VEVENT
DTSTART;TZID=America/New_York:20251008T170000
DTEND;TZID=America/New_York:20251008T170000
DTSTAMP:20260423T180119
CREATED:20250820T220443Z
LAST-MODIFIED:20250820T220443Z
UID:10006485-1759942800-1759942800@cathedralofhope.org
SUMMARY:Tween Justice League
DESCRIPTION:Justice League – NEW in October and November\nWednesday from 5-7pm for 3rd-6th grade students and teen volunteers.\nEach week we will eat dinner\, look at what Jesus taught about love and justice\, do a service project\, and HAVE FUN! \nRegister Here
URL:https://cathedralofhope.org/event/tween-justice-league/2025-10-08/
CATEGORIES:Children & Youth
ATTACH;FMTTYPE=image/png:https://cathedralofhope.org/wp-content/uploads/2025/08/Justice-League-ELPC-8.5-x-8.5-in.png
END:VEVENT
BEGIN:VEVENT
DTSTART;TZID=America/New_York:20251005T094500
DTEND;TZID=America/New_York:20251005T104500
DTSTAMP:20260423T180119
CREATED:20250116T171029Z
LAST-MODIFIED:20250820T213853Z
UID:10006265-1759657500-1759661100@cathedralofhope.org
SUMMARY:Open Gym for Families
DESCRIPTION:Parents and kids are welcome to hang out\, drink coffee or juice\, eat a donut\, and play in the gym on the first Sunday of every month from 9:45-10:45am.   If you want to meet other parents or just love basketball or scooters – this is for you!  This is also perfect for parents of older teens (7th-12th grade) who have Sunday School breakfast at the same time – the first Sunday of every month at 9:45am. \nKids must be supervised by their adult during open gym times.
URL:https://cathedralofhope.org/event/open-gym-for-families/2025-10-05/
CATEGORIES:Children & Youth
ATTACH;FMTTYPE=image/jpeg:https://cathedralofhope.org/wp-content/uploads/2025/01/coffee-in-gym-scaled-e1737046786660.jpg
END:VEVENT
BEGIN:VEVENT
DTSTART;TZID=America/New_York:20251005T094500
DTEND;TZID=America/New_York:20251005T094500
DTSTAMP:20260423T180119
CREATED:20250820T164230Z
LAST-MODIFIED:20250820T164230Z
UID:10000024-1759657500-1759657500@cathedralofhope.org
SUMMARY:Youth Sunday School
DESCRIPTION:7th-12th grade teens meet on the first and third Sunday of the month from 9:45-10:45am in the Second Floor Parlor. \nAlso check out Youth Group for 7th -12th graders happening Thursdays from 4:30-7pm with dinner\, games\, conversation\, God talk\, service projects\, and a lot of laughter. Contact Sara Hackett for more information.
URL:https://cathedralofhope.org/event/youth-sunday-school/2025-10-05/
CATEGORIES:Children & Youth
ATTACH;FMTTYPE=image/jpeg:https://cathedralofhope.org/wp-content/uploads/2025/08/20250202_103321-scaled-e1755707879820.jpg
END:VEVENT
BEGIN:VEVENT
DTSTART;TZID=America/New_York:20251002T163000
DTEND;TZID=America/New_York:20251002T163000
DTSTAMP:20260423T180119
CREATED:20250813T190210Z
LAST-MODIFIED:20250820T201046Z
UID:10006731-1759422600-1759422600@cathedralofhope.org
SUMMARY:Youth Group
DESCRIPTION:Thursday Nights is Youth Group for 7th-12th grade students.  Together with Sixth Presbyterian church we share dinner\, pray\, play\, and explore faith with the flexibility to do service projects\, ‘field trips’\, and whatever else we dream up!  Register Online. \nTeens in  grade 7th-12th also meet for Sunday School on the first and third Sundays of the month from 9:45-10:45am in the Second Floor Parlor.
URL:https://cathedralofhope.org/event/youth-group-2/2025-10-02/
CATEGORIES:Children & Youth
ATTACH;FMTTYPE=image/jpeg:https://cathedralofhope.org/wp-content/uploads/2024/09/teen-3-scaled-e1725479018464.jpg
END:VEVENT
BEGIN:VEVENT
DTSTART;TZID=America/New_York:20251001T170000
DTEND;TZID=America/New_York:20251001T170000
DTSTAMP:20260423T180119
CREATED:20250820T220443Z
LAST-MODIFIED:20250820T220443Z
UID:10006484-1759338000-1759338000@cathedralofhope.org
SUMMARY:Tween Justice League
DESCRIPTION:Justice League – NEW in October and November\nWednesday from 5-7pm for 3rd-6th grade students and teen volunteers.\nEach week we will eat dinner\, look at what Jesus taught about love and justice\, do a service project\, and HAVE FUN! \nRegister Here
URL:https://cathedralofhope.org/event/tween-justice-league/2025-10-01/
CATEGORIES:Children & Youth
ATTACH;FMTTYPE=image/png:https://cathedralofhope.org/wp-content/uploads/2025/08/Justice-League-ELPC-8.5-x-8.5-in.png
END:VEVENT
BEGIN:VEVENT
DTSTART;TZID=America/New_York:20250925T163000
DTEND;TZID=America/New_York:20250925T163000
DTSTAMP:20260423T180119
CREATED:20250813T190210Z
LAST-MODIFIED:20250820T201046Z
UID:10006730-1758817800-1758817800@cathedralofhope.org
SUMMARY:Youth Group
DESCRIPTION:Thursday Nights is Youth Group for 7th-12th grade students.  Together with Sixth Presbyterian church we share dinner\, pray\, play\, and explore faith with the flexibility to do service projects\, ‘field trips’\, and whatever else we dream up!  Register Online. \nTeens in  grade 7th-12th also meet for Sunday School on the first and third Sundays of the month from 9:45-10:45am in the Second Floor Parlor.
URL:https://cathedralofhope.org/event/youth-group-2/2025-09-25/
CATEGORIES:Children & Youth
ATTACH;FMTTYPE=image/jpeg:https://cathedralofhope.org/wp-content/uploads/2024/09/teen-3-scaled-e1725479018464.jpg
END:VEVENT
BEGIN:VEVENT
DTSTART;TZID=America/New_York:20250921T120000
DTEND;TZID=America/New_York:20250921T133000
DTSTAMP:20260423T180119
CREATED:20250820T170435Z
LAST-MODIFIED:20250827T223659Z
UID:10006763-1758456000-1758461400@cathedralofhope.org
SUMMARY:Family Picnic and Games
DESCRIPTION:Join us after worship Sept 21st for a picnic and games in the play yard on Balm Blvd. as we kick off the year and share information about our 25/26 program year. RSVPs to Sara Hackett appreciated but if you decide that day you can join us … PERFECT! \nThe Children and Families Ministry team is hosting monthly family events to foster a caring community of families at ELPC\, where kids and adults feel loved and empowered to explore their faith. \nSave the Date for our Monthly Family Events on the Third Sunday of the month …\n\nOctober 19 – Bowling at ELPC\nNovember 16 – Arts and Crafts\nDecember 21 – Hot Chocolate following the Christmas Pageant\nJanuary 18 – Host a Variety Show at the Nursing Home\nFebruary 15 – Make Dog Treats for Ellie’s Pet Pantry\nMarch 15 – Board Games with the Happy Wanderers\nApril 19 – Bowling at ELPC\nMay 17 -Service Projects around the Church
URL:https://cathedralofhope.org/event/family-picnic-and-games/
CATEGORIES:Children & Youth,Featured Events
ATTACH;FMTTYPE=image/jpeg:https://cathedralofhope.org/wp-content/uploads/2025/08/corn-hole.jpg
END:VEVENT
BEGIN:VEVENT
DTSTART;TZID=America/New_York:20250921T094500
DTEND;TZID=America/New_York:20250921T094500
DTSTAMP:20260423T180119
CREATED:20250820T164230Z
LAST-MODIFIED:20250820T164230Z
UID:10000023-1758447900-1758447900@cathedralofhope.org
SUMMARY:Youth Sunday School
DESCRIPTION:7th-12th grade teens meet on the first and third Sunday of the month from 9:45-10:45am in the Second Floor Parlor. \nAlso check out Youth Group for 7th -12th graders happening Thursdays from 4:30-7pm with dinner\, games\, conversation\, God talk\, service projects\, and a lot of laughter. Contact Sara Hackett for more information.
URL:https://cathedralofhope.org/event/youth-sunday-school/2025-09-21/
CATEGORIES:Children & Youth
ATTACH;FMTTYPE=image/jpeg:https://cathedralofhope.org/wp-content/uploads/2025/08/20250202_103321-scaled-e1755707879820.jpg
END:VEVENT
BEGIN:VEVENT
DTSTART;TZID=America/New_York:20250918T163000
DTEND;TZID=America/New_York:20250918T163000
DTSTAMP:20260423T180119
CREATED:20250813T190210Z
LAST-MODIFIED:20250820T201046Z
UID:10006729-1758213000-1758213000@cathedralofhope.org
SUMMARY:Youth Group
DESCRIPTION:Thursday Nights is Youth Group for 7th-12th grade students.  Together with Sixth Presbyterian church we share dinner\, pray\, play\, and explore faith with the flexibility to do service projects\, ‘field trips’\, and whatever else we dream up!  Register Online. \nTeens in  grade 7th-12th also meet for Sunday School on the first and third Sundays of the month from 9:45-10:45am in the Second Floor Parlor.
URL:https://cathedralofhope.org/event/youth-group-2/2025-09-18/
CATEGORIES:Children & Youth
ATTACH;FMTTYPE=image/jpeg:https://cathedralofhope.org/wp-content/uploads/2024/09/teen-3-scaled-e1725479018464.jpg
END:VEVENT
BEGIN:VEVENT
DTSTART;TZID=America/New_York:20250913T123000
DTEND;TZID=America/New_York:20250913T163000
DTSTAMP:20260423T180119
CREATED:20250827T222703Z
LAST-MODIFIED:20250827T222703Z
UID:10006213-1757766600-1757781000@cathedralofhope.org
SUMMARY:Tween Corn Maze
DESCRIPTION:Tweens in grades 4–6 are heading to Gearhead Farms in Murrysville for a corn maze and hayride.  The cost is $10 to cover the maze and scholarships are available.  RSVP to Sara Hackett \nsee this year’s full tween schedule here
URL:https://cathedralofhope.org/event/tween-corn-maze-2/
CATEGORIES:Children & Youth
ATTACH;FMTTYPE=image/jpeg:https://cathedralofhope.org/wp-content/uploads/2023/09/imf_Howling-Hills-Corn-Maze.jpg
END:VEVENT
BEGIN:VEVENT
DTSTART;TZID=America/New_York:20250911T163000
DTEND;TZID=America/New_York:20250911T163000
DTSTAMP:20260423T180119
CREATED:20250813T190210Z
LAST-MODIFIED:20250820T201046Z
UID:10006728-1757608200-1757608200@cathedralofhope.org
SUMMARY:Youth Group
DESCRIPTION:Thursday Nights is Youth Group for 7th-12th grade students.  Together with Sixth Presbyterian church we share dinner\, pray\, play\, and explore faith with the flexibility to do service projects\, ‘field trips’\, and whatever else we dream up!  Register Online. \nTeens in  grade 7th-12th also meet for Sunday School on the first and third Sundays of the month from 9:45-10:45am in the Second Floor Parlor.
URL:https://cathedralofhope.org/event/youth-group-2/2025-09-11/
CATEGORIES:Children & Youth
ATTACH;FMTTYPE=image/jpeg:https://cathedralofhope.org/wp-content/uploads/2024/09/teen-3-scaled-e1725479018464.jpg
END:VEVENT
BEGIN:VEVENT
DTSTART;TZID=America/New_York:20250907T094500
DTEND;TZID=America/New_York:20250907T104500
DTSTAMP:20260423T180119
CREATED:20250116T171029Z
LAST-MODIFIED:20250820T213853Z
UID:10006264-1757238300-1757241900@cathedralofhope.org
SUMMARY:Open Gym for Families
DESCRIPTION:Parents and kids are welcome to hang out\, drink coffee or juice\, eat a donut\, and play in the gym on the first Sunday of every month from 9:45-10:45am.   If you want to meet other parents or just love basketball or scooters – this is for you!  This is also perfect for parents of older teens (7th-12th grade) who have Sunday School breakfast at the same time – the first Sunday of every month at 9:45am. \nKids must be supervised by their adult during open gym times.
URL:https://cathedralofhope.org/event/open-gym-for-families/2025-09-07/
CATEGORIES:Children & Youth
ATTACH;FMTTYPE=image/jpeg:https://cathedralofhope.org/wp-content/uploads/2025/01/coffee-in-gym-scaled-e1737046786660.jpg
END:VEVENT
BEGIN:VEVENT
DTSTART;TZID=America/New_York:20250907T094500
DTEND;TZID=America/New_York:20250907T094500
DTSTAMP:20260423T180119
CREATED:20250820T164230Z
LAST-MODIFIED:20250820T164230Z
UID:10000022-1757238300-1757238300@cathedralofhope.org
SUMMARY:Youth Sunday School
DESCRIPTION:7th-12th grade teens meet on the first and third Sunday of the month from 9:45-10:45am in the Second Floor Parlor. \nAlso check out Youth Group for 7th -12th graders happening Thursdays from 4:30-7pm with dinner\, games\, conversation\, God talk\, service projects\, and a lot of laughter. Contact Sara Hackett for more information.
URL:https://cathedralofhope.org/event/youth-sunday-school/2025-09-07/
CATEGORIES:Children & Youth
ATTACH;FMTTYPE=image/jpeg:https://cathedralofhope.org/wp-content/uploads/2025/08/20250202_103321-scaled-e1755707879820.jpg
END:VEVENT
BEGIN:VEVENT
DTSTART;TZID=America/New_York:20250728T000000
DTEND;TZID=America/New_York:20250731T000000
DTSTAMP:20260423T180119
CREATED:20250207T212102Z
LAST-MODIFIED:20250207T212233Z
UID:10003608-1753660800-1753920000@cathedralofhope.org
SUMMARY:Presbyterian Youth Triennium
DESCRIPTION:We invite you to join over a 1000 teens from around the world as we worship\, learn\, fellowship\, and play as a hopeful and joyful community of faith at the 2025 Presbyterian Youth Triennium. The experience will be one of those life-shaping faith forming events that you will never forget! It will be As If We Were Dreaming. The conference will be held at the Louisville Convention Center and we will be staying in a local hotel.  Students who have completed 8th-12th grade are invited to attended as part of the Pittsburgh Presbytery delegation and Sara Hackett is one of the delegation adult leaders. This event happens once every three years. Check out 2019’s highlight video.  https://presbyterianyouthtriennium.org/
URL:https://cathedralofhope.org/event/presbyterian-youth-triennium/
CATEGORIES:Children & Youth
ATTACH;FMTTYPE=image/jpeg:https://cathedralofhope.org/wp-content/uploads/2025/02/pyt.jpg
END:VEVENT
BEGIN:VEVENT
DTSTART;TZID=America/New_York:20250720T080000
DTEND;TZID=America/New_York:20250725T170000
DTSTAMP:20260423T180119
CREATED:20250214T214054Z
LAST-MODIFIED:20250214T214143Z
UID:10006676-1752998400-1753462800@cathedralofhope.org
SUMMARY:Middle School Service Adventure Camp
DESCRIPTION:at Crestfield Camp and Conference Center \n6th-8th graders can attend Service Adventure Camp which combines Crestfield Adventure with local Missions and Service opportunities.  During the day\, campers will be sent out to local non-profits to learn about and assist those agencies.  Back at camp in the late afternoon\, campers can chill at the pool or take a much needed FOB (flat on bunk).  After dinner\, there will be canoeing\, ninja walling\, archery\, Big Friz and more! Youth from multiple churches around Pittsburgh will be working and playing together this week at camp. $400 and scholarships are available. \n   \n  \n  \n  \n  \n  \n  \n 
URL:https://cathedralofhope.org/event/middle-school-service-adventure-camp/
CATEGORIES:Children & Youth
ATTACH;FMTTYPE=image/jpeg:https://cathedralofhope.org/wp-content/uploads/2025/02/crestfield-2024-scaled.jpg
END:VEVENT
BEGIN:VEVENT
DTSTART;VALUE=DATE:20250713
DTEND;VALUE=DATE:20250720
DTSTAMP:20260423T180119
CREATED:20250207T214118Z
LAST-MODIFIED:20250214T212754Z
UID:10002316-1752364800-1752969599@cathedralofhope.org
SUMMARY:Youth at TYC
DESCRIPTION:Trinity Youth Conference (TYC) is happening July 13-19\, 2025 \nTYC is a regional Presbyterian leadership conference for youth who have completed grade 9 through college-age students\, in Shellsburg\, Pennsylvania. The week consists of meaningful workshops\, camp games\, relevant worship\, and refreshingly honest small groups; and is planned and led by a youth planning team\, \nInformation about cost\, workshops\, registration\, and schedule can be found at TrinityYouthConference.org beginning in March however you can find out more information from Sara Hackett. \n\n  \n 
URL:https://cathedralofhope.org/event/youth-at-tyc-2/
LOCATION:Living Waters Camp\, 300 Camp Living Water Rd\, Schellsburg\, PA\, 15559\, United States
CATEGORIES:Children & Youth
ATTACH;FMTTYPE=image/jpeg:https://cathedralofhope.org/wp-content/uploads/2025/02/ty4.jpg
END:VEVENT
BEGIN:VEVENT
DTSTART;TZID=America/New_York:20250515T163000
DTEND;TZID=America/New_York:20250515T190000
DTSTAMP:20260423T180119
CREATED:20240904T204042Z
LAST-MODIFIED:20250116T155650Z
UID:10003434-1747326600-1747335600@cathedralofhope.org
SUMMARY:Youth Group
DESCRIPTION:Thursday Nights is Youth Group for 7th-12th grade students.  Together with Sixth Presbyterian church we share dinner\, pray\, play\, and explore faith with the flexibility to do service projects\, ‘field trips’\, and whatever else we dream up!  Register Online. \nTeens in  grade 7th-12th also meet for Breakfast on the first Sunday of the month from 9:45-10:45am and after church one Sunday a month for lunch and programing –  see the full schedule here.
URL:https://cathedralofhope.org/event/youth-group/2025-05-15/
CATEGORIES:Children & Youth
ATTACH;FMTTYPE=image/jpeg:https://cathedralofhope.org/wp-content/uploads/2024/09/teen-3-scaled-e1725479018464.jpg
END:VEVENT
BEGIN:VEVENT
DTSTART;TZID=America/New_York:20250514T163000
DTEND;TZID=America/New_York:20250514T183000
DTSTAMP:20260423T180119
CREATED:20240904T203355Z
LAST-MODIFIED:20250116T160532Z
UID:10006396-1747240200-1747247400@cathedralofhope.org
SUMMARY:Club 116
DESCRIPTION:Kids in 1st-6th grade gather for Bible study\, crafts\, games in the gym\, and dinner together. \nRegistration is required and can be completed online.
URL:https://cathedralofhope.org/event/club-116/2025-05-14/
CATEGORIES:Children & Youth
ATTACH;FMTTYPE=image/jpeg:https://cathedralofhope.org/wp-content/uploads/2024/09/club-3.jpg
END:VEVENT
BEGIN:VEVENT
DTSTART;TZID=America/New_York:20250511T121500
DTEND;TZID=America/New_York:20250511T140000
DTSTAMP:20260423T180119
CREATED:20250508T173331Z
LAST-MODIFIED:20250508T173917Z
UID:10005771-1746965700-1746972000@cathedralofhope.org
SUMMARY:Getting to Work at GCF
DESCRIPTION:Families are invited to join us after worship on Sunday\, May 11\, 12:15–2 pm\, to volunteer at Garfield Community Farm. Lunch will be provided at the farm. Please bring a water bottle filled with water. Tools and gloves will be provided.
URL:https://cathedralofhope.org/event/getting-to-work-at-gcf/
CATEGORIES:Children & Youth,Featured Events
ATTACH;FMTTYPE=image/jpeg:https://cathedralofhope.org/wp-content/uploads/2025/05/img_garfield-community-farm.jpg
END:VEVENT
BEGIN:VEVENT
DTSTART;TZID=America/New_York:20250508T163000
DTEND;TZID=America/New_York:20250508T190000
DTSTAMP:20260423T180119
CREATED:20240904T204042Z
LAST-MODIFIED:20250116T155650Z
UID:10003433-1746721800-1746730800@cathedralofhope.org
SUMMARY:Youth Group
DESCRIPTION:Thursday Nights is Youth Group for 7th-12th grade students.  Together with Sixth Presbyterian church we share dinner\, pray\, play\, and explore faith with the flexibility to do service projects\, ‘field trips’\, and whatever else we dream up!  Register Online. \nTeens in  grade 7th-12th also meet for Breakfast on the first Sunday of the month from 9:45-10:45am and after church one Sunday a month for lunch and programing –  see the full schedule here.
URL:https://cathedralofhope.org/event/youth-group/2025-05-08/
CATEGORIES:Children & Youth
ATTACH;FMTTYPE=image/jpeg:https://cathedralofhope.org/wp-content/uploads/2024/09/teen-3-scaled-e1725479018464.jpg
END:VEVENT
BEGIN:VEVENT
DTSTART;TZID=America/New_York:20250507T163000
DTEND;TZID=America/New_York:20250507T183000
DTSTAMP:20260423T180119
CREATED:20240904T203355Z
LAST-MODIFIED:20250116T160532Z
UID:10006395-1746635400-1746642600@cathedralofhope.org
SUMMARY:Club 116
DESCRIPTION:Kids in 1st-6th grade gather for Bible study\, crafts\, games in the gym\, and dinner together. \nRegistration is required and can be completed online.
URL:https://cathedralofhope.org/event/club-116/2025-05-07/
CATEGORIES:Children & Youth
ATTACH;FMTTYPE=image/jpeg:https://cathedralofhope.org/wp-content/uploads/2024/09/club-3.jpg
END:VEVENT
BEGIN:VEVENT
DTSTART;TZID=America/Halifax:20250504T094500
DTEND;TZID=America/Halifax:20250504T104500
DTSTAMP:20260423T180119
CREATED:20170901T130547Z
LAST-MODIFIED:20250501T132842Z
UID:10007365-1746351900-1746355500@cathedralofhope.org
SUMMARY:NO Sunday Church School
DESCRIPTION:As a reminder\, there will be no services or Church School on Sunday\, May 4\, due to the route of the Pittsburgh Marathon. Our regular schedule will resume next Sunday\, May 11. \n\nThe ELPC Christian Education (CE) Committee offers Church School classes and events for all ages—from infants to adults. CE is the life-long process of learning and living in relationship to God\, our neighbors\, and ourselves. Through the study of scripture and the practice of prayer\, we begin to understand our life experiences as they relate to the life\, death\, and resurrection of Jesus Christ. Come and join us! Your questions\, insights\, doubts\, and concerns are welcome. \nAdult Church School\nClasses for adults meet on Sundays\, 9:45–10:45 am\, from September through May\, unless otherwise noted. \nView this Week’s Adult Church School Offerings \n\nYouth Sunday School\nThe Nursery\, for children up to age 3  is staffed from 8:30am-12:30pm on Sunday mornings for children to sing songs\, tell stories\, and play. \nChildren age 4- 3rd grade go to Sunday School: Sacred Stories for Kids after the Moments with our Children in the Sanctuary (11:15am)  and parents pick kids up after worship in room 206. \nTweens in grade 4th-6th go to Sunday School: Sacred Stories for Tweens after the Moments with our Children in the Sanctuary (11:15am) and parents pick kids up after worship in room 207. \nTeens in  grade 7th-12th meet for Breakfast on the first Sunday of the month from 9:45-10:45am.  Teens also meet after church one Sunday a month for lunch and programing – see the full schedule here. \n  \n 
URL:https://cathedralofhope.org/event/church-school-2025-05-04/
LOCATION:East Liberty Presbyterian Church\, 116 S. Highland Avenue\, Pittsburgh\, PA\, 15206\, United States
CATEGORIES:Children & Youth,Church Life,Educational & Spiritual Life
ATTACH;FMTTYPE=image/png:https://cathedralofhope.org/wp-content/uploads/2015/09/sunday-school.png
GEO:40.4609708;-79.9253554
X-APPLE-STRUCTURED-LOCATION;VALUE=URI;X-ADDRESS=East Liberty Presbyterian Church 116 S. Highland Avenue Pittsburgh PA 15206 United States;X-APPLE-RADIUS=500;X-TITLE=116 S. Highland Avenue:geo:-79.9253554,40.4609708
END:VEVENT
BEGIN:VEVENT
DTSTART;TZID=America/New_York:20250501T163000
DTEND;TZID=America/New_York:20250501T190000
DTSTAMP:20260423T180119
CREATED:20240904T204042Z
LAST-MODIFIED:20250116T155650Z
UID:10003432-1746117000-1746126000@cathedralofhope.org
SUMMARY:Youth Group
DESCRIPTION:Thursday Nights is Youth Group for 7th-12th grade students.  Together with Sixth Presbyterian church we share dinner\, pray\, play\, and explore faith with the flexibility to do service projects\, ‘field trips’\, and whatever else we dream up!  Register Online. \nTeens in  grade 7th-12th also meet for Breakfast on the first Sunday of the month from 9:45-10:45am and after church one Sunday a month for lunch and programing –  see the full schedule here.
URL:https://cathedralofhope.org/event/youth-group/2025-05-01/
CATEGORIES:Children & Youth
ATTACH;FMTTYPE=image/jpeg:https://cathedralofhope.org/wp-content/uploads/2024/09/teen-3-scaled-e1725479018464.jpg
END:VEVENT
BEGIN:VEVENT
DTSTART;TZID=America/New_York:20250430T163000
DTEND;TZID=America/New_York:20250430T183000
DTSTAMP:20260423T180119
CREATED:20240904T203355Z
LAST-MODIFIED:20250116T160532Z
UID:10006394-1746030600-1746037800@cathedralofhope.org
SUMMARY:Club 116
DESCRIPTION:Kids in 1st-6th grade gather for Bible study\, crafts\, games in the gym\, and dinner together. \nRegistration is required and can be completed online.
URL:https://cathedralofhope.org/event/club-116/2025-04-30/
CATEGORIES:Children & Youth
ATTACH;FMTTYPE=image/jpeg:https://cathedralofhope.org/wp-content/uploads/2024/09/club-3.jpg
END:VEVENT
BEGIN:VEVENT
DTSTART;TZID=America/New_York:20250425T170000
DTEND;TZID=America/New_York:20250425T190000
DTSTAMP:20260423T180119
CREATED:20250410T181623Z
LAST-MODIFIED:20250410T181834Z
UID:10000039-1745600400-1745607600@cathedralofhope.org
SUMMARY:Tween Kickball
DESCRIPTION:Youth in grades 4–6 will be gathering for pizza and kickball on Friday\, April 25\, 5–7 pm. Friends are always SUPER welcome. RSVP to Sara Hackett.
URL:https://cathedralofhope.org/event/tween-kickball/
CATEGORIES:Children & Youth,Featured Events
ATTACH;FMTTYPE=image/png:https://cathedralofhope.org/wp-content/uploads/2025/04/img_tween-kickball.png
END:VEVENT
BEGIN:VEVENT
DTSTART;TZID=America/New_York:20250424T163000
DTEND;TZID=America/New_York:20250424T190000
DTSTAMP:20260423T180119
CREATED:20240904T204042Z
LAST-MODIFIED:20250116T155650Z
UID:10003431-1745512200-1745521200@cathedralofhope.org
SUMMARY:Youth Group
DESCRIPTION:Thursday Nights is Youth Group for 7th-12th grade students.  Together with Sixth Presbyterian church we share dinner\, pray\, play\, and explore faith with the flexibility to do service projects\, ‘field trips’\, and whatever else we dream up!  Register Online. \nTeens in  grade 7th-12th also meet for Breakfast on the first Sunday of the month from 9:45-10:45am and after church one Sunday a month for lunch and programing –  see the full schedule here.
URL:https://cathedralofhope.org/event/youth-group/2025-04-24/
CATEGORIES:Children & Youth
ATTACH;FMTTYPE=image/jpeg:https://cathedralofhope.org/wp-content/uploads/2024/09/teen-3-scaled-e1725479018464.jpg
END:VEVENT
BEGIN:VEVENT
DTSTART;TZID=America/New_York:20250423T163000
DTEND;TZID=America/New_York:20250423T183000
DTSTAMP:20260423T180119
CREATED:20240904T203355Z
LAST-MODIFIED:20250116T160532Z
UID:10006393-1745425800-1745433000@cathedralofhope.org
SUMMARY:Club 116
DESCRIPTION:Kids in 1st-6th grade gather for Bible study\, crafts\, games in the gym\, and dinner together. \nRegistration is required and can be completed online.
URL:https://cathedralofhope.org/event/club-116/2025-04-23/
CATEGORIES:Children & Youth
ATTACH;FMTTYPE=image/jpeg:https://cathedralofhope.org/wp-content/uploads/2024/09/club-3.jpg
END:VEVENT
END:VCALENDAR