BEGIN:VCALENDAR
VERSION:2.0
PRODID:-//East Liberty Presbyterian Church - ECPv6.15.20//NONSGML v1.0//EN
CALSCALE:GREGORIAN
METHOD:PUBLISH
X-WR-CALNAME:East Liberty Presbyterian Church
X-ORIGINAL-URL:https://cathedralofhope.org
X-WR-CALDESC:Events for East Liberty Presbyterian Church
REFRESH-INTERVAL;VALUE=DURATION:PT1H
X-Robots-Tag:noindex
X-PUBLISHED-TTL:PT1H
BEGIN:VTIMEZONE
TZID:America/Halifax
BEGIN:DAYLIGHT
TZOFFSETFROM:-0400
TZOFFSETTO:-0300
TZNAME:ADT
DTSTART:20240310T060000
END:DAYLIGHT
BEGIN:STANDARD
TZOFFSETFROM:-0300
TZOFFSETTO:-0400
TZNAME:AST
DTSTART:20241103T050000
END:STANDARD
BEGIN:DAYLIGHT
TZOFFSETFROM:-0400
TZOFFSETTO:-0300
TZNAME:ADT
DTSTART:20250309T060000
END:DAYLIGHT
BEGIN:STANDARD
TZOFFSETFROM:-0300
TZOFFSETTO:-0400
TZNAME:AST
DTSTART:20251102T050000
END:STANDARD
BEGIN:DAYLIGHT
TZOFFSETFROM:-0400
TZOFFSETTO:-0300
TZNAME:ADT
DTSTART:20260308T060000
END:DAYLIGHT
BEGIN:STANDARD
TZOFFSETFROM:-0300
TZOFFSETTO:-0400
TZNAME:AST
DTSTART:20261101T050000
END:STANDARD
END:VTIMEZONE
BEGIN:VTIMEZONE
TZID:America/New_York
BEGIN:DAYLIGHT
TZOFFSETFROM:-0500
TZOFFSETTO:-0400
TZNAME:EDT
DTSTART:20240310T070000
END:DAYLIGHT
BEGIN:STANDARD
TZOFFSETFROM:-0400
TZOFFSETTO:-0500
TZNAME:EST
DTSTART:20241103T060000
END:STANDARD
BEGIN:DAYLIGHT
TZOFFSETFROM:-0500
TZOFFSETTO:-0400
TZNAME:EDT
DTSTART:20250309T070000
END:DAYLIGHT
BEGIN:STANDARD
TZOFFSETFROM:-0400
TZOFFSETTO:-0500
TZNAME:EST
DTSTART:20251102T060000
END:STANDARD
BEGIN:DAYLIGHT
TZOFFSETFROM:-0500
TZOFFSETTO:-0400
TZNAME:EDT
DTSTART:20260308T070000
END:DAYLIGHT
BEGIN:STANDARD
TZOFFSETFROM:-0400
TZOFFSETTO:-0500
TZNAME:EST
DTSTART:20261101T060000
END:STANDARD
END:VTIMEZONE
BEGIN:VEVENT
DTSTART;TZID=America/Halifax:20250702T100000
DTEND;TZID=America/Halifax:20250702T190000
DTSTAMP:20260423T220255
CREATED:20190426T135617Z
LAST-MODIFIED:20251021T233348Z
UID:10001434-1751450400-1751482800@cathedralofhope.org
SUMMARY:Labyrinth Prayer Walk
DESCRIPTION:The labyrinth is an ancient\, sacred symbol found in many religious traditions throughout the world. Today\, modern pilgrims walk the labyrinth as one of many ways to pray and meditate. The winding path into the center and back out again is a metaphor for the journeys of life and faith. Unlike a maze\, which has many paths and is a puzzle to solve\, the labyrinth is a single path in and a single path out\, and is designed to quiet the mind for prayer and meditation. Members and non-members welcome. \n\nThe Labyrinth is available on Wednesdays and Thursdays\, 10 am–7 pm\, in the McKelvy Room.
URL:https://cathedralofhope.org/event/labyrinth-prayer-walk-2/2025-07-02/
LOCATION:ELPC – McKelvy Room (114)\, 116 South Highland Avenue\, Pittsburgh\, PA\, 15206\, United States
CATEGORIES:Church Life,Community,Educational & Spiritual Life
ATTACH;FMTTYPE=image/jpeg:https://cathedralofhope.org/wp-content/uploads/2019/04/img_labyrinth-2025.jpg
GEO:40.439677;-79.9899243
X-APPLE-STRUCTURED-LOCATION;VALUE=URI;X-ADDRESS=ELPC – McKelvy Room (114) 116 South Highland Avenue Pittsburgh PA 15206 United States;X-APPLE-RADIUS=500;X-TITLE=116 South Highland Avenue:geo:-79.9899243,40.439677
END:VEVENT
BEGIN:VEVENT
DTSTART;TZID=America/Halifax:20250703T100000
DTEND;TZID=America/Halifax:20250703T190000
DTSTAMP:20260423T220255
CREATED:20190426T135617Z
LAST-MODIFIED:20251021T233348Z
UID:10001435-1751536800-1751569200@cathedralofhope.org
SUMMARY:Labyrinth Prayer Walk
DESCRIPTION:The labyrinth is an ancient\, sacred symbol found in many religious traditions throughout the world. Today\, modern pilgrims walk the labyrinth as one of many ways to pray and meditate. The winding path into the center and back out again is a metaphor for the journeys of life and faith. Unlike a maze\, which has many paths and is a puzzle to solve\, the labyrinth is a single path in and a single path out\, and is designed to quiet the mind for prayer and meditation. Members and non-members welcome. \n\nThe Labyrinth is available on Wednesdays and Thursdays\, 10 am–7 pm\, in the McKelvy Room.
URL:https://cathedralofhope.org/event/labyrinth-prayer-walk-2/2025-07-03/
LOCATION:ELPC – McKelvy Room (114)\, 116 South Highland Avenue\, Pittsburgh\, PA\, 15206\, United States
CATEGORIES:Church Life,Community,Educational & Spiritual Life
ATTACH;FMTTYPE=image/jpeg:https://cathedralofhope.org/wp-content/uploads/2019/04/img_labyrinth-2025.jpg
GEO:40.439677;-79.9899243
X-APPLE-STRUCTURED-LOCATION;VALUE=URI;X-ADDRESS=ELPC – McKelvy Room (114) 116 South Highland Avenue Pittsburgh PA 15206 United States;X-APPLE-RADIUS=500;X-TITLE=116 South Highland Avenue:geo:-79.9899243,40.439677
END:VEVENT
BEGIN:VEVENT
DTSTART;TZID=America/Halifax:20250709T100000
DTEND;TZID=America/Halifax:20250709T190000
DTSTAMP:20260423T220255
CREATED:20190426T135617Z
LAST-MODIFIED:20251021T233348Z
UID:10001436-1752055200-1752087600@cathedralofhope.org
SUMMARY:Labyrinth Prayer Walk
DESCRIPTION:The labyrinth is an ancient\, sacred symbol found in many religious traditions throughout the world. Today\, modern pilgrims walk the labyrinth as one of many ways to pray and meditate. The winding path into the center and back out again is a metaphor for the journeys of life and faith. Unlike a maze\, which has many paths and is a puzzle to solve\, the labyrinth is a single path in and a single path out\, and is designed to quiet the mind for prayer and meditation. Members and non-members welcome. \n\nThe Labyrinth is available on Wednesdays and Thursdays\, 10 am–7 pm\, in the McKelvy Room.
URL:https://cathedralofhope.org/event/labyrinth-prayer-walk-2/2025-07-09/
LOCATION:ELPC – McKelvy Room (114)\, 116 South Highland Avenue\, Pittsburgh\, PA\, 15206\, United States
CATEGORIES:Church Life,Community,Educational & Spiritual Life
ATTACH;FMTTYPE=image/jpeg:https://cathedralofhope.org/wp-content/uploads/2019/04/img_labyrinth-2025.jpg
GEO:40.439677;-79.9899243
X-APPLE-STRUCTURED-LOCATION;VALUE=URI;X-ADDRESS=ELPC – McKelvy Room (114) 116 South Highland Avenue Pittsburgh PA 15206 United States;X-APPLE-RADIUS=500;X-TITLE=116 South Highland Avenue:geo:-79.9899243,40.439677
END:VEVENT
BEGIN:VEVENT
DTSTART;TZID=America/Halifax:20250710T100000
DTEND;TZID=America/Halifax:20250710T190000
DTSTAMP:20260423T220255
CREATED:20190426T135617Z
LAST-MODIFIED:20251021T233348Z
UID:10001437-1752141600-1752174000@cathedralofhope.org
SUMMARY:Labyrinth Prayer Walk
DESCRIPTION:The labyrinth is an ancient\, sacred symbol found in many religious traditions throughout the world. Today\, modern pilgrims walk the labyrinth as one of many ways to pray and meditate. The winding path into the center and back out again is a metaphor for the journeys of life and faith. Unlike a maze\, which has many paths and is a puzzle to solve\, the labyrinth is a single path in and a single path out\, and is designed to quiet the mind for prayer and meditation. Members and non-members welcome. \n\nThe Labyrinth is available on Wednesdays and Thursdays\, 10 am–7 pm\, in the McKelvy Room.
URL:https://cathedralofhope.org/event/labyrinth-prayer-walk-2/2025-07-10/
LOCATION:ELPC – McKelvy Room (114)\, 116 South Highland Avenue\, Pittsburgh\, PA\, 15206\, United States
CATEGORIES:Church Life,Community,Educational & Spiritual Life
ATTACH;FMTTYPE=image/jpeg:https://cathedralofhope.org/wp-content/uploads/2019/04/img_labyrinth-2025.jpg
GEO:40.439677;-79.9899243
X-APPLE-STRUCTURED-LOCATION;VALUE=URI;X-ADDRESS=ELPC – McKelvy Room (114) 116 South Highland Avenue Pittsburgh PA 15206 United States;X-APPLE-RADIUS=500;X-TITLE=116 South Highland Avenue:geo:-79.9899243,40.439677
END:VEVENT
BEGIN:VEVENT
DTSTART;TZID=America/Halifax:20250716T100000
DTEND;TZID=America/Halifax:20250716T190000
DTSTAMP:20260423T220255
CREATED:20190426T135617Z
LAST-MODIFIED:20251021T233348Z
UID:10001438-1752660000-1752692400@cathedralofhope.org
SUMMARY:Labyrinth Prayer Walk
DESCRIPTION:The labyrinth is an ancient\, sacred symbol found in many religious traditions throughout the world. Today\, modern pilgrims walk the labyrinth as one of many ways to pray and meditate. The winding path into the center and back out again is a metaphor for the journeys of life and faith. Unlike a maze\, which has many paths and is a puzzle to solve\, the labyrinth is a single path in and a single path out\, and is designed to quiet the mind for prayer and meditation. Members and non-members welcome. \n\nThe Labyrinth is available on Wednesdays and Thursdays\, 10 am–7 pm\, in the McKelvy Room.
URL:https://cathedralofhope.org/event/labyrinth-prayer-walk-2/2025-07-16/
LOCATION:ELPC – McKelvy Room (114)\, 116 South Highland Avenue\, Pittsburgh\, PA\, 15206\, United States
CATEGORIES:Church Life,Community,Educational & Spiritual Life
ATTACH;FMTTYPE=image/jpeg:https://cathedralofhope.org/wp-content/uploads/2019/04/img_labyrinth-2025.jpg
GEO:40.439677;-79.9899243
X-APPLE-STRUCTURED-LOCATION;VALUE=URI;X-ADDRESS=ELPC – McKelvy Room (114) 116 South Highland Avenue Pittsburgh PA 15206 United States;X-APPLE-RADIUS=500;X-TITLE=116 South Highland Avenue:geo:-79.9899243,40.439677
END:VEVENT
BEGIN:VEVENT
DTSTART;TZID=America/Halifax:20250717T100000
DTEND;TZID=America/Halifax:20250717T190000
DTSTAMP:20260423T220255
CREATED:20190426T135617Z
LAST-MODIFIED:20251021T233348Z
UID:10001439-1752746400-1752778800@cathedralofhope.org
SUMMARY:Labyrinth Prayer Walk
DESCRIPTION:The labyrinth is an ancient\, sacred symbol found in many religious traditions throughout the world. Today\, modern pilgrims walk the labyrinth as one of many ways to pray and meditate. The winding path into the center and back out again is a metaphor for the journeys of life and faith. Unlike a maze\, which has many paths and is a puzzle to solve\, the labyrinth is a single path in and a single path out\, and is designed to quiet the mind for prayer and meditation. Members and non-members welcome. \n\nThe Labyrinth is available on Wednesdays and Thursdays\, 10 am–7 pm\, in the McKelvy Room.
URL:https://cathedralofhope.org/event/labyrinth-prayer-walk-2/2025-07-17/
LOCATION:ELPC – McKelvy Room (114)\, 116 South Highland Avenue\, Pittsburgh\, PA\, 15206\, United States
CATEGORIES:Church Life,Community,Educational & Spiritual Life
ATTACH;FMTTYPE=image/jpeg:https://cathedralofhope.org/wp-content/uploads/2019/04/img_labyrinth-2025.jpg
GEO:40.439677;-79.9899243
X-APPLE-STRUCTURED-LOCATION;VALUE=URI;X-ADDRESS=ELPC – McKelvy Room (114) 116 South Highland Avenue Pittsburgh PA 15206 United States;X-APPLE-RADIUS=500;X-TITLE=116 South Highland Avenue:geo:-79.9899243,40.439677
END:VEVENT
BEGIN:VEVENT
DTSTART;TZID=America/Halifax:20250718T190000
DTEND;TZID=America/Halifax:20250718T203000
DTSTAMP:20260423T220255
CREATED:20200402T130239Z
LAST-MODIFIED:20231102T142137Z
UID:10005022-1752865200-1752870600@cathedralofhope.org
SUMMARY:JourneyDance Class
DESCRIPTION:Join Yamuna Morgenstern for JourneyDance on the third Friday of every month from 7–8:30 pm. \nCome experience one of ELPC’s unique spiritual practices and offerings. JourneyDance takes you on a journey within through playful dance in a non-judgmental environment. The playlists are designed to open up your chakras\, move your Spirit\, experience positive vibes\, and have fun! JourneyDance is all about responding to music the way you want to respond—no rules\, no groping\, no ugly lyrics. Join us and dance in healthy community to release tension\, feel good\, relax\, restore\, and renew your body\, mind\, and spirit. \nAll ages and bodies are welcome. No dance experience necessary\, just a joy of moving. Young children should be accompanied by their care givers. Wear comfortable clothing\, and you may want to have a water bottle handy! \nA donation from the heart\, to the church\, is very much appreciated.
URL:https://cathedralofhope.org/event/journeydance/2025-07-18/
LOCATION:PA
CATEGORIES:Church Life,Community,Educational & Spiritual Life,Health
ATTACH;FMTTYPE=image/jpeg:https://cathedralofhope.org/wp-content/uploads/2020/04/img_journey-dance.jpg
END:VEVENT
BEGIN:VEVENT
DTSTART;TZID=America/Halifax:20250723T100000
DTEND;TZID=America/Halifax:20250723T190000
DTSTAMP:20260423T220255
CREATED:20190426T135617Z
LAST-MODIFIED:20251021T233348Z
UID:10001440-1753264800-1753297200@cathedralofhope.org
SUMMARY:Labyrinth Prayer Walk
DESCRIPTION:The labyrinth is an ancient\, sacred symbol found in many religious traditions throughout the world. Today\, modern pilgrims walk the labyrinth as one of many ways to pray and meditate. The winding path into the center and back out again is a metaphor for the journeys of life and faith. Unlike a maze\, which has many paths and is a puzzle to solve\, the labyrinth is a single path in and a single path out\, and is designed to quiet the mind for prayer and meditation. Members and non-members welcome. \n\nThe Labyrinth is available on Wednesdays and Thursdays\, 10 am–7 pm\, in the McKelvy Room.
URL:https://cathedralofhope.org/event/labyrinth-prayer-walk-2/2025-07-23/
LOCATION:ELPC – McKelvy Room (114)\, 116 South Highland Avenue\, Pittsburgh\, PA\, 15206\, United States
CATEGORIES:Church Life,Community,Educational & Spiritual Life
ATTACH;FMTTYPE=image/jpeg:https://cathedralofhope.org/wp-content/uploads/2019/04/img_labyrinth-2025.jpg
GEO:40.439677;-79.9899243
X-APPLE-STRUCTURED-LOCATION;VALUE=URI;X-ADDRESS=ELPC – McKelvy Room (114) 116 South Highland Avenue Pittsburgh PA 15206 United States;X-APPLE-RADIUS=500;X-TITLE=116 South Highland Avenue:geo:-79.9899243,40.439677
END:VEVENT
BEGIN:VEVENT
DTSTART;TZID=America/Halifax:20250724T100000
DTEND;TZID=America/Halifax:20250724T190000
DTSTAMP:20260423T220255
CREATED:20190426T135617Z
LAST-MODIFIED:20251021T233348Z
UID:10001441-1753351200-1753383600@cathedralofhope.org
SUMMARY:Labyrinth Prayer Walk
DESCRIPTION:The labyrinth is an ancient\, sacred symbol found in many religious traditions throughout the world. Today\, modern pilgrims walk the labyrinth as one of many ways to pray and meditate. The winding path into the center and back out again is a metaphor for the journeys of life and faith. Unlike a maze\, which has many paths and is a puzzle to solve\, the labyrinth is a single path in and a single path out\, and is designed to quiet the mind for prayer and meditation. Members and non-members welcome. \n\nThe Labyrinth is available on Wednesdays and Thursdays\, 10 am–7 pm\, in the McKelvy Room.
URL:https://cathedralofhope.org/event/labyrinth-prayer-walk-2/2025-07-24/
LOCATION:ELPC – McKelvy Room (114)\, 116 South Highland Avenue\, Pittsburgh\, PA\, 15206\, United States
CATEGORIES:Church Life,Community,Educational & Spiritual Life
ATTACH;FMTTYPE=image/jpeg:https://cathedralofhope.org/wp-content/uploads/2019/04/img_labyrinth-2025.jpg
GEO:40.439677;-79.9899243
X-APPLE-STRUCTURED-LOCATION;VALUE=URI;X-ADDRESS=ELPC – McKelvy Room (114) 116 South Highland Avenue Pittsburgh PA 15206 United States;X-APPLE-RADIUS=500;X-TITLE=116 South Highland Avenue:geo:-79.9899243,40.439677
END:VEVENT
BEGIN:VEVENT
DTSTART;TZID=America/New_York:20250726T120000
DTEND;TZID=America/New_York:20250726T160000
DTSTAMP:20260423T220255
CREATED:20250418T111902Z
LAST-MODIFIED:20250626T192204Z
UID:10006858-1753531200-1753545600@cathedralofhope.org
SUMMARY:Family Fun Day with Pittsburgh Black Pride
DESCRIPTION:Pride continues in neighborhoods all around Pittsburgh and at ELPC on Saturday\, July 26\, with Family Fun Day co-hosted by Pittsburgh Black Pride\, ELPC’s Justice Committee\, and ELPC’s LGBTQIA+ Ministry\, as we share fellowship\, food\, and fun—including a 3-on-3 basketball tournament\, a talent show\, bowling\, face painting\, jewelry making\, and much more. \nThis is a free event open to the public from 12–4 pm. Come visit with current friends and make some new ones! All are welcome! \n 
URL:https://cathedralofhope.org/event/family-fun-day-with-pittsburgh-black-pride/
LOCATION:East Liberty Presbyterian Church\, 116 S. Highland Avenue\, Pittsburgh\, PA\, 15206\, United States
CATEGORIES:Community,Featured Events,LGBTQIA+,Mission Activities,Special Events
ATTACH;FMTTYPE=image/jpeg:https://cathedralofhope.org/wp-content/uploads/2025/04/PBP-thumbnail_0392FB26-65A1-44B1-BDBF-5C94568FB301.jpg
ORGANIZER;CN="Wil Forrest":MAILTO:Wil@coh.net
GEO:40.4609708;-79.9253554
X-APPLE-STRUCTURED-LOCATION;VALUE=URI;X-ADDRESS=East Liberty Presbyterian Church 116 S. Highland Avenue Pittsburgh PA 15206 United States;X-APPLE-RADIUS=500;X-TITLE=116 S. Highland Avenue:geo:-79.9253554,40.4609708
END:VEVENT
BEGIN:VEVENT
DTSTART;TZID=America/Halifax:20250730T100000
DTEND;TZID=America/Halifax:20250730T190000
DTSTAMP:20260423T220255
CREATED:20190426T135617Z
LAST-MODIFIED:20251021T233348Z
UID:10001442-1753869600-1753902000@cathedralofhope.org
SUMMARY:Labyrinth Prayer Walk
DESCRIPTION:The labyrinth is an ancient\, sacred symbol found in many religious traditions throughout the world. Today\, modern pilgrims walk the labyrinth as one of many ways to pray and meditate. The winding path into the center and back out again is a metaphor for the journeys of life and faith. Unlike a maze\, which has many paths and is a puzzle to solve\, the labyrinth is a single path in and a single path out\, and is designed to quiet the mind for prayer and meditation. Members and non-members welcome. \n\nThe Labyrinth is available on Wednesdays and Thursdays\, 10 am–7 pm\, in the McKelvy Room.
URL:https://cathedralofhope.org/event/labyrinth-prayer-walk-2/2025-07-30/
LOCATION:ELPC – McKelvy Room (114)\, 116 South Highland Avenue\, Pittsburgh\, PA\, 15206\, United States
CATEGORIES:Church Life,Community,Educational & Spiritual Life
ATTACH;FMTTYPE=image/jpeg:https://cathedralofhope.org/wp-content/uploads/2019/04/img_labyrinth-2025.jpg
GEO:40.439677;-79.9899243
X-APPLE-STRUCTURED-LOCATION;VALUE=URI;X-ADDRESS=ELPC – McKelvy Room (114) 116 South Highland Avenue Pittsburgh PA 15206 United States;X-APPLE-RADIUS=500;X-TITLE=116 South Highland Avenue:geo:-79.9899243,40.439677
END:VEVENT
BEGIN:VEVENT
DTSTART;TZID=America/Halifax:20250731T100000
DTEND;TZID=America/Halifax:20250731T190000
DTSTAMP:20260423T220255
CREATED:20190426T135617Z
LAST-MODIFIED:20251021T233348Z
UID:10001443-1753956000-1753988400@cathedralofhope.org
SUMMARY:Labyrinth Prayer Walk
DESCRIPTION:The labyrinth is an ancient\, sacred symbol found in many religious traditions throughout the world. Today\, modern pilgrims walk the labyrinth as one of many ways to pray and meditate. The winding path into the center and back out again is a metaphor for the journeys of life and faith. Unlike a maze\, which has many paths and is a puzzle to solve\, the labyrinth is a single path in and a single path out\, and is designed to quiet the mind for prayer and meditation. Members and non-members welcome. \n\nThe Labyrinth is available on Wednesdays and Thursdays\, 10 am–7 pm\, in the McKelvy Room.
URL:https://cathedralofhope.org/event/labyrinth-prayer-walk-2/2025-07-31/
LOCATION:ELPC – McKelvy Room (114)\, 116 South Highland Avenue\, Pittsburgh\, PA\, 15206\, United States
CATEGORIES:Church Life,Community,Educational & Spiritual Life
ATTACH;FMTTYPE=image/jpeg:https://cathedralofhope.org/wp-content/uploads/2019/04/img_labyrinth-2025.jpg
GEO:40.439677;-79.9899243
X-APPLE-STRUCTURED-LOCATION;VALUE=URI;X-ADDRESS=ELPC – McKelvy Room (114) 116 South Highland Avenue Pittsburgh PA 15206 United States;X-APPLE-RADIUS=500;X-TITLE=116 South Highland Avenue:geo:-79.9899243,40.439677
END:VEVENT
END:VCALENDAR