BEGIN:VCALENDAR
VERSION:2.0
PRODID:-//East Liberty Presbyterian Church - ECPv6.15.20//NONSGML v1.0//EN
CALSCALE:GREGORIAN
METHOD:PUBLISH
X-WR-CALNAME:East Liberty Presbyterian Church
X-ORIGINAL-URL:https://cathedralofhope.org
X-WR-CALDESC:Events for East Liberty Presbyterian Church
REFRESH-INTERVAL;VALUE=DURATION:PT1H
X-Robots-Tag:noindex
X-PUBLISHED-TTL:PT1H
BEGIN:VTIMEZONE
TZID:America/New_York
BEGIN:DAYLIGHT
TZOFFSETFROM:-0500
TZOFFSETTO:-0400
TZNAME:EDT
DTSTART:20240310T070000
END:DAYLIGHT
BEGIN:STANDARD
TZOFFSETFROM:-0400
TZOFFSETTO:-0500
TZNAME:EST
DTSTART:20241103T060000
END:STANDARD
BEGIN:DAYLIGHT
TZOFFSETFROM:-0500
TZOFFSETTO:-0400
TZNAME:EDT
DTSTART:20250309T070000
END:DAYLIGHT
BEGIN:STANDARD
TZOFFSETFROM:-0400
TZOFFSETTO:-0500
TZNAME:EST
DTSTART:20251102T060000
END:STANDARD
BEGIN:DAYLIGHT
TZOFFSETFROM:-0500
TZOFFSETTO:-0400
TZNAME:EDT
DTSTART:20260308T070000
END:DAYLIGHT
BEGIN:STANDARD
TZOFFSETFROM:-0400
TZOFFSETTO:-0500
TZNAME:EST
DTSTART:20261101T060000
END:STANDARD
END:VTIMEZONE
BEGIN:VEVENT
DTSTART;VALUE=DATE:20250807
DTEND;VALUE=DATE:20250811
DTSTAMP:20260423T221716
CREATED:20250731T130954Z
LAST-MODIFIED:20250807T152354Z
UID:10006834-1754524800-1754870399@cathedralofhope.org
SUMMARY:All Together Now! Music Festival
DESCRIPTION:ELPC members Ted Cmarada and Susan Spangler have organized the All Together Now! Music Festival to benefit our immigrant community. The festival will be held Thursday–Sunday\, August 7–10\, at various venues around Pittsburgh. \nAll proceeds will go to the Collaborative for Immigrant Impact to help immigrants access legal services\, housing\, healthcare\, education\, English classes\, career development\, food assistance\, and more\, ensuring our immigrant neighbors have the opportunity to thrive. The Collaborative for Immigrant Impact is a network of 20\, Pittsburgh-based organizations that serve as a critical safety net for more than 20\,000 immigrants in our community. \nThe festival concludes on Sunday\, August 10\, 3 pm\, with An Afternoon of Storytelling and Multicultural Music and Dance in the ELPC Sanctuary. This free event will feature multi-cultural performances of music and dance from Afghanistan\, Ukraine\, Mexico\, Brazil and Bhutan; storytelling of the immigrant experience in Pittsburgh; speakers from the Collaborative for Immigrant Impact\, a colorful array of community richness; and\, an address and special proclamation by Mayor Ed Gainey. This will be a true gathering of community with neighbors old and new celebrating the power of coming All Together Now in support of one another. \nVisit alltogetherpgh.com for a schedule of events and ticket prices\, the listing of bands and artists\, to purchase tickets and t-shirts\, and to make a donation.
URL:https://cathedralofhope.org/event/all-together-now-music-festival/2025-08-07/
LOCATION:PA
CATEGORIES:Community,Concerts,Featured Events
ATTACH;FMTTYPE=image/jpeg:https://cathedralofhope.org/wp-content/uploads/2025/07/repost4849212782175885707.jpg
END:VEVENT
BEGIN:VEVENT
DTSTART;VALUE=DATE:20250810
DTEND;VALUE=DATE:20250811
DTSTAMP:20260423T221716
CREATED:20250731T130954Z
LAST-MODIFIED:20250807T152354Z
UID:10006835-1754838000-1754843400@cathedralofhope.org
SUMMARY:All Together Now! Music Festival
DESCRIPTION:ELPC members Ted Cmarada and Susan Spangler have organized the All Together Now! Music Festival to benefit our immigrant community. The festival will be held Thursday–Sunday\, August 7–10\, at various venues around Pittsburgh. \nAll proceeds will go to the Collaborative for Immigrant Impact to help immigrants access legal services\, housing\, healthcare\, education\, English classes\, career development\, food assistance\, and more\, ensuring our immigrant neighbors have the opportunity to thrive. The Collaborative for Immigrant Impact is a network of 20\, Pittsburgh-based organizations that serve as a critical safety net for more than 20\,000 immigrants in our community. \nThe festival concludes on Sunday\, August 10\, 3 pm\, with An Afternoon of Storytelling and Multicultural Music and Dance in the ELPC Sanctuary. This free event will feature multi-cultural performances of music and dance from Afghanistan\, Ukraine\, Mexico\, Brazil and Bhutan; storytelling of the immigrant experience in Pittsburgh; speakers from the Collaborative for Immigrant Impact\, a colorful array of community richness; and\, an address and special proclamation by Mayor Ed Gainey. This will be a true gathering of community with neighbors old and new celebrating the power of coming All Together Now in support of one another. \nVisit alltogetherpgh.com for a schedule of events and ticket prices\, the listing of bands and artists\, to purchase tickets and t-shirts\, and to make a donation.
URL:https://cathedralofhope.org/event/all-together-now-music-festival/2025-08-10/
LOCATION:PA
CATEGORIES:Community,Concerts,Featured Events
ATTACH;FMTTYPE=image/jpeg:https://cathedralofhope.org/wp-content/uploads/2025/07/repost4849212782175885707.jpg
END:VEVENT
END:VCALENDAR