BEGIN:VCALENDAR
VERSION:2.0
PRODID:-//East Liberty Presbyterian Church - ECPv6.15.20//NONSGML v1.0//EN
CALSCALE:GREGORIAN
METHOD:PUBLISH
X-WR-CALNAME:East Liberty Presbyterian Church
X-ORIGINAL-URL:https://cathedralofhope.org
X-WR-CALDESC:Events for East Liberty Presbyterian Church
REFRESH-INTERVAL;VALUE=DURATION:PT1H
X-Robots-Tag:noindex
X-PUBLISHED-TTL:PT1H
BEGIN:VTIMEZONE
TZID:America/New_York
BEGIN:DAYLIGHT
TZOFFSETFROM:-0500
TZOFFSETTO:-0400
TZNAME:EDT
DTSTART:20240310T070000
END:DAYLIGHT
BEGIN:STANDARD
TZOFFSETFROM:-0400
TZOFFSETTO:-0500
TZNAME:EST
DTSTART:20241103T060000
END:STANDARD
BEGIN:DAYLIGHT
TZOFFSETFROM:-0500
TZOFFSETTO:-0400
TZNAME:EDT
DTSTART:20250309T070000
END:DAYLIGHT
BEGIN:STANDARD
TZOFFSETFROM:-0400
TZOFFSETTO:-0500
TZNAME:EST
DTSTART:20251102T060000
END:STANDARD
BEGIN:DAYLIGHT
TZOFFSETFROM:-0500
TZOFFSETTO:-0400
TZNAME:EDT
DTSTART:20260308T070000
END:DAYLIGHT
BEGIN:STANDARD
TZOFFSETFROM:-0400
TZOFFSETTO:-0500
TZNAME:EST
DTSTART:20261101T060000
END:STANDARD
END:VTIMEZONE
BEGIN:VEVENT
DTSTART;TZID=America/New_York:20251012T140000
DTEND;TZID=America/New_York:20251012T150000
DTSTAMP:20260423T184054
CREATED:20250922T184247Z
LAST-MODIFIED:20250922T184247Z
UID:10006644-1760277600-1760281200@cathedralofhope.org
SUMMARY:Walk\, Give\, Change the World  
DESCRIPTION:CROP Hunger Walks are community-based walk fundraising events held in cities and towns across the U.S.\, created to support the global mission of Church World Service\, a faith-based organization transforming communities around the globe through just and sustainable responses to hunger\, poverty\, displacement and disaster. After a CROP Hunger Walk ends\, 25% of the funds raised is returned to the host community to support local hunger-fighting efforts. \nThis year’s Pittsburgh East CROP Hunger Walk will take place on Sunday\, October 12\, and 25% of what is raised will support the local hunger work of Wilkinsburg Community Ministry (WCM)\, a four-star rated charity by Charity Navigator\, that has served the community of Wilkinsburg for over 55 years. WCM currently provides both a storefront and a mobile pantry\, serving people at seven locations\, to better reach our hungry neighbors. \nIf you’d like to participate\, register as an individual\, sign up for the Waverly Presbyterian Church team\, or consider making a donation. There are 1.5 mile and 4-mile courses available. Participants will gather at Waverly Presbyterian Church (590 South Braddock Avenue\, 15221). Registration begins at 1 pm and the walk begins at 2 pm. Enjoy a leisurely stroll around the East End and do some leaf peeping while supporting our neighbors in need! \nREGISTER OR DONATE ONLINE
URL:https://cathedralofhope.org/event/walk-give-change-the-world/
LOCATION:PA
CATEGORIES:Community,Featured Events
END:VEVENT
END:VCALENDAR