BEGIN:VCALENDAR
VERSION:2.0
PRODID:-//East Liberty Presbyterian Church - ECPv6.15.20//NONSGML v1.0//EN
CALSCALE:GREGORIAN
METHOD:PUBLISH
X-ORIGINAL-URL:https://cathedralofhope.org
X-WR-CALDESC:Events for East Liberty Presbyterian Church
REFRESH-INTERVAL;VALUE=DURATION:PT1H
X-Robots-Tag:noindex
X-PUBLISHED-TTL:PT1H
BEGIN:VTIMEZONE
TZID:America/New_York
BEGIN:DAYLIGHT
TZOFFSETFROM:-0500
TZOFFSETTO:-0400
TZNAME:EDT
DTSTART:20240310T070000
END:DAYLIGHT
BEGIN:STANDARD
TZOFFSETFROM:-0400
TZOFFSETTO:-0500
TZNAME:EST
DTSTART:20241103T060000
END:STANDARD
BEGIN:DAYLIGHT
TZOFFSETFROM:-0500
TZOFFSETTO:-0400
TZNAME:EDT
DTSTART:20250309T070000
END:DAYLIGHT
BEGIN:STANDARD
TZOFFSETFROM:-0400
TZOFFSETTO:-0500
TZNAME:EST
DTSTART:20251102T060000
END:STANDARD
BEGIN:DAYLIGHT
TZOFFSETFROM:-0500
TZOFFSETTO:-0400
TZNAME:EDT
DTSTART:20260308T070000
END:DAYLIGHT
BEGIN:STANDARD
TZOFFSETFROM:-0400
TZOFFSETTO:-0500
TZNAME:EST
DTSTART:20261101T060000
END:STANDARD
END:VTIMEZONE
BEGIN:VEVENT
DTSTART;TZID=America/New_York:20251212T193000
DTEND;TZID=America/New_York:20251212T210000
DTSTAMP:20260423T160800
CREATED:20250924T173754Z
LAST-MODIFIED:20251211T155854Z
UID:10003667-1765567800-1765573200@cathedralofhope.org
SUMMARY:Cathedral Concert - Christmas in East Liberty 2025
DESCRIPTION:Our Cathedral Concerts series returns with the year’s most anticipated concert\, Christmas in East Liberty\, on Friday\, December 12\, 7:30 pm! \nThis annual\, East Liberty tradition will feature holiday favorites\, along with performances by The Brass Roots with conductor Daniel Curtis\, the ELPC Chancel Choir under the direction of Dr. Edward Alan Moore\, guest organist Ethan LaPlaca\, saxophonist Mike Tomaro\, and narrator Jim Cunningham. The concert also will include a new setting of It’s the Most Wonderful Time of the Year by Mike Tomaro. \nJoin us in the Sanctuary or on YouTube or Facebook. The concert is free and open to all\, so bring your family and friends! A freewill offering will be received. \nThe concert is free and open to all. A freewill offering will be received at the concert. \nChristmas in East Liberty 2025\nThe Brass Roots – Daniel Curtis\, conductor\nELPC Chancel Choir – Dr. Edward Alan Moore\, conductor\nEthan LaPlaca\, guest organist\nMike Tomaro\, saxophone\nJim Cunningham\, narrator\n\nFeaturing a new setting of It’s the Most Wonderful Time of the Year by Mike Tomaro \nPROGRAM – Click here for the PDF of the printed program \nO Come\, All Ye Faithful – arr. Willcocks \nHark the Herald Angels Sing – arr. DiLorenzo \nAve Maria – Biebl/arr. Yager \nI Wonder as I Wander – arr. Tomaro\nMike Tomaro\, saxophone \n‘Twas the Night Before Christmas – arr. DiLorenzo\nJim Cunningham\, narrator \nSussex Carol – arr. Willcocks \nCarol Fantasia – Mary Beth Bennett \nIntermission \nWhite Christmas – Berlin/arr. Tomaro \nTwelve Days of Christmas – arr. Holcombe \nSilver Bells – arr. Connick/Gardner \nChristmas Toons – arr. DiLorenzo \nIt’s the Most Wonderful Time of the Year – Pola\, Wyle/arr. Tomaro\nPREMIERE – commissioned for Christmas in East Liberty 2025
URL:https://cathedralofhope.org/event/cathedral-concert-christmas-in-east-liberty-2/
LOCATION:ELPC – Sanctuary\, 116 South Highland Avenue\, Pittsburgh\, PA\, 15206\, United States
CATEGORIES:Cathedral Concerts,Church Life,Concerts,Featured Events,Music,Special Events
ATTACH;FMTTYPE=image/png:https://cathedralofhope.org/wp-content/uploads/2025/06/Christmas-in-East-Liberty-2024-scaled.png
ORGANIZER;CN="Dr. Ed Moore":MAILTO:EdM@coh.net
GEO:40.461033;-79.925503
X-APPLE-STRUCTURED-LOCATION;VALUE=URI;X-ADDRESS=ELPC – Sanctuary 116 South Highland Avenue Pittsburgh PA 15206 United States;X-APPLE-RADIUS=500;X-TITLE=116 South Highland Avenue:geo:-79.925503,40.461033
END:VEVENT
BEGIN:VEVENT
DTSTART;TZID=America/New_York:20251215T080000
DTEND;TZID=America/New_York:20251215T170000
DTSTAMP:20260423T160800
CREATED:20251215T183539Z
LAST-MODIFIED:20251215T183539Z
UID:10006456-1765785600-1765818000@cathedralofhope.org
SUMMARY:We the Messiah – A Hip Hop Remix of Handel’s Messiah
DESCRIPTION:Join Pastor Michael and other Pittsburgh faith leaders as they help narrate the production of We the Messiah\, a Hip Hop remix and social justice reimagining of Handel’s Messiah. This theatrical concert is a crescendo call for collective action and an instrumental invitation to awaken the Messiah that lives in us all. ELPC community members contributed to the project earlier this fall through activism conversations that helped shape the community-voices component of the production. \nPerformances are on Friday\, December 19\, 7:30 pm\, and Saturday\, December 20\, 3 pm & 7:30 pm. Tickets are free\, but please register at kelly-strayhorn.org.
URL:https://cathedralofhope.org/event/we-the-messiah-a-hip-hop-remix-of-handels-messiah/
LOCATION:PA
CATEGORIES:Community,Concerts,Featured Events
ATTACH;FMTTYPE=image/png:https://cathedralofhope.org/wp-content/uploads/2025/12/WTM-BLANK-FOR-KST_ENLARGED-FIST-1-1-600x400-1.png
END:VEVENT
END:VCALENDAR