BEGIN:VCALENDAR
VERSION:2.0
PRODID:-//East Liberty Presbyterian Church - ECPv6.15.20//NONSGML v1.0//EN
CALSCALE:GREGORIAN
METHOD:PUBLISH
X-ORIGINAL-URL:https://cathedralofhope.org
X-WR-CALDESC:Events for East Liberty Presbyterian Church
REFRESH-INTERVAL;VALUE=DURATION:PT1H
X-Robots-Tag:noindex
X-PUBLISHED-TTL:PT1H
BEGIN:VTIMEZONE
TZID:America/New_York
BEGIN:DAYLIGHT
TZOFFSETFROM:-0500
TZOFFSETTO:-0400
TZNAME:EDT
DTSTART:20250309T070000
END:DAYLIGHT
BEGIN:STANDARD
TZOFFSETFROM:-0400
TZOFFSETTO:-0500
TZNAME:EST
DTSTART:20251102T060000
END:STANDARD
BEGIN:DAYLIGHT
TZOFFSETFROM:-0500
TZOFFSETTO:-0400
TZNAME:EDT
DTSTART:20260308T070000
END:DAYLIGHT
BEGIN:STANDARD
TZOFFSETFROM:-0400
TZOFFSETTO:-0500
TZNAME:EST
DTSTART:20261101T060000
END:STANDARD
BEGIN:DAYLIGHT
TZOFFSETFROM:-0500
TZOFFSETTO:-0400
TZNAME:EDT
DTSTART:20270314T070000
END:DAYLIGHT
BEGIN:STANDARD
TZOFFSETFROM:-0400
TZOFFSETTO:-0500
TZNAME:EST
DTSTART:20271107T060000
END:STANDARD
END:VTIMEZONE
BEGIN:VEVENT
DTSTART;TZID=America/New_York:20260201T150000
DTEND;TZID=America/New_York:20260201T163000
DTSTAMP:20260423T122902
CREATED:20250924T173509Z
LAST-MODIFIED:20260131T163512Z
UID:10006726-1769958000-1769963400@cathedralofhope.org
SUMMARY:Cathedral Concert - Hope Academy Teaching Artists in Concert
DESCRIPTION:PROGRAM\nClick here for a PDF of the printed program. \nSix Suites for the Viola\nJohann Sabastian Bach (1685-1750)\ni. Prelude\nii. Allemande\nOmari Abdul-Alim\, viola \nC Minor Prelude\nJohann Sebastian Bach\nNostalgia\nCaleb Smith\nCaleb Smith\, piano \nLibertango\nAstor Piazzolla\nLiza Barley\, violin and Gil Teixeira\, guitar \nSafety – SHUAA\nLTR to an ex – SHUAA\nJoshua Rouse\, voice\nJayla Griggs\, piano \n‘Untitled’\nMusic by Yo-Yo Ma and the Silk Road Ensemble\nMembers of Shana Simmons Dance Company\nBrittany Nettles\nMadisyn Montgommery\nAbby Breznak \nBroken Pieces – Idasa Tariq\nIt’s On Me – Idasa Tariq\nSoulman IT\, MC \nDream Keeper\nPoem by Langston Hughes\nMusic by Anqwenique Kinsel\nAnqwenique\, voice\nJoshua Rouse\, piano \nThe concert is free and open to all. A freewill offering will be received at the concert.
URL:https://cathedralofhope.org/event/cathedral-concert-hope-academy-teaching-artists-in-concert/
LOCATION:ELPC – Sanctuary\, 116 South Highland Avenue\, Pittsburgh\, PA\, 15206\, United States
CATEGORIES:Cathedral Concerts,Church Life,Concerts,Featured Events,Music,Special Events
ATTACH;FMTTYPE=image/jpeg:https://cathedralofhope.org/wp-content/uploads/2025/09/HA-Teaching-Artists-Collage.jpg
ORGANIZER;CN="Dr. Ed Moore":MAILTO:EdM@coh.net
GEO:40.461033;-79.925503
X-APPLE-STRUCTURED-LOCATION;VALUE=URI;X-ADDRESS=ELPC – Sanctuary 116 South Highland Avenue Pittsburgh PA 15206 United States;X-APPLE-RADIUS=500;X-TITLE=116 South Highland Avenue:geo:-79.925503,40.461033
END:VEVENT
END:VCALENDAR