BEGIN:VCALENDAR
VERSION:2.0
PRODID:-//East Liberty Presbyterian Church - ECPv6.15.20//NONSGML v1.0//EN
CALSCALE:GREGORIAN
METHOD:PUBLISH
X-WR-CALNAME:East Liberty Presbyterian Church
X-ORIGINAL-URL:https://cathedralofhope.org
X-WR-CALDESC:Events for East Liberty Presbyterian Church
REFRESH-INTERVAL;VALUE=DURATION:PT1H
X-Robots-Tag:noindex
X-PUBLISHED-TTL:PT1H
BEGIN:VTIMEZONE
TZID:America/New_York
BEGIN:DAYLIGHT
TZOFFSETFROM:-0500
TZOFFSETTO:-0400
TZNAME:EDT
DTSTART:20220313T070000
END:DAYLIGHT
BEGIN:STANDARD
TZOFFSETFROM:-0400
TZOFFSETTO:-0500
TZNAME:EST
DTSTART:20221106T060000
END:STANDARD
BEGIN:DAYLIGHT
TZOFFSETFROM:-0500
TZOFFSETTO:-0400
TZNAME:EDT
DTSTART:20230312T070000
END:DAYLIGHT
BEGIN:STANDARD
TZOFFSETFROM:-0400
TZOFFSETTO:-0500
TZNAME:EST
DTSTART:20231105T060000
END:STANDARD
BEGIN:DAYLIGHT
TZOFFSETFROM:-0500
TZOFFSETTO:-0400
TZNAME:EDT
DTSTART:20240310T070000
END:DAYLIGHT
BEGIN:STANDARD
TZOFFSETFROM:-0400
TZOFFSETTO:-0500
TZNAME:EST
DTSTART:20241103T060000
END:STANDARD
BEGIN:DAYLIGHT
TZOFFSETFROM:-0500
TZOFFSETTO:-0400
TZNAME:EDT
DTSTART:20250309T070000
END:DAYLIGHT
BEGIN:STANDARD
TZOFFSETFROM:-0400
TZOFFSETTO:-0500
TZNAME:EST
DTSTART:20251102T060000
END:STANDARD
BEGIN:DAYLIGHT
TZOFFSETFROM:-0500
TZOFFSETTO:-0400
TZNAME:EDT
DTSTART:20260308T070000
END:DAYLIGHT
BEGIN:STANDARD
TZOFFSETFROM:-0400
TZOFFSETTO:-0500
TZNAME:EST
DTSTART:20261101T060000
END:STANDARD
END:VTIMEZONE
BEGIN:VEVENT
DTSTART;TZID=America/New_York:20251019T121500
DTEND;TZID=America/New_York:20251019T133000
DTSTAMP:20260423T071036
CREATED:20251010T164725Z
LAST-MODIFIED:20251013T163329Z
UID:10007368-1760876100-1760880600@cathedralofhope.org
SUMMARY:ELPC Connections Potluck Lunch
DESCRIPTION:“What if we heard the voice of God saying ‘How can you be lost when I am right here?’” \nWith those words from Pastor Michael’s sermon on September 14 ringing in our hurting hearts\, we invite you to celebrate our Connections Ministry’s 2025–2026 season kick-off with an ELPC Connections Potluck Lunch following Sanctuary worship on Sunday\, October 19\, in the Good Samaritan Room! \nConnections events build bonds\, forge friendships\, and create community that heals the disconnected\, the fearful and the lost—including us—through monthly\, small-group activities. \nJesus as shepherd rejoices when the lost—an unseen\, unknown\, or uncertain person—is found. Connections—a home meal\, a concert\, a hike\, etc.—celebrates when we beloved folks find each other. \nJesus welcomed those accepted and rejected by society and so do we. That’s why we added an intentional LGBTQIA+ affinity group to affirm Pastor Michael’s words that “divine love always seeks us out.” \nEven if you’ve yet to register for a Connections group\, we’d love to get to know you at the ELPC Connections Potluck Lunch. For planning purposes\, please sign up online. \n  \nSign Up \n  \nChrist always had room at his table; so do we at ELPC!
URL:https://cathedralofhope.org/event/all-church-potluck/
CATEGORIES:Community,Connections Group,Featured Events
END:VEVENT
BEGIN:VEVENT
DTSTART;TZID=America/New_York:20240712T183000
DTEND;TZID=America/New_York:20240712T200000
DTSTAMP:20260423T071036
CREATED:20240627T162651Z
LAST-MODIFIED:20240627T162720Z
UID:10004228-1720809000-1720814400@cathedralofhope.org
SUMMARY:ELPC Connections: Fridays @ Frick
DESCRIPTION:Join ELPC’s Connections group for the Fridays @ Frick concert on July 12. Music will be provided by Living Dream. The lawn opens at 5 pm; music starts at 6:30 pm. The concert is free\, but a $5 adult donation is suggested. \nBring a lawn chair or blanket. Pack a meal for yourself or buy food from the vendors. Come enjoy music and each other’s company. \nRSVP to connectelpc@gmail.com\, so that we can let you know where to find us.
URL:https://cathedralofhope.org/event/elpc-connections-fridays-frick/
LOCATION:Frick Park\, Beechwood Blvd. & Nicholson St.\, \, Squirrel Hill\, 15217
CATEGORIES:Connections Group,Featured Events
ATTACH;FMTTYPE=image/png:https://cathedralofhope.org/wp-content/uploads/2024/06/img_fridays-at-frick.png
GEO:40.4302631;-79.9152242
X-APPLE-STRUCTURED-LOCATION;VALUE=URI;X-ADDRESS=Frick Park Beechwood Blvd. & Nicholson St.  Squirrel Hill 15217;X-APPLE-RADIUS=500;X-TITLE=Beechwood Blvd. & Nicholson St.\,:geo:-79.9152242,40.4302631
END:VEVENT
BEGIN:VEVENT
DTSTART;TZID=America/New_York:20240615T190000
DTEND;TZID=America/New_York:20240615T203000
DTSTAMP:20260423T071036
CREATED:20240531T101115Z
LAST-MODIFIED:20240531T101115Z
UID:10003394-1718478000-1718483400@cathedralofhope.org
SUMMARY:ELPC Connections @ Stars at Riverview
DESCRIPTION:Join ELPC’s Connections group for the free Stars at Riverview concert on Saturday\, June 15\, 7–8:30 pm\, at Observatory Hill in Riverview Park. Music will be provided by The Dark Matter Trio. \nBring a lawn chair or blanket. Pack a meal for yourself or buy food from the vendors. Come enjoy music and each other’s company. Please RSVP to connectelpc@gmail.com\, so that we can let you know where to find us.
URL:https://cathedralofhope.org/event/elpc-connections-stars-at-riverview/
CATEGORIES:Connections Group,Featured Events
ATTACH;FMTTYPE=image/webp:https://cathedralofhope.org/wp-content/uploads/2024/05/img_dark-matter-trio.webp
END:VEVENT
BEGIN:VEVENT
DTSTART;TZID=America/New_York:20240210T193000
DTEND;TZID=America/New_York:20240210T213000
DTSTAMP:20260423T071036
CREATED:20240118T110126Z
LAST-MODIFIED:20240118T110414Z
UID:10003238-1707593400-1707600600@cathedralofhope.org
SUMMARY:Connections @ Blues is the Roots
DESCRIPTION:Join ELPC’s Connections Group on Saturday\, February 10\, 7:30 pm\, for Blues Is The Roots\, presented by New Horizon’s Theater\, written by Charles Dumas\, and directed by Herb Newsome. The performance will be in the Helen Wayne Rauh Rehearsal Hall at the O’Reilly Theater (621 Penn Ave.) downtown in the Cultural District. \nTickets are available online at newhorizontheater.org. Please buy your own ticket in advance. They cost $35 general admission; $30 for seniors and students.  We also are organizing dinner at a nearby restaurant before the show. RSVP to connectelpc@gmail.com so we’ll know to look out for you. \nBuy Tickets
URL:https://cathedralofhope.org/event/connections-blues-is-the-roots/
LOCATION:O’Reilly Theater\, 621 Penn Ave.\, Pittsburgh\, PA\, 15222\, United States
CATEGORIES:Connections Group,Featured Events
ATTACH;FMTTYPE=image/png:https://cathedralofhope.org/wp-content/uploads/2024/01/img_blues-is-the-roots-web.png
END:VEVENT
BEGIN:VEVENT
DTSTART;TZID=America/New_York:20231015T121500
DTEND;TZID=America/New_York:20231015T133000
DTSTAMP:20260423T071036
CREATED:20230913T215557Z
LAST-MODIFIED:20230913T215557Z
UID:10003211-1697372100-1697376600@cathedralofhope.org
SUMMARY:Connections Potluck Lunch
DESCRIPTION:Join us for a potluck lunch following Sanctuary worship on Sunday\, October 15\, 12:15 pm\, in the Music Room on the third floor. \nClick the button below to sign up and indicate what food you can bring to share. \nSign up for the Potluck Lunch
URL:https://cathedralofhope.org/event/connections-potluck-lunch/
LOCATION:ELPC – Music Room\, 116 South Highland Avenue\, Pittsburgh\, PA\, 15206\, United States
CATEGORIES:Connections Group,Featured Events
GEO:40.461033;-79.925503
X-APPLE-STRUCTURED-LOCATION;VALUE=URI;X-ADDRESS=ELPC – Music Room 116 South Highland Avenue Pittsburgh PA 15206 United States;X-APPLE-RADIUS=500;X-TITLE=116 South Highland Avenue:geo:-79.925503,40.461033
END:VEVENT
BEGIN:VEVENT
DTSTART;TZID=America/New_York:20230924T183000
DTEND;TZID=America/New_York:20230924T223000
DTSTAMP:20260423T071036
CREATED:20230913T133252Z
LAST-MODIFIED:20230913T214822Z
UID:10003758-1695580200-1695594600@cathedralofhope.org
SUMMARY:Connections Group @ Asian Lantern Festival
DESCRIPTION:Would you like to reunite with some old friends? Our Connections Group will meet at the Pittsburgh Zoo on Sunday\, September 24\, 6:30 pm\, to explore the Asian Lantern Festival: World of Wonders. This year’s festival features a completely new display of lanterns! Explore the Zoo at night among giant luminous handcrafted sculptures while learning about Asian history and culture. The festival also features delicious themed-food and amazing entertainment. \nBuy your own ticket online ($21 for adults). We’ll gather at the front gate to walk through together! RSVP to connectelpc@gmail.com. \nBuy Ticket \n 
URL:https://cathedralofhope.org/event/connections-group-asian-lantern-festival/
LOCATION:Pittsburgh Zoo\, 7370 Baker St\, Pittsburgh\, Pennsylvania\, 15206\, United States
CATEGORIES:Connections Group,Featured Events
ATTACH;FMTTYPE=image/jpeg:https://cathedralofhope.org/wp-content/uploads/2022/09/img_asian-lantern-festival-2023_h.jpg
END:VEVENT
BEGIN:VEVENT
DTSTART;TZID=America/New_York:20230818T170000
DTEND;TZID=America/New_York:20230818T180000
DTSTAMP:20260423T071036
CREATED:20230807T134547Z
LAST-MODIFIED:20230807T134547Z
UID:10002313-1692378000-1692381600@cathedralofhope.org
SUMMARY:ELPC Connections @ Fridays at Frick
DESCRIPTION:Join ELPC’s Connections Group on Friday\, August 18\, 5 pm\, for Summer Fridays at Frick! \nThere will be live music by Truth and Rites (roots reggae)\, food trucks\, artmaking\, and family fun. Bring a chair and your own picnic dinner or purchase from food vendors. \nRSVP to connectelpc@gmail.com.
URL:https://cathedralofhope.org/event/elpc-connections-fridays-at-frick/
CATEGORIES:Connections Group,Featured Events
END:VEVENT
BEGIN:VEVENT
DTSTART;TZID=America/New_York:20230311T190000
DTEND;TZID=America/New_York:20230311T210000
DTSTAMP:20260423T071036
CREATED:20230223T211705Z
LAST-MODIFIED:20230223T212927Z
UID:10006789-1678561200-1678568400@cathedralofhope.org
SUMMARY:Make Connections with Board Games
DESCRIPTION:The ELPC Connections Group invites you to Gretchen Chapman’s house to play board games on Saturday\, March 11\, 7–9 pm. You are welcome to bring a game or a snack to share! \nEmail connectelpc@gmail.com to RSVP to either or both events\, or to ask questions.
URL:https://cathedralofhope.org/event/make-connections-with-board-games/
CATEGORIES:Connections Group,Featured Events
ATTACH;FMTTYPE=image/png:https://cathedralofhope.org/wp-content/uploads/2023/02/147191586_l-web.png
END:VEVENT
BEGIN:VEVENT
DTSTART;TZID=America/New_York:20230218T030000
DTEND;TZID=America/New_York:20230218T180000
DTSTAMP:20260423T071036
CREATED:20230125T173731Z
LAST-MODIFIED:20230125T174626Z
UID:10006755-1676689200-1676743200@cathedralofhope.org
SUMMARY:Make Connections at American Menu
DESCRIPTION:On Saturday\, February 18\, 3 pm\, the ELPC Connections Group invites you to see the play “American Menu” at New Horizons Theater at the Carnegie Library of Pittsburgh in Homewood (7101 Hamilton Ave.\, 15208). \nPlease buy your own ticket ($25) in advance at OnTheStage.tickets. Following the play\, we’ll go to a nearby restaurant to eat and talk. \nEmail connectelpc@gmail.com to RSVP to either or both events\, or to ask questions. We look forward to connecting with you!
URL:https://cathedralofhope.org/event/make-connections-at-american-menu/
CATEGORIES:Connections Group,Featured Events
ATTACH;FMTTYPE=image/png:https://cathedralofhope.org/wp-content/uploads/2023/01/img_american-menu.png
END:VEVENT
BEGIN:VEVENT
DTSTART;TZID=America/New_York:20230107T153000
DTEND;TZID=America/New_York:20230107T170000
DTSTAMP:20260423T071036
CREATED:20221123T153310Z
LAST-MODIFIED:20221123T153824Z
UID:10006788-1673105400-1673110800@cathedralofhope.org
SUMMARY:Connections Group @ Phipps' Holiday Magic!
DESCRIPTION:The ELPC Connections Group will be visiting Phipps’ Holiday Magic! Winter Flower Show and Light Garden on Saturday\, January 7\, 3:30 pm. After walking through the exhibit\, we will go to a nearby restaurant to eat and talk. \nPlease buy your ticket in advance and gather at the front entrance at 3:30 pm. Tickets can be purchased online starting Monday\, December 12. The cost is $24 for adults\, $14 for children\, $22 for seniors and students\, and free if you are a member. We have a few free tickets available for those who would like one. \nRSVP to connectelpc@gmail.com.
URL:https://cathedralofhope.org/event/connections-group-phipps-holiday-magic/
LOCATION:Phipps Conservatory and Botanical Gardens\, One Schenley Park \, Pittsburgh\, PA\, 15213\, United States
CATEGORIES:Connections Group,Featured Events
ATTACH;FMTTYPE=image/jpeg:https://cathedralofhope.org/wp-content/uploads/2022/11/HM22_Wide.jpg
GEO:40.4318311;-79.9462078
X-APPLE-STRUCTURED-LOCATION;VALUE=URI;X-ADDRESS=Phipps Conservatory and Botanical Gardens One Schenley Park  Pittsburgh PA 15213 United States;X-APPLE-RADIUS=500;X-TITLE=One Schenley Park:geo:-79.9462078,40.4318311
END:VEVENT
END:VCALENDAR