BEGIN:VCALENDAR
VERSION:2.0
PRODID:-//East Liberty Presbyterian Church - ECPv6.15.20//NONSGML v1.0//EN
CALSCALE:GREGORIAN
METHOD:PUBLISH
X-WR-CALNAME:East Liberty Presbyterian Church
X-ORIGINAL-URL:https://cathedralofhope.org
X-WR-CALDESC:Events for East Liberty Presbyterian Church
REFRESH-INTERVAL;VALUE=DURATION:PT1H
X-Robots-Tag:noindex
X-PUBLISHED-TTL:PT1H
BEGIN:VTIMEZONE
TZID:America/New_York
BEGIN:DAYLIGHT
TZOFFSETFROM:-0500
TZOFFSETTO:-0400
TZNAME:EDT
DTSTART:20230312T070000
END:DAYLIGHT
BEGIN:STANDARD
TZOFFSETFROM:-0400
TZOFFSETTO:-0500
TZNAME:EST
DTSTART:20231105T060000
END:STANDARD
BEGIN:DAYLIGHT
TZOFFSETFROM:-0500
TZOFFSETTO:-0400
TZNAME:EDT
DTSTART:20240310T070000
END:DAYLIGHT
BEGIN:STANDARD
TZOFFSETFROM:-0400
TZOFFSETTO:-0500
TZNAME:EST
DTSTART:20241103T060000
END:STANDARD
BEGIN:DAYLIGHT
TZOFFSETFROM:-0500
TZOFFSETTO:-0400
TZNAME:EDT
DTSTART:20250309T070000
END:DAYLIGHT
BEGIN:STANDARD
TZOFFSETFROM:-0400
TZOFFSETTO:-0500
TZNAME:EST
DTSTART:20251102T060000
END:STANDARD
END:VTIMEZONE
BEGIN:VTIMEZONE
TZID:America/Halifax
BEGIN:DAYLIGHT
TZOFFSETFROM:-0400
TZOFFSETTO:-0300
TZNAME:ADT
DTSTART:20230312T060000
END:DAYLIGHT
BEGIN:STANDARD
TZOFFSETFROM:-0300
TZOFFSETTO:-0400
TZNAME:AST
DTSTART:20231105T050000
END:STANDARD
BEGIN:DAYLIGHT
TZOFFSETFROM:-0400
TZOFFSETTO:-0300
TZNAME:ADT
DTSTART:20240310T060000
END:DAYLIGHT
BEGIN:STANDARD
TZOFFSETFROM:-0300
TZOFFSETTO:-0400
TZNAME:AST
DTSTART:20241103T050000
END:STANDARD
BEGIN:DAYLIGHT
TZOFFSETFROM:-0400
TZOFFSETTO:-0300
TZNAME:ADT
DTSTART:20250309T060000
END:DAYLIGHT
BEGIN:STANDARD
TZOFFSETFROM:-0300
TZOFFSETTO:-0400
TZNAME:AST
DTSTART:20251102T050000
END:STANDARD
END:VTIMEZONE
BEGIN:VEVENT
DTSTART;TZID=America/New_York:20240601T090000
DTEND;TZID=America/New_York:20240601T160000
DTSTAMP:20260425T223358
CREATED:20240411T174216Z
LAST-MODIFIED:20240411T174216Z
UID:10003198-1717232400-1717257600@cathedralofhope.org
SUMMARY:Attending to Wilderness Day Retreat
DESCRIPTION:When we spend time immersed in nature\, noticing\, and attending to both the detail and grandeur of our outer world\, we simultaneously notice and attend to our inner world. Join us for a contemplative retreat on Saturday\, June 1\, 9 am–4 pm\, as we wander\, reflect\, explore\, and share together at Jennings Environmental Center (2951 Prospect Rd.\, Slippery Rock\, PA 16057). \nThere will be time in groups and in solitude\, time for creative expression\, prayer\, and integrating what we discover within ourselves and our natural environment. Hiking options will be available for all skill levels—including a longer more challenging hike\, a hike on short easy terrain\, and a very mild\, mostly stationary option. \nWe will be led by Megan Shelly\, a spiritual director and the founder of bewilderpgh\, where she designs and leads retreats and contemplative backpacking trips. You can learn more about her work at bewilderpgh.com. \nThe cost is $40. Beverages\, snacks\, and lunch will be provided. Please RSVP to Norma Meyer at 412.441.3800 x211 by Sunday\, May 19.
URL:https://cathedralofhope.org/event/attending-to-wilderness-day-retreat/
LOCATION:PA
CATEGORIES:Educational & Spiritual Life,Featured Events
ATTACH;FMTTYPE=image/png:https://cathedralofhope.org/wp-content/uploads/2024/04/3e126594-af6e-4dd2-9fed-d31c9225aea7_e45adf5f6bc0c5c2a30a39868f44eab6.png
END:VEVENT
BEGIN:VEVENT
DTSTART;TZID=America/New_York:20240604T180000
DTEND;TZID=America/New_York:20240604T190000
DTSTAMP:20260425T223358
CREATED:20221206T140805Z
LAST-MODIFIED:20230707T211000Z
UID:10006964-1717524000-1717527600@cathedralofhope.org
SUMMARY:Meditation Hour
DESCRIPTION:“The ladder leading to the Kingdom is concealed within you\, that is\, in your soul”—Saint Isaac of Syria. \nMeditation is the practice of “looking deeply.” In silence and withdrawal from the world of everyday concerns\, we turn our attention inward and calm our bodies and minds. In this emptiness\, we may see the world as if for the first time. We may see others as they are and we may find that the Kingdom of Heaven is truly within us; that we are living in God and God in us. \nThe Spiritual Life Committee invites you to join John Benedict in the Chapel on Tuesdays\, 6–7 pm\, for an hour devoted to meditation. The session will include an opening reading\, silent sitting\, and walking. No experience necessary\, all are welcome. \nJohn Benedict is a retired psychologist and a longtime student and practitioner of Insight Meditation.
URL:https://cathedralofhope.org/event/meditation-hour/2024-06-04/
LOCATION:ELPC – Chapel\, 116 South Highland Avenue\, Pittsburgh\, PA\, 15206\, United States
CATEGORIES:Church Life,Educational & Spiritual Life
ATTACH;FMTTYPE=image/jpeg:https://cathedralofhope.org/wp-content/uploads/2022/12/meditation.jpg
GEO:40.461033;-79.925503
X-APPLE-STRUCTURED-LOCATION;VALUE=URI;X-ADDRESS=ELPC – Chapel 116 South Highland Avenue Pittsburgh PA 15206 United States;X-APPLE-RADIUS=500;X-TITLE=116 South Highland Avenue:geo:-79.925503,40.461033
END:VEVENT
BEGIN:VEVENT
DTSTART;TZID=America/New_York:20240605T180000
DTEND;TZID=America/New_York:20240605T190000
DTSTAMP:20260425T223358
CREATED:20221115T004955Z
LAST-MODIFIED:20251219T201431Z
UID:10005851-1717610400-1717614000@cathedralofhope.org
SUMMARY:Cathedral Yoga
DESCRIPTION:Yamuna Morgenstern offers Cathedral Yoga class on Wednesdays\, 6–7 pm! Join her and others in the ELPC Sanctuary or your own home via Zoom (password: Yamuna) as she guides you through gentle poses. No yoga experience is necessary to enjoy the class\, which Yamuna continues to offer with joy\, light\, and her uplifting playlists and spirit. Have a strap\, scarf\, or belt handy and experience time to heal your body\, mind\, and spirit. \nCommune with the Divine through breath\, gentle stretches\, mindful music\, and guided meditation. See you on the mat! Om shanti and Namaste. \nA donation from the heart\, to the church\, is very much appreciated. \nJoin via Zoom
URL:https://cathedralofhope.org/event/cathedral-yoga/2024-06-05/
LOCATION:ELPC – Sanctuary\, 116 South Highland Avenue\, Pittsburgh\, PA\, 15206\, United States
CATEGORIES:Church Life,Educational & Spiritual Life,Health
ATTACH;FMTTYPE=image/jpeg:https://cathedralofhope.org/wp-content/uploads/2015/09/img_cathedral-yoga.jpg
GEO:40.461033;-79.925503
X-APPLE-STRUCTURED-LOCATION;VALUE=URI;X-ADDRESS=ELPC – Sanctuary 116 South Highland Avenue Pittsburgh PA 15206 United States;X-APPLE-RADIUS=500;X-TITLE=116 South Highland Avenue:geo:-79.925503,40.461033
END:VEVENT
BEGIN:VEVENT
DTSTART;TZID=America/New_York:20240611T180000
DTEND;TZID=America/New_York:20240611T190000
DTSTAMP:20260425T223358
CREATED:20221206T140805Z
LAST-MODIFIED:20230707T211000Z
UID:10006965-1718128800-1718132400@cathedralofhope.org
SUMMARY:Meditation Hour
DESCRIPTION:“The ladder leading to the Kingdom is concealed within you\, that is\, in your soul”—Saint Isaac of Syria. \nMeditation is the practice of “looking deeply.” In silence and withdrawal from the world of everyday concerns\, we turn our attention inward and calm our bodies and minds. In this emptiness\, we may see the world as if for the first time. We may see others as they are and we may find that the Kingdom of Heaven is truly within us; that we are living in God and God in us. \nThe Spiritual Life Committee invites you to join John Benedict in the Chapel on Tuesdays\, 6–7 pm\, for an hour devoted to meditation. The session will include an opening reading\, silent sitting\, and walking. No experience necessary\, all are welcome. \nJohn Benedict is a retired psychologist and a longtime student and practitioner of Insight Meditation.
URL:https://cathedralofhope.org/event/meditation-hour/2024-06-11/
LOCATION:ELPC – Chapel\, 116 South Highland Avenue\, Pittsburgh\, PA\, 15206\, United States
CATEGORIES:Church Life,Educational & Spiritual Life
ATTACH;FMTTYPE=image/jpeg:https://cathedralofhope.org/wp-content/uploads/2022/12/meditation.jpg
GEO:40.461033;-79.925503
X-APPLE-STRUCTURED-LOCATION;VALUE=URI;X-ADDRESS=ELPC – Chapel 116 South Highland Avenue Pittsburgh PA 15206 United States;X-APPLE-RADIUS=500;X-TITLE=116 South Highland Avenue:geo:-79.925503,40.461033
END:VEVENT
BEGIN:VEVENT
DTSTART;TZID=America/New_York:20240612T180000
DTEND;TZID=America/New_York:20240612T190000
DTSTAMP:20260425T223358
CREATED:20221115T004955Z
LAST-MODIFIED:20251219T201431Z
UID:10005852-1718215200-1718218800@cathedralofhope.org
SUMMARY:Cathedral Yoga
DESCRIPTION:Yamuna Morgenstern offers Cathedral Yoga class on Wednesdays\, 6–7 pm! Join her and others in the ELPC Sanctuary or your own home via Zoom (password: Yamuna) as she guides you through gentle poses. No yoga experience is necessary to enjoy the class\, which Yamuna continues to offer with joy\, light\, and her uplifting playlists and spirit. Have a strap\, scarf\, or belt handy and experience time to heal your body\, mind\, and spirit. \nCommune with the Divine through breath\, gentle stretches\, mindful music\, and guided meditation. See you on the mat! Om shanti and Namaste. \nA donation from the heart\, to the church\, is very much appreciated. \nJoin via Zoom
URL:https://cathedralofhope.org/event/cathedral-yoga/2024-06-12/
LOCATION:ELPC – Sanctuary\, 116 South Highland Avenue\, Pittsburgh\, PA\, 15206\, United States
CATEGORIES:Church Life,Educational & Spiritual Life,Health
ATTACH;FMTTYPE=image/jpeg:https://cathedralofhope.org/wp-content/uploads/2015/09/img_cathedral-yoga.jpg
GEO:40.461033;-79.925503
X-APPLE-STRUCTURED-LOCATION;VALUE=URI;X-ADDRESS=ELPC – Sanctuary 116 South Highland Avenue Pittsburgh PA 15206 United States;X-APPLE-RADIUS=500;X-TITLE=116 South Highland Avenue:geo:-79.925503,40.461033
END:VEVENT
BEGIN:VEVENT
DTSTART;TZID=America/New_York:20240618T180000
DTEND;TZID=America/New_York:20240618T190000
DTSTAMP:20260425T223358
CREATED:20221206T140805Z
LAST-MODIFIED:20230707T211000Z
UID:10006966-1718733600-1718737200@cathedralofhope.org
SUMMARY:Meditation Hour
DESCRIPTION:“The ladder leading to the Kingdom is concealed within you\, that is\, in your soul”—Saint Isaac of Syria. \nMeditation is the practice of “looking deeply.” In silence and withdrawal from the world of everyday concerns\, we turn our attention inward and calm our bodies and minds. In this emptiness\, we may see the world as if for the first time. We may see others as they are and we may find that the Kingdom of Heaven is truly within us; that we are living in God and God in us. \nThe Spiritual Life Committee invites you to join John Benedict in the Chapel on Tuesdays\, 6–7 pm\, for an hour devoted to meditation. The session will include an opening reading\, silent sitting\, and walking. No experience necessary\, all are welcome. \nJohn Benedict is a retired psychologist and a longtime student and practitioner of Insight Meditation.
URL:https://cathedralofhope.org/event/meditation-hour/2024-06-18/
LOCATION:ELPC – Chapel\, 116 South Highland Avenue\, Pittsburgh\, PA\, 15206\, United States
CATEGORIES:Church Life,Educational & Spiritual Life
ATTACH;FMTTYPE=image/jpeg:https://cathedralofhope.org/wp-content/uploads/2022/12/meditation.jpg
GEO:40.461033;-79.925503
X-APPLE-STRUCTURED-LOCATION;VALUE=URI;X-ADDRESS=ELPC – Chapel 116 South Highland Avenue Pittsburgh PA 15206 United States;X-APPLE-RADIUS=500;X-TITLE=116 South Highland Avenue:geo:-79.925503,40.461033
END:VEVENT
BEGIN:VEVENT
DTSTART;TZID=America/New_York:20240619T180000
DTEND;TZID=America/New_York:20240619T190000
DTSTAMP:20260425T223358
CREATED:20221115T004955Z
LAST-MODIFIED:20240528T162822Z
UID:10006459-1718820000-1718823600@cathedralofhope.org
SUMMARY:NO Cathedral Yoga
DESCRIPTION:There will be no Cathedral Yoga class today\, June 19\, in observance of Juneteenth. Our regular schedule resumes next Wednesday\, June 26. \n\nYamuna Morgenstern offers Cathedral Yoga class on Wednesdays\, 6–7 pm! Join her and others in the ELPC Sanctuary or your own home via Zoom (password: Yamuna) as she guides you through gentle poses. No yoga experience is necessary to enjoy the class\, which Yamuna continues to offer with joy\, light\, and her uplifting playlists and spirit. Have a strap\, scarf\, or belt handy and experience time to heal your body\, mind\, and spirit. \nCommune with the Divine through breath\, gentle stretches\, mindful music\, and guided meditation. See you on the mat! Om shanti and Namaste. \nA donation from the heart\, to the church\, is very much appreciated. \nJoin via Zoom
URL:https://cathedralofhope.org/event/cathedral-yoga-2024-06-19/
LOCATION:ELPC – Sanctuary\, 116 South Highland Avenue\, Pittsburgh\, PA\, 15206\, United States
CATEGORIES:Church Life,Educational & Spiritual Life,Health
ATTACH;FMTTYPE=image/jpeg:https://cathedralofhope.org/wp-content/uploads/2015/09/img_cathedral-yoga.jpg
GEO:40.461033;-79.925503
X-APPLE-STRUCTURED-LOCATION;VALUE=URI;X-ADDRESS=ELPC – Sanctuary 116 South Highland Avenue Pittsburgh PA 15206 United States;X-APPLE-RADIUS=500;X-TITLE=116 South Highland Avenue:geo:-79.925503,40.461033
END:VEVENT
BEGIN:VEVENT
DTSTART;TZID=America/Halifax:20240621T190000
DTEND;TZID=America/Halifax:20240621T203000
DTSTAMP:20260425T223358
CREATED:20200402T130239Z
LAST-MODIFIED:20231102T142137Z
UID:10005010-1718996400-1719001800@cathedralofhope.org
SUMMARY:JourneyDance Class
DESCRIPTION:Join Yamuna Morgenstern for JourneyDance on the third Friday of every month from 7–8:30 pm. \nCome experience one of ELPC’s unique spiritual practices and offerings. JourneyDance takes you on a journey within through playful dance in a non-judgmental environment. The playlists are designed to open up your chakras\, move your Spirit\, experience positive vibes\, and have fun! JourneyDance is all about responding to music the way you want to respond—no rules\, no groping\, no ugly lyrics. Join us and dance in healthy community to release tension\, feel good\, relax\, restore\, and renew your body\, mind\, and spirit. \nAll ages and bodies are welcome. No dance experience necessary\, just a joy of moving. Young children should be accompanied by their care givers. Wear comfortable clothing\, and you may want to have a water bottle handy! \nA donation from the heart\, to the church\, is very much appreciated.
URL:https://cathedralofhope.org/event/journeydance/2024-06-21/
LOCATION:PA
CATEGORIES:Church Life,Community,Educational & Spiritual Life,Health
ATTACH;FMTTYPE=image/jpeg:https://cathedralofhope.org/wp-content/uploads/2020/04/img_journey-dance.jpg
END:VEVENT
BEGIN:VEVENT
DTSTART;TZID=America/New_York:20240625T180000
DTEND;TZID=America/New_York:20240625T190000
DTSTAMP:20260425T223358
CREATED:20221206T140805Z
LAST-MODIFIED:20230707T211000Z
UID:10006967-1719338400-1719342000@cathedralofhope.org
SUMMARY:Meditation Hour
DESCRIPTION:“The ladder leading to the Kingdom is concealed within you\, that is\, in your soul”—Saint Isaac of Syria. \nMeditation is the practice of “looking deeply.” In silence and withdrawal from the world of everyday concerns\, we turn our attention inward and calm our bodies and minds. In this emptiness\, we may see the world as if for the first time. We may see others as they are and we may find that the Kingdom of Heaven is truly within us; that we are living in God and God in us. \nThe Spiritual Life Committee invites you to join John Benedict in the Chapel on Tuesdays\, 6–7 pm\, for an hour devoted to meditation. The session will include an opening reading\, silent sitting\, and walking. No experience necessary\, all are welcome. \nJohn Benedict is a retired psychologist and a longtime student and practitioner of Insight Meditation.
URL:https://cathedralofhope.org/event/meditation-hour/2024-06-25/
LOCATION:ELPC – Chapel\, 116 South Highland Avenue\, Pittsburgh\, PA\, 15206\, United States
CATEGORIES:Church Life,Educational & Spiritual Life
ATTACH;FMTTYPE=image/jpeg:https://cathedralofhope.org/wp-content/uploads/2022/12/meditation.jpg
GEO:40.461033;-79.925503
X-APPLE-STRUCTURED-LOCATION;VALUE=URI;X-ADDRESS=ELPC – Chapel 116 South Highland Avenue Pittsburgh PA 15206 United States;X-APPLE-RADIUS=500;X-TITLE=116 South Highland Avenue:geo:-79.925503,40.461033
END:VEVENT
BEGIN:VEVENT
DTSTART;TZID=America/New_York:20240626T180000
DTEND;TZID=America/New_York:20240626T190000
DTSTAMP:20260425T223358
CREATED:20221115T004955Z
LAST-MODIFIED:20251219T201431Z
UID:10005853-1719424800-1719428400@cathedralofhope.org
SUMMARY:Cathedral Yoga
DESCRIPTION:Yamuna Morgenstern offers Cathedral Yoga class on Wednesdays\, 6–7 pm! Join her and others in the ELPC Sanctuary or your own home via Zoom (password: Yamuna) as she guides you through gentle poses. No yoga experience is necessary to enjoy the class\, which Yamuna continues to offer with joy\, light\, and her uplifting playlists and spirit. Have a strap\, scarf\, or belt handy and experience time to heal your body\, mind\, and spirit. \nCommune with the Divine through breath\, gentle stretches\, mindful music\, and guided meditation. See you on the mat! Om shanti and Namaste. \nA donation from the heart\, to the church\, is very much appreciated. \nJoin via Zoom
URL:https://cathedralofhope.org/event/cathedral-yoga/2024-06-26/
LOCATION:ELPC – Sanctuary\, 116 South Highland Avenue\, Pittsburgh\, PA\, 15206\, United States
CATEGORIES:Church Life,Educational & Spiritual Life,Health
ATTACH;FMTTYPE=image/jpeg:https://cathedralofhope.org/wp-content/uploads/2015/09/img_cathedral-yoga.jpg
GEO:40.461033;-79.925503
X-APPLE-STRUCTURED-LOCATION;VALUE=URI;X-ADDRESS=ELPC – Sanctuary 116 South Highland Avenue Pittsburgh PA 15206 United States;X-APPLE-RADIUS=500;X-TITLE=116 South Highland Avenue:geo:-79.925503,40.461033
END:VEVENT
END:VCALENDAR