BEGIN:VCALENDAR
VERSION:2.0
PRODID:-//East Liberty Presbyterian Church - ECPv6.15.20//NONSGML v1.0//EN
CALSCALE:GREGORIAN
METHOD:PUBLISH
X-ORIGINAL-URL:https://cathedralofhope.org
X-WR-CALDESC:Events for East Liberty Presbyterian Church
REFRESH-INTERVAL;VALUE=DURATION:PT1H
X-Robots-Tag:noindex
X-PUBLISHED-TTL:PT1H
BEGIN:VTIMEZONE
TZID:America/New_York
BEGIN:DAYLIGHT
TZOFFSETFROM:-0500
TZOFFSETTO:-0400
TZNAME:EDT
DTSTART:20230312T070000
END:DAYLIGHT
BEGIN:STANDARD
TZOFFSETFROM:-0400
TZOFFSETTO:-0500
TZNAME:EST
DTSTART:20231105T060000
END:STANDARD
BEGIN:DAYLIGHT
TZOFFSETFROM:-0500
TZOFFSETTO:-0400
TZNAME:EDT
DTSTART:20240310T070000
END:DAYLIGHT
BEGIN:STANDARD
TZOFFSETFROM:-0400
TZOFFSETTO:-0500
TZNAME:EST
DTSTART:20241103T060000
END:STANDARD
BEGIN:DAYLIGHT
TZOFFSETFROM:-0500
TZOFFSETTO:-0400
TZNAME:EDT
DTSTART:20250309T070000
END:DAYLIGHT
BEGIN:STANDARD
TZOFFSETFROM:-0400
TZOFFSETTO:-0500
TZNAME:EST
DTSTART:20251102T060000
END:STANDARD
END:VTIMEZONE
BEGIN:VTIMEZONE
TZID:America/Halifax
BEGIN:DAYLIGHT
TZOFFSETFROM:-0400
TZOFFSETTO:-0300
TZNAME:ADT
DTSTART:20230312T060000
END:DAYLIGHT
BEGIN:STANDARD
TZOFFSETFROM:-0300
TZOFFSETTO:-0400
TZNAME:AST
DTSTART:20231105T050000
END:STANDARD
BEGIN:DAYLIGHT
TZOFFSETFROM:-0400
TZOFFSETTO:-0300
TZNAME:ADT
DTSTART:20240310T060000
END:DAYLIGHT
BEGIN:STANDARD
TZOFFSETFROM:-0300
TZOFFSETTO:-0400
TZNAME:AST
DTSTART:20241103T050000
END:STANDARD
BEGIN:DAYLIGHT
TZOFFSETFROM:-0400
TZOFFSETTO:-0300
TZNAME:ADT
DTSTART:20250309T060000
END:DAYLIGHT
BEGIN:STANDARD
TZOFFSETFROM:-0300
TZOFFSETTO:-0400
TZNAME:AST
DTSTART:20251102T050000
END:STANDARD
END:VTIMEZONE
BEGIN:VEVENT
DTSTART;TZID=America/New_York:20240903T180000
DTEND;TZID=America/New_York:20240903T190000
DTSTAMP:20260425T154237
CREATED:20221206T140805Z
LAST-MODIFIED:20230707T211000Z
UID:10006977-1725386400-1725390000@cathedralofhope.org
SUMMARY:Meditation Hour
DESCRIPTION:“The ladder leading to the Kingdom is concealed within you\, that is\, in your soul”—Saint Isaac of Syria. \nMeditation is the practice of “looking deeply.” In silence and withdrawal from the world of everyday concerns\, we turn our attention inward and calm our bodies and minds. In this emptiness\, we may see the world as if for the first time. We may see others as they are and we may find that the Kingdom of Heaven is truly within us; that we are living in God and God in us. \nThe Spiritual Life Committee invites you to join John Benedict in the Chapel on Tuesdays\, 6–7 pm\, for an hour devoted to meditation. The session will include an opening reading\, silent sitting\, and walking. No experience necessary\, all are welcome. \nJohn Benedict is a retired psychologist and a longtime student and practitioner of Insight Meditation.
URL:https://cathedralofhope.org/event/meditation-hour/2024-09-03/
LOCATION:ELPC – Chapel\, 116 South Highland Avenue\, Pittsburgh\, PA\, 15206\, United States
CATEGORIES:Church Life,Educational & Spiritual Life
ATTACH;FMTTYPE=image/jpeg:https://cathedralofhope.org/wp-content/uploads/2022/12/meditation.jpg
GEO:40.461033;-79.925503
X-APPLE-STRUCTURED-LOCATION;VALUE=URI;X-ADDRESS=ELPC – Chapel 116 South Highland Avenue Pittsburgh PA 15206 United States;X-APPLE-RADIUS=500;X-TITLE=116 South Highland Avenue:geo:-79.925503,40.461033
END:VEVENT
BEGIN:VEVENT
DTSTART;TZID=America/New_York:20240904T180000
DTEND;TZID=America/New_York:20240904T190000
DTSTAMP:20260425T154237
CREATED:20221115T004955Z
LAST-MODIFIED:20251219T201431Z
UID:10005863-1725472800-1725476400@cathedralofhope.org
SUMMARY:Cathedral Yoga
DESCRIPTION:Yamuna Morgenstern offers Cathedral Yoga class on Wednesdays\, 6–7 pm! Join her and others in the ELPC Sanctuary or your own home via Zoom (password: Yamuna) as she guides you through gentle poses. No yoga experience is necessary to enjoy the class\, which Yamuna continues to offer with joy\, light\, and her uplifting playlists and spirit. Have a strap\, scarf\, or belt handy and experience time to heal your body\, mind\, and spirit. \nCommune with the Divine through breath\, gentle stretches\, mindful music\, and guided meditation. See you on the mat! Om shanti and Namaste. \nA donation from the heart\, to the church\, is very much appreciated. \nJoin via Zoom
URL:https://cathedralofhope.org/event/cathedral-yoga/2024-09-04/
LOCATION:ELPC – Sanctuary\, 116 South Highland Avenue\, Pittsburgh\, PA\, 15206\, United States
CATEGORIES:Church Life,Educational & Spiritual Life,Health
ATTACH;FMTTYPE=image/jpeg:https://cathedralofhope.org/wp-content/uploads/2015/09/img_cathedral-yoga.jpg
GEO:40.461033;-79.925503
X-APPLE-STRUCTURED-LOCATION;VALUE=URI;X-ADDRESS=ELPC – Sanctuary 116 South Highland Avenue Pittsburgh PA 15206 United States;X-APPLE-RADIUS=500;X-TITLE=116 South Highland Avenue:geo:-79.925503,40.461033
END:VEVENT
BEGIN:VEVENT
DTSTART;TZID=America/New_York:20240910T180000
DTEND;TZID=America/New_York:20240910T190000
DTSTAMP:20260425T154237
CREATED:20221206T140805Z
LAST-MODIFIED:20230707T211000Z
UID:10006978-1725991200-1725994800@cathedralofhope.org
SUMMARY:Meditation Hour
DESCRIPTION:“The ladder leading to the Kingdom is concealed within you\, that is\, in your soul”—Saint Isaac of Syria. \nMeditation is the practice of “looking deeply.” In silence and withdrawal from the world of everyday concerns\, we turn our attention inward and calm our bodies and minds. In this emptiness\, we may see the world as if for the first time. We may see others as they are and we may find that the Kingdom of Heaven is truly within us; that we are living in God and God in us. \nThe Spiritual Life Committee invites you to join John Benedict in the Chapel on Tuesdays\, 6–7 pm\, for an hour devoted to meditation. The session will include an opening reading\, silent sitting\, and walking. No experience necessary\, all are welcome. \nJohn Benedict is a retired psychologist and a longtime student and practitioner of Insight Meditation.
URL:https://cathedralofhope.org/event/meditation-hour/2024-09-10/
LOCATION:ELPC – Chapel\, 116 South Highland Avenue\, Pittsburgh\, PA\, 15206\, United States
CATEGORIES:Church Life,Educational & Spiritual Life
ATTACH;FMTTYPE=image/jpeg:https://cathedralofhope.org/wp-content/uploads/2022/12/meditation.jpg
GEO:40.461033;-79.925503
X-APPLE-STRUCTURED-LOCATION;VALUE=URI;X-ADDRESS=ELPC – Chapel 116 South Highland Avenue Pittsburgh PA 15206 United States;X-APPLE-RADIUS=500;X-TITLE=116 South Highland Avenue:geo:-79.925503,40.461033
END:VEVENT
BEGIN:VEVENT
DTSTART;TZID=America/New_York:20240911T180000
DTEND;TZID=America/New_York:20240911T190000
DTSTAMP:20260425T154237
CREATED:20221115T004955Z
LAST-MODIFIED:20251219T201431Z
UID:10005864-1726077600-1726081200@cathedralofhope.org
SUMMARY:Cathedral Yoga
DESCRIPTION:Yamuna Morgenstern offers Cathedral Yoga class on Wednesdays\, 6–7 pm! Join her and others in the ELPC Sanctuary or your own home via Zoom (password: Yamuna) as she guides you through gentle poses. No yoga experience is necessary to enjoy the class\, which Yamuna continues to offer with joy\, light\, and her uplifting playlists and spirit. Have a strap\, scarf\, or belt handy and experience time to heal your body\, mind\, and spirit. \nCommune with the Divine through breath\, gentle stretches\, mindful music\, and guided meditation. See you on the mat! Om shanti and Namaste. \nA donation from the heart\, to the church\, is very much appreciated. \nJoin via Zoom
URL:https://cathedralofhope.org/event/cathedral-yoga/2024-09-11/
LOCATION:ELPC – Sanctuary\, 116 South Highland Avenue\, Pittsburgh\, PA\, 15206\, United States
CATEGORIES:Church Life,Educational & Spiritual Life,Health
ATTACH;FMTTYPE=image/jpeg:https://cathedralofhope.org/wp-content/uploads/2015/09/img_cathedral-yoga.jpg
GEO:40.461033;-79.925503
X-APPLE-STRUCTURED-LOCATION;VALUE=URI;X-ADDRESS=ELPC – Sanctuary 116 South Highland Avenue Pittsburgh PA 15206 United States;X-APPLE-RADIUS=500;X-TITLE=116 South Highland Avenue:geo:-79.925503,40.461033
END:VEVENT
BEGIN:VEVENT
DTSTART;TZID=America/New_York:20240917T180000
DTEND;TZID=America/New_York:20240917T190000
DTSTAMP:20260425T154237
CREATED:20221206T140805Z
LAST-MODIFIED:20230707T211000Z
UID:10006979-1726596000-1726599600@cathedralofhope.org
SUMMARY:Meditation Hour
DESCRIPTION:“The ladder leading to the Kingdom is concealed within you\, that is\, in your soul”—Saint Isaac of Syria. \nMeditation is the practice of “looking deeply.” In silence and withdrawal from the world of everyday concerns\, we turn our attention inward and calm our bodies and minds. In this emptiness\, we may see the world as if for the first time. We may see others as they are and we may find that the Kingdom of Heaven is truly within us; that we are living in God and God in us. \nThe Spiritual Life Committee invites you to join John Benedict in the Chapel on Tuesdays\, 6–7 pm\, for an hour devoted to meditation. The session will include an opening reading\, silent sitting\, and walking. No experience necessary\, all are welcome. \nJohn Benedict is a retired psychologist and a longtime student and practitioner of Insight Meditation.
URL:https://cathedralofhope.org/event/meditation-hour/2024-09-17/
LOCATION:ELPC – Chapel\, 116 South Highland Avenue\, Pittsburgh\, PA\, 15206\, United States
CATEGORIES:Church Life,Educational & Spiritual Life
ATTACH;FMTTYPE=image/jpeg:https://cathedralofhope.org/wp-content/uploads/2022/12/meditation.jpg
GEO:40.461033;-79.925503
X-APPLE-STRUCTURED-LOCATION;VALUE=URI;X-ADDRESS=ELPC – Chapel 116 South Highland Avenue Pittsburgh PA 15206 United States;X-APPLE-RADIUS=500;X-TITLE=116 South Highland Avenue:geo:-79.925503,40.461033
END:VEVENT
BEGIN:VEVENT
DTSTART;TZID=America/New_York:20240918T180000
DTEND;TZID=America/New_York:20240918T190000
DTSTAMP:20260425T154237
CREATED:20221115T004955Z
LAST-MODIFIED:20251219T201431Z
UID:10005865-1726682400-1726686000@cathedralofhope.org
SUMMARY:Cathedral Yoga
DESCRIPTION:Yamuna Morgenstern offers Cathedral Yoga class on Wednesdays\, 6–7 pm! Join her and others in the ELPC Sanctuary or your own home via Zoom (password: Yamuna) as she guides you through gentle poses. No yoga experience is necessary to enjoy the class\, which Yamuna continues to offer with joy\, light\, and her uplifting playlists and spirit. Have a strap\, scarf\, or belt handy and experience time to heal your body\, mind\, and spirit. \nCommune with the Divine through breath\, gentle stretches\, mindful music\, and guided meditation. See you on the mat! Om shanti and Namaste. \nA donation from the heart\, to the church\, is very much appreciated. \nJoin via Zoom
URL:https://cathedralofhope.org/event/cathedral-yoga/2024-09-18/
LOCATION:ELPC – Sanctuary\, 116 South Highland Avenue\, Pittsburgh\, PA\, 15206\, United States
CATEGORIES:Church Life,Educational & Spiritual Life,Health
ATTACH;FMTTYPE=image/jpeg:https://cathedralofhope.org/wp-content/uploads/2015/09/img_cathedral-yoga.jpg
GEO:40.461033;-79.925503
X-APPLE-STRUCTURED-LOCATION;VALUE=URI;X-ADDRESS=ELPC – Sanctuary 116 South Highland Avenue Pittsburgh PA 15206 United States;X-APPLE-RADIUS=500;X-TITLE=116 South Highland Avenue:geo:-79.925503,40.461033
END:VEVENT
BEGIN:VEVENT
DTSTART;TZID=America/Halifax:20240920T190000
DTEND;TZID=America/Halifax:20240920T203000
DTSTAMP:20260425T154237
CREATED:20200402T130239Z
LAST-MODIFIED:20231102T142137Z
UID:10005013-1726858800-1726864200@cathedralofhope.org
SUMMARY:JourneyDance Class
DESCRIPTION:Join Yamuna Morgenstern for JourneyDance on the third Friday of every month from 7–8:30 pm. \nCome experience one of ELPC’s unique spiritual practices and offerings. JourneyDance takes you on a journey within through playful dance in a non-judgmental environment. The playlists are designed to open up your chakras\, move your Spirit\, experience positive vibes\, and have fun! JourneyDance is all about responding to music the way you want to respond—no rules\, no groping\, no ugly lyrics. Join us and dance in healthy community to release tension\, feel good\, relax\, restore\, and renew your body\, mind\, and spirit. \nAll ages and bodies are welcome. No dance experience necessary\, just a joy of moving. Young children should be accompanied by their care givers. Wear comfortable clothing\, and you may want to have a water bottle handy! \nA donation from the heart\, to the church\, is very much appreciated.
URL:https://cathedralofhope.org/event/journeydance/2024-09-20/
LOCATION:PA
CATEGORIES:Church Life,Community,Educational & Spiritual Life,Health
ATTACH;FMTTYPE=image/jpeg:https://cathedralofhope.org/wp-content/uploads/2020/04/img_journey-dance.jpg
END:VEVENT
BEGIN:VEVENT
DTSTART;TZID=America/New_York:20240924T180000
DTEND;TZID=America/New_York:20240924T190000
DTSTAMP:20260425T154237
CREATED:20221206T140805Z
LAST-MODIFIED:20230707T211000Z
UID:10006980-1727200800-1727204400@cathedralofhope.org
SUMMARY:Meditation Hour
DESCRIPTION:“The ladder leading to the Kingdom is concealed within you\, that is\, in your soul”—Saint Isaac of Syria. \nMeditation is the practice of “looking deeply.” In silence and withdrawal from the world of everyday concerns\, we turn our attention inward and calm our bodies and minds. In this emptiness\, we may see the world as if for the first time. We may see others as they are and we may find that the Kingdom of Heaven is truly within us; that we are living in God and God in us. \nThe Spiritual Life Committee invites you to join John Benedict in the Chapel on Tuesdays\, 6–7 pm\, for an hour devoted to meditation. The session will include an opening reading\, silent sitting\, and walking. No experience necessary\, all are welcome. \nJohn Benedict is a retired psychologist and a longtime student and practitioner of Insight Meditation.
URL:https://cathedralofhope.org/event/meditation-hour/2024-09-24/
LOCATION:ELPC – Chapel\, 116 South Highland Avenue\, Pittsburgh\, PA\, 15206\, United States
CATEGORIES:Church Life,Educational & Spiritual Life
ATTACH;FMTTYPE=image/jpeg:https://cathedralofhope.org/wp-content/uploads/2022/12/meditation.jpg
GEO:40.461033;-79.925503
X-APPLE-STRUCTURED-LOCATION;VALUE=URI;X-ADDRESS=ELPC – Chapel 116 South Highland Avenue Pittsburgh PA 15206 United States;X-APPLE-RADIUS=500;X-TITLE=116 South Highland Avenue:geo:-79.925503,40.461033
END:VEVENT
BEGIN:VEVENT
DTSTART;TZID=America/New_York:20240925T180000
DTEND;TZID=America/New_York:20240925T190000
DTSTAMP:20260425T154237
CREATED:20221115T004955Z
LAST-MODIFIED:20251219T201431Z
UID:10005866-1727287200-1727290800@cathedralofhope.org
SUMMARY:Cathedral Yoga
DESCRIPTION:Yamuna Morgenstern offers Cathedral Yoga class on Wednesdays\, 6–7 pm! Join her and others in the ELPC Sanctuary or your own home via Zoom (password: Yamuna) as she guides you through gentle poses. No yoga experience is necessary to enjoy the class\, which Yamuna continues to offer with joy\, light\, and her uplifting playlists and spirit. Have a strap\, scarf\, or belt handy and experience time to heal your body\, mind\, and spirit. \nCommune with the Divine through breath\, gentle stretches\, mindful music\, and guided meditation. See you on the mat! Om shanti and Namaste. \nA donation from the heart\, to the church\, is very much appreciated. \nJoin via Zoom
URL:https://cathedralofhope.org/event/cathedral-yoga/2024-09-25/
LOCATION:ELPC – Sanctuary\, 116 South Highland Avenue\, Pittsburgh\, PA\, 15206\, United States
CATEGORIES:Church Life,Educational & Spiritual Life,Health
ATTACH;FMTTYPE=image/jpeg:https://cathedralofhope.org/wp-content/uploads/2015/09/img_cathedral-yoga.jpg
GEO:40.461033;-79.925503
X-APPLE-STRUCTURED-LOCATION;VALUE=URI;X-ADDRESS=ELPC – Sanctuary 116 South Highland Avenue Pittsburgh PA 15206 United States;X-APPLE-RADIUS=500;X-TITLE=116 South Highland Avenue:geo:-79.925503,40.461033
END:VEVENT
BEGIN:VEVENT
DTSTART;TZID=America/New_York:20240927T180000
DTEND;TZID=America/New_York:20240929T110000
DTSTAMP:20260425T154237
CREATED:20240606T182511Z
LAST-MODIFIED:20240724T185448Z
UID:10003385-1727460000-1727607600@cathedralofhope.org
SUMMARY:The Sacrament of Letting Go Retreat
DESCRIPTION:“First she surrendered her Green\nThen the Orange\, Yellow\, and Red…\nFinally she let go of her Brown…\nShedding her last leaf\nShe stood empty and silent\, stripped bare\nLeaning against the sky she began her vigil of trust…”\n(Macrina Weiderkehr\, The Seasons of Your Heart) \nAre you being invited into a vigil of trust? What is the green\, orange\, yellow\, red and brown that you\, individually\, are being invited to shed? What is the green\, orange\, yellow\, red and brown that we\, collectively\, need to shed? \nCome “lean against the sky” during this contemplative retreat at the Villa Maria Education and Spirituality Center in Pulaski\, Pennsylvania\, Friday–Sunday\, September 27–29. Engage in a variety of forms of prayer through art\, journaling\, nature and silent reflection. Make yourself available to a greater knowing\, and discover the peace and divine wisdom that is already seeking you. \nThis retreat will be led by Lynn Holden spiritual director\, professional counselor and founder of Cultivating Awareness. Learn more at LynnHolden.com. \nDownload Retreat Flyer \n\nRegistration\nRSVP to Norma Meyer at 412.441.3800 x211 by Sunday\, September 15. The cost options are as follows: \n\nOne Night: (Friday–Saturday or Saturday-Sunday) Shared Bath | $70\nOne Night: (Friday–Saturday or Saturday-Sunday) Private Bath | $110\nTwo Nights (Friday–Sunday) Shared Bath | $85\nTwo Nights (Friday–Sunday) Private Bath | $135
URL:https://cathedralofhope.org/event/the-sacrament-of-letting-go-retreat/
LOCATION:Villa Maria Retreat Center\, 2067 Evergreen Rd\, Pulaski\, PA\, 16143\, United States
CATEGORIES:Educational & Spiritual Life,Featured Events
ATTACH;FMTTYPE=image/png:https://cathedralofhope.org/wp-content/uploads/2024/06/img_sacrament-of-letting-go-retreat.png
END:VEVENT
END:VCALENDAR