BEGIN:VCALENDAR
VERSION:2.0
PRODID:-//East Liberty Presbyterian Church - ECPv6.15.20//NONSGML v1.0//EN
CALSCALE:GREGORIAN
METHOD:PUBLISH
X-WR-CALNAME:East Liberty Presbyterian Church
X-ORIGINAL-URL:https://cathedralofhope.org
X-WR-CALDESC:Events for East Liberty Presbyterian Church
REFRESH-INTERVAL;VALUE=DURATION:PT1H
X-Robots-Tag:noindex
X-PUBLISHED-TTL:PT1H
BEGIN:VTIMEZONE
TZID:America/New_York
BEGIN:DAYLIGHT
TZOFFSETFROM:-0500
TZOFFSETTO:-0400
TZNAME:EDT
DTSTART:20230312T070000
END:DAYLIGHT
BEGIN:STANDARD
TZOFFSETFROM:-0400
TZOFFSETTO:-0500
TZNAME:EST
DTSTART:20231105T060000
END:STANDARD
BEGIN:DAYLIGHT
TZOFFSETFROM:-0500
TZOFFSETTO:-0400
TZNAME:EDT
DTSTART:20240310T070000
END:DAYLIGHT
BEGIN:STANDARD
TZOFFSETFROM:-0400
TZOFFSETTO:-0500
TZNAME:EST
DTSTART:20241103T060000
END:STANDARD
BEGIN:DAYLIGHT
TZOFFSETFROM:-0500
TZOFFSETTO:-0400
TZNAME:EDT
DTSTART:20250309T070000
END:DAYLIGHT
BEGIN:STANDARD
TZOFFSETFROM:-0400
TZOFFSETTO:-0500
TZNAME:EST
DTSTART:20251102T060000
END:STANDARD
END:VTIMEZONE
BEGIN:VEVENT
DTSTART;TZID=America/New_York:20241102T090000
DTEND;TZID=America/New_York:20241102T140000
DTSTAMP:20260425T121246
CREATED:20240917T170023Z
LAST-MODIFIED:20240917T170023Z
UID:10003560-1730538000-1730556000@cathedralofhope.org
SUMMARY:A Day with Cole Arthur Riley
DESCRIPTION:Join the Alliance for Honor and Repair to spend a day with Cole Arthur Riley on Saturday\, November 2\, 9 am–2 pm. \nCole is the creator of Black Liturgies and author of This Here Flesh. She is a native of Pittsburgh and will be offering her wisdom and sharing from her liturgies. \nCole will be speaking on Dignity\, Justice\, Lament\, and Solidarity.\nWhat is our story and where does it begin? \nHow can you practice justice and reconciliation in the mundane and in the systemic? \nWhat does it mean to exist in solidarity with another? \nThe cost is $20. The event will be held at Sixth Presbyterian Church. \nRegistration Online
URL:https://cathedralofhope.org/event/a-day-with-cole-arthur-riley/
LOCATION:Sixth Presbyterian Church\, 1688 Murray Ave\, Pittsburgh\, PA\, 15217\, United States
CATEGORIES:Educational & Spiritual Life,Featured Events
END:VEVENT
END:VCALENDAR