BEGIN:VCALENDAR
VERSION:2.0
PRODID:-//East Liberty Presbyterian Church - ECPv6.15.20//NONSGML v1.0//EN
CALSCALE:GREGORIAN
METHOD:PUBLISH
X-ORIGINAL-URL:https://cathedralofhope.org
X-WR-CALDESC:Events for East Liberty Presbyterian Church
REFRESH-INTERVAL;VALUE=DURATION:PT1H
X-Robots-Tag:noindex
X-PUBLISHED-TTL:PT1H
BEGIN:VTIMEZONE
TZID:America/New_York
BEGIN:DAYLIGHT
TZOFFSETFROM:-0500
TZOFFSETTO:-0400
TZNAME:EDT
DTSTART:20240310T070000
END:DAYLIGHT
BEGIN:STANDARD
TZOFFSETFROM:-0400
TZOFFSETTO:-0500
TZNAME:EST
DTSTART:20241103T060000
END:STANDARD
BEGIN:DAYLIGHT
TZOFFSETFROM:-0500
TZOFFSETTO:-0400
TZNAME:EDT
DTSTART:20250309T070000
END:DAYLIGHT
BEGIN:STANDARD
TZOFFSETFROM:-0400
TZOFFSETTO:-0500
TZNAME:EST
DTSTART:20251102T060000
END:STANDARD
BEGIN:DAYLIGHT
TZOFFSETFROM:-0500
TZOFFSETTO:-0400
TZNAME:EDT
DTSTART:20260308T070000
END:DAYLIGHT
BEGIN:STANDARD
TZOFFSETFROM:-0400
TZOFFSETTO:-0500
TZNAME:EST
DTSTART:20261101T060000
END:STANDARD
END:VTIMEZONE
BEGIN:VEVENT
DTSTART;TZID=America/New_York:20250502T180000
DTEND;TZID=America/New_York:20250504T110000
DTSTAMP:20260424T210941
CREATED:20250326T093142Z
LAST-MODIFIED:20250403T174039Z
UID:10006433-1746208800-1746356400@cathedralofhope.org
SUMMARY:Embodying the Spirit Retreat
DESCRIPTION:Join us for a weekend of quiet\, rest\, prayer\, community and embodiment\, Friday–Sunday\, May 2–4. We will head up to Vila Maria Retreat Center\, just an hour or so away\, for a time of pondering and experiencing the gift and challenges of our human bodies. In the Easter season\, we celebrate Jesus’ resurrection as the foretaste and preview of what God has always planned for of us—the union of body and spirit and human and divine. That is what we will explore in our bodies\, the place of divine encounter. We will paint\, walk\, dance\, sing\, lament\, sleep\, eat\, chant\, swim\, bend\, and bow. \nRSVP to Norma Meyer at 412.441.3800 x 211 by Easter Sunday\, April 20. \nCosts Options (Contact Pastor BJ to discuss scholarships) \n\nOne Night: (Fri.-Sat. or Sat.-Sun.) Private Room with Common Bath | $100\nOne Night: (Fri.-Sat. or Sat.-Sun.) Private Room with Private Bath | $125\nTwo Nights (Friday-Sunday) Private Room with Common Bath | $150\nTwo Nights (Friday-Sunday) Private Room with Private Bath | $175\nSaturday Day\, $50\n\nOur retreat leader is Joanne Spence\, D.Min. She is an award-winning author\, yoga teacher\, and spiritual director. She holds a Doctor of Ministry in Creative Writing and Public Theology\, and a Master of Arts from Pittsburgh Theological Seminary\, as well as a Bachelor’s degree in Social Work from James Cook University in Australia. With over 30 years of experience teaching and training in clinical settings worldwide\, Joanne specializes in integrating mental health\, gentle movement\, breathwork\, Christian contemplative practices\, and yoga. She is passionate about helping people reconnect with their bodies\, believing that the embodiment of gentle yoga practice\, combined with Christian contemplative traditions\, can deepen one’s relationship with God while promoting nervous system regulation. When she’s not reading and writing\, she loves to walk\, dance\, and cook—just not all at the same time. To learn more about her books and courses\, visit www.joannespence.com. \n 
URL:https://cathedralofhope.org/event/embodying-the-spirit-retreat/
LOCATION:Villa Maria Retreat Center\, 2067 Evergreen Rd\, Pulaski\, PA\, 16143\, United States
CATEGORIES:Educational & Spiritual Life,Featured Events
ATTACH;FMTTYPE=image/png:https://cathedralofhope.org/wp-content/uploads/2025/03/img_embodying-the-spirit-retreat.png
END:VEVENT
END:VCALENDAR