BEGIN:VCALENDAR
VERSION:2.0
PRODID:-//East Liberty Presbyterian Church - ECPv6.15.20//NONSGML v1.0//EN
CALSCALE:GREGORIAN
METHOD:PUBLISH
X-WR-CALNAME:East Liberty Presbyterian Church
X-ORIGINAL-URL:https://cathedralofhope.org
X-WR-CALDESC:Events for East Liberty Presbyterian Church
REFRESH-INTERVAL;VALUE=DURATION:PT1H
X-Robots-Tag:noindex
X-PUBLISHED-TTL:PT1H
BEGIN:VTIMEZONE
TZID:America/New_York
BEGIN:DAYLIGHT
TZOFFSETFROM:-0500
TZOFFSETTO:-0400
TZNAME:EDT
DTSTART:20240310T070000
END:DAYLIGHT
BEGIN:STANDARD
TZOFFSETFROM:-0400
TZOFFSETTO:-0500
TZNAME:EST
DTSTART:20241103T060000
END:STANDARD
BEGIN:DAYLIGHT
TZOFFSETFROM:-0500
TZOFFSETTO:-0400
TZNAME:EDT
DTSTART:20250309T070000
END:DAYLIGHT
BEGIN:STANDARD
TZOFFSETFROM:-0400
TZOFFSETTO:-0500
TZNAME:EST
DTSTART:20251102T060000
END:STANDARD
BEGIN:DAYLIGHT
TZOFFSETFROM:-0500
TZOFFSETTO:-0400
TZNAME:EDT
DTSTART:20260308T070000
END:DAYLIGHT
BEGIN:STANDARD
TZOFFSETFROM:-0400
TZOFFSETTO:-0500
TZNAME:EST
DTSTART:20261101T060000
END:STANDARD
END:VTIMEZONE
BEGIN:VEVENT
DTSTART;TZID=America/New_York:20251105T173000
DTEND;TZID=America/New_York:20251105T190000
DTSTAMP:20260424T004722
CREATED:20250922T180944Z
LAST-MODIFIED:20251016T131516Z
UID:10007322-1762363800-1762369200@cathedralofhope.org
SUMMARY:Meeting Jesus Again for the First Time
DESCRIPTION:What if you could encounter Jesus with fresh eyes—free from assumptions\, clichés\, or familiarity? \nJoin Pastors BJ and Michael this fall for a four-week journey utilizing Marcus Borg’s influential book\, Meeting Jesus Again for the First Time. Together\, we’ll explore Jesus as: \n\nSpirit Person – a man deeply connected to the sacred\nTeacher of Wisdom – offering timeless guidance for life today\nSocial Prophet – challenging systems of injustice\nMovement Founder – inspiring a community of transformation\n\nEach session will blend teaching\, scripture\, conversation\, and spiritual practices\, creating space not just to learn about Jesus\, but to experience his presence anew. \nWe’ll share dinner together at 6:30 pm\, and you’re warmly invited to stay for our contemplative Taizé prayer service at 7 pm. Come curious. Come hungry. Come ready to meet Jesus again—for the first time. \nPlease register using the form below. You only need to register ONCE for the series\, although this form is found in all 4 instances of this event\, it is just there for ease of access to people joining. \n\n 
URL:https://cathedralofhope.org/event/meeting-jesus-again-for-the-first-time/2025-11-05/
LOCATION:PA
CATEGORIES:Educational & Spiritual Life,Featured Events
END:VEVENT
BEGIN:VEVENT
DTSTART;TZID=America/New_York:20251105T180000
DTEND;TZID=America/New_York:20251105T190000
DTSTAMP:20260424T004722
CREATED:20221115T004955Z
LAST-MODIFIED:20251219T201431Z
UID:10005922-1762365600-1762369200@cathedralofhope.org
SUMMARY:Cathedral Yoga
DESCRIPTION:Yamuna Morgenstern offers Cathedral Yoga class on Wednesdays\, 6–7 pm! Join her and others in the ELPC Sanctuary or your own home via Zoom (password: Yamuna) as she guides you through gentle poses. No yoga experience is necessary to enjoy the class\, which Yamuna continues to offer with joy\, light\, and her uplifting playlists and spirit. Have a strap\, scarf\, or belt handy and experience time to heal your body\, mind\, and spirit. \nCommune with the Divine through breath\, gentle stretches\, mindful music\, and guided meditation. See you on the mat! Om shanti and Namaste. \nA donation from the heart\, to the church\, is very much appreciated. \nJoin via Zoom
URL:https://cathedralofhope.org/event/cathedral-yoga/2025-11-05/
LOCATION:ELPC – Sanctuary\, 116 South Highland Avenue\, Pittsburgh\, PA\, 15206\, United States
CATEGORIES:Church Life,Educational & Spiritual Life,Health
ATTACH;FMTTYPE=image/jpeg:https://cathedralofhope.org/wp-content/uploads/2015/09/img_cathedral-yoga.jpg
GEO:40.461033;-79.925503
X-APPLE-STRUCTURED-LOCATION;VALUE=URI;X-ADDRESS=ELPC – Sanctuary 116 South Highland Avenue Pittsburgh PA 15206 United States;X-APPLE-RADIUS=500;X-TITLE=116 South Highland Avenue:geo:-79.925503,40.461033
END:VEVENT
BEGIN:VEVENT
DTSTART;TZID=America/New_York:20251105T200000
DTEND;TZID=America/New_York:20251105T210000
DTSTAMP:20260424T004722
CREATED:20250507T123532Z
LAST-MODIFIED:20250507T123532Z
UID:10006283-1762372800-1762376400@cathedralofhope.org
SUMMARY:Taizé Social Gathering
DESCRIPTION:Join us on the first Wednesday of each month following our Taizé prayer service for a time of fellowship with some light refreshments in the Narthex. \nTaizé is a unique spiritual community at ELPC\, and we desire to have time for those who gather to get to know one another\, converse\, and move from solitude into community and expand the connection that exists amidst our prayerful songs and quiet meditation.
URL:https://cathedralofhope.org/event/taize-social-gathering/2025-11-05/
LOCATION:East Liberty Presbyterian Church\, 116 S. Highland Avenue\, Pittsburgh\, PA\, 15206\, United States
CATEGORIES:Educational & Spiritual Life,Featured Events
GEO:40.4609708;-79.9253554
X-APPLE-STRUCTURED-LOCATION;VALUE=URI;X-ADDRESS=East Liberty Presbyterian Church 116 S. Highland Avenue Pittsburgh PA 15206 United States;X-APPLE-RADIUS=500;X-TITLE=116 S. Highland Avenue:geo:-79.9253554,40.4609708
END:VEVENT
END:VCALENDAR