BEGIN:VCALENDAR
VERSION:2.0
PRODID:-//East Liberty Presbyterian Church - ECPv6.15.20//NONSGML v1.0//EN
CALSCALE:GREGORIAN
METHOD:PUBLISH
X-WR-CALNAME:East Liberty Presbyterian Church
X-ORIGINAL-URL:https://cathedralofhope.org
X-WR-CALDESC:Events for East Liberty Presbyterian Church
REFRESH-INTERVAL;VALUE=DURATION:PT1H
X-Robots-Tag:noindex
X-PUBLISHED-TTL:PT1H
BEGIN:VTIMEZONE
TZID:America/Halifax
BEGIN:DAYLIGHT
TZOFFSETFROM:-0400
TZOFFSETTO:-0300
TZNAME:ADT
DTSTART:20250309T060000
END:DAYLIGHT
BEGIN:STANDARD
TZOFFSETFROM:-0300
TZOFFSETTO:-0400
TZNAME:AST
DTSTART:20251102T050000
END:STANDARD
BEGIN:DAYLIGHT
TZOFFSETFROM:-0400
TZOFFSETTO:-0300
TZNAME:ADT
DTSTART:20260308T060000
END:DAYLIGHT
BEGIN:STANDARD
TZOFFSETFROM:-0300
TZOFFSETTO:-0400
TZNAME:AST
DTSTART:20261101T050000
END:STANDARD
BEGIN:DAYLIGHT
TZOFFSETFROM:-0400
TZOFFSETTO:-0300
TZNAME:ADT
DTSTART:20270314T060000
END:DAYLIGHT
BEGIN:STANDARD
TZOFFSETFROM:-0300
TZOFFSETTO:-0400
TZNAME:AST
DTSTART:20271107T050000
END:STANDARD
END:VTIMEZONE
BEGIN:VTIMEZONE
TZID:America/New_York
BEGIN:DAYLIGHT
TZOFFSETFROM:-0500
TZOFFSETTO:-0400
TZNAME:EDT
DTSTART:20250309T070000
END:DAYLIGHT
BEGIN:STANDARD
TZOFFSETFROM:-0400
TZOFFSETTO:-0500
TZNAME:EST
DTSTART:20251102T060000
END:STANDARD
BEGIN:DAYLIGHT
TZOFFSETFROM:-0500
TZOFFSETTO:-0400
TZNAME:EDT
DTSTART:20260308T070000
END:DAYLIGHT
BEGIN:STANDARD
TZOFFSETFROM:-0400
TZOFFSETTO:-0500
TZNAME:EST
DTSTART:20261101T060000
END:STANDARD
BEGIN:DAYLIGHT
TZOFFSETFROM:-0500
TZOFFSETTO:-0400
TZNAME:EDT
DTSTART:20270314T070000
END:DAYLIGHT
BEGIN:STANDARD
TZOFFSETFROM:-0400
TZOFFSETTO:-0500
TZNAME:EST
DTSTART:20271107T060000
END:STANDARD
END:VTIMEZONE
BEGIN:VEVENT
DTSTART;TZID=America/Halifax:20260512T100000
DTEND;TZID=America/Halifax:20260512T120000
DTSTAMP:20260423T160509
CREATED:20260219T131044Z
LAST-MODIFIED:20260421T135417Z
UID:10007399-1778580000-1778587200@cathedralofhope.org
SUMMARY:Presbyterian Women Bible Study
DESCRIPTION:It is said that Emmaus is where we go to escape. Imagine the despair and confusion of the two disciples walking to Emmaus three days after Jesus’ crucifixion. They had hoped that Jesus of Nazareth was the one to redeem Israel. Moreover\, that Sunday morning\, Mary Magdalene and the other women reported that Jesus had risen from the grave. \nAs the disciples walked to Emmaus\, a stranger joined them. The disciples did not recognize Jesus until they shared a meal with this stranger! The risen Christ may come to us in unfamiliar guises\, when we least expect him. \nJoin us for our lesson\, Finding Our Identity in Christ: When You Are Walking with Jesus – The Road to Emmaus\, on Monday\, May 4\, 7–8:30 pm (online only)\, or Tuesday\, May 12\, 10 am–12 pm (in-person only). Tuesday morning Bible Study will meet in-person only in the Fellowship Room\, and will be followed by a potluck lunch. Please bring a dish to share; beverages will be provided. \nEmail PW.ELPC@gmail.com with any questions. Click here for more information about Presbyterian Women at ELPC. \nJoin via Zoom
URL:https://cathedralofhope.org/event/presbyterian-women-bible-study/2026-05-12/
LOCATION:East Liberty Presbyterian Church\, 116 S. Highland Avenue\, Pittsburgh\, PA\, 15206\, United States
CATEGORIES:Educational & Spiritual Life,Featured Events,Presbyterian Women
ATTACH;FMTTYPE=image/jpeg:https://cathedralofhope.org/wp-content/uploads/2026/02/img_pw-may-2026.jpg
ORGANIZER;CN="Presbyterian Women":MAILTO:PW.ELPC@gmail.com
GEO:40.4609708;-79.9253554
X-APPLE-STRUCTURED-LOCATION;VALUE=URI;X-ADDRESS=East Liberty Presbyterian Church 116 S. Highland Avenue Pittsburgh PA 15206 United States;X-APPLE-RADIUS=500;X-TITLE=116 S. Highland Avenue:geo:-79.9253554,40.4609708
END:VEVENT
BEGIN:VEVENT
DTSTART;TZID=America/New_York:20260512T180000
DTEND;TZID=America/New_York:20260512T190000
DTSTAMP:20260423T160509
CREATED:20221206T140805Z
LAST-MODIFIED:20230707T211000Z
UID:10007062-1778608800-1778612400@cathedralofhope.org
SUMMARY:Meditation Hour
DESCRIPTION:“The ladder leading to the Kingdom is concealed within you\, that is\, in your soul”—Saint Isaac of Syria. \nMeditation is the practice of “looking deeply.” In silence and withdrawal from the world of everyday concerns\, we turn our attention inward and calm our bodies and minds. In this emptiness\, we may see the world as if for the first time. We may see others as they are and we may find that the Kingdom of Heaven is truly within us; that we are living in God and God in us. \nThe Spiritual Life Committee invites you to join John Benedict in the Chapel on Tuesdays\, 6–7 pm\, for an hour devoted to meditation. The session will include an opening reading\, silent sitting\, and walking. No experience necessary\, all are welcome. \nJohn Benedict is a retired psychologist and a longtime student and practitioner of Insight Meditation.
URL:https://cathedralofhope.org/event/meditation-hour/2026-05-12/
LOCATION:ELPC – Chapel\, 116 South Highland Avenue\, Pittsburgh\, PA\, 15206\, United States
CATEGORIES:Church Life,Educational & Spiritual Life
ATTACH;FMTTYPE=image/jpeg:https://cathedralofhope.org/wp-content/uploads/2022/12/meditation.jpg
GEO:40.461033;-79.925503
X-APPLE-STRUCTURED-LOCATION;VALUE=URI;X-ADDRESS=ELPC – Chapel 116 South Highland Avenue Pittsburgh PA 15206 United States;X-APPLE-RADIUS=500;X-TITLE=116 South Highland Avenue:geo:-79.925503,40.461033
END:VEVENT
END:VCALENDAR