BEGIN:VCALENDAR
VERSION:2.0
PRODID:-//East Liberty Presbyterian Church - ECPv6.15.20//NONSGML v1.0//EN
CALSCALE:GREGORIAN
METHOD:PUBLISH
X-ORIGINAL-URL:https://cathedralofhope.org
X-WR-CALDESC:Events for East Liberty Presbyterian Church
REFRESH-INTERVAL;VALUE=DURATION:PT1H
X-Robots-Tag:noindex
X-PUBLISHED-TTL:PT1H
BEGIN:VTIMEZONE
TZID:America/New_York
BEGIN:DAYLIGHT
TZOFFSETFROM:-0500
TZOFFSETTO:-0400
TZNAME:EDT
DTSTART:20300310T070000
END:DAYLIGHT
BEGIN:STANDARD
TZOFFSETFROM:-0400
TZOFFSETTO:-0500
TZNAME:EST
DTSTART:20301103T060000
END:STANDARD
BEGIN:DAYLIGHT
TZOFFSETFROM:-0500
TZOFFSETTO:-0400
TZNAME:EDT
DTSTART:20310309T070000
END:DAYLIGHT
BEGIN:STANDARD
TZOFFSETFROM:-0400
TZOFFSETTO:-0500
TZNAME:EST
DTSTART:20311102T060000
END:STANDARD
BEGIN:DAYLIGHT
TZOFFSETFROM:-0500
TZOFFSETTO:-0400
TZNAME:EDT
DTSTART:20320314T070000
END:DAYLIGHT
BEGIN:STANDARD
TZOFFSETFROM:-0400
TZOFFSETTO:-0500
TZNAME:EST
DTSTART:20321107T060000
END:STANDARD
END:VTIMEZONE
BEGIN:VTIMEZONE
TZID:America/Halifax
BEGIN:DAYLIGHT
TZOFFSETFROM:-0400
TZOFFSETTO:-0300
TZNAME:ADT
DTSTART:20300310T060000
END:DAYLIGHT
BEGIN:STANDARD
TZOFFSETFROM:-0300
TZOFFSETTO:-0400
TZNAME:AST
DTSTART:20301103T050000
END:STANDARD
BEGIN:DAYLIGHT
TZOFFSETFROM:-0400
TZOFFSETTO:-0300
TZNAME:ADT
DTSTART:20310309T060000
END:DAYLIGHT
BEGIN:STANDARD
TZOFFSETFROM:-0300
TZOFFSETTO:-0400
TZNAME:AST
DTSTART:20311102T050000
END:STANDARD
BEGIN:DAYLIGHT
TZOFFSETFROM:-0400
TZOFFSETTO:-0300
TZNAME:ADT
DTSTART:20320314T060000
END:DAYLIGHT
BEGIN:STANDARD
TZOFFSETFROM:-0300
TZOFFSETTO:-0400
TZNAME:AST
DTSTART:20321107T050000
END:STANDARD
END:VTIMEZONE
BEGIN:VEVENT
DTSTART;TZID=America/New_York:20310205T180000
DTEND;TZID=America/New_York:20310205T190000
DTSTAMP:20260425T221754
CREATED:20221115T004955Z
LAST-MODIFIED:20251219T201431Z
UID:10006192-1928080800-1928084400@cathedralofhope.org
SUMMARY:Cathedral Yoga
DESCRIPTION:Yamuna Morgenstern offers Cathedral Yoga class on Wednesdays\, 6–7 pm! Join her and others in the ELPC Sanctuary or your own home via Zoom (password: Yamuna) as she guides you through gentle poses. No yoga experience is necessary to enjoy the class\, which Yamuna continues to offer with joy\, light\, and her uplifting playlists and spirit. Have a strap\, scarf\, or belt handy and experience time to heal your body\, mind\, and spirit. \nCommune with the Divine through breath\, gentle stretches\, mindful music\, and guided meditation. See you on the mat! Om shanti and Namaste. \nA donation from the heart\, to the church\, is very much appreciated. \nJoin via Zoom
URL:https://cathedralofhope.org/event/cathedral-yoga/2031-02-05/
LOCATION:ELPC – Sanctuary\, 116 South Highland Avenue\, Pittsburgh\, PA\, 15206\, United States
CATEGORIES:Church Life,Educational & Spiritual Life,Health
ATTACH;FMTTYPE=image/jpeg:https://cathedralofhope.org/wp-content/uploads/2015/09/img_cathedral-yoga.jpg
GEO:40.461033;-79.925503
X-APPLE-STRUCTURED-LOCATION;VALUE=URI;X-ADDRESS=ELPC – Sanctuary 116 South Highland Avenue Pittsburgh PA 15206 United States;X-APPLE-RADIUS=500;X-TITLE=116 South Highland Avenue:geo:-79.925503,40.461033
END:VEVENT
BEGIN:VEVENT
DTSTART;TZID=America/New_York:20310212T180000
DTEND;TZID=America/New_York:20310212T190000
DTSTAMP:20260425T221754
CREATED:20221115T004955Z
LAST-MODIFIED:20251219T201431Z
UID:10006193-1928685600-1928689200@cathedralofhope.org
SUMMARY:Cathedral Yoga
DESCRIPTION:Yamuna Morgenstern offers Cathedral Yoga class on Wednesdays\, 6–7 pm! Join her and others in the ELPC Sanctuary or your own home via Zoom (password: Yamuna) as she guides you through gentle poses. No yoga experience is necessary to enjoy the class\, which Yamuna continues to offer with joy\, light\, and her uplifting playlists and spirit. Have a strap\, scarf\, or belt handy and experience time to heal your body\, mind\, and spirit. \nCommune with the Divine through breath\, gentle stretches\, mindful music\, and guided meditation. See you on the mat! Om shanti and Namaste. \nA donation from the heart\, to the church\, is very much appreciated. \nJoin via Zoom
URL:https://cathedralofhope.org/event/cathedral-yoga/2031-02-12/
LOCATION:ELPC – Sanctuary\, 116 South Highland Avenue\, Pittsburgh\, PA\, 15206\, United States
CATEGORIES:Church Life,Educational & Spiritual Life,Health
ATTACH;FMTTYPE=image/jpeg:https://cathedralofhope.org/wp-content/uploads/2015/09/img_cathedral-yoga.jpg
GEO:40.461033;-79.925503
X-APPLE-STRUCTURED-LOCATION;VALUE=URI;X-ADDRESS=ELPC – Sanctuary 116 South Highland Avenue Pittsburgh PA 15206 United States;X-APPLE-RADIUS=500;X-TITLE=116 South Highland Avenue:geo:-79.925503,40.461033
END:VEVENT
BEGIN:VEVENT
DTSTART;TZID=America/New_York:20310219T180000
DTEND;TZID=America/New_York:20310219T190000
DTSTAMP:20260425T221754
CREATED:20221115T004955Z
LAST-MODIFIED:20251219T201431Z
UID:10006194-1929290400-1929294000@cathedralofhope.org
SUMMARY:Cathedral Yoga
DESCRIPTION:Yamuna Morgenstern offers Cathedral Yoga class on Wednesdays\, 6–7 pm! Join her and others in the ELPC Sanctuary or your own home via Zoom (password: Yamuna) as she guides you through gentle poses. No yoga experience is necessary to enjoy the class\, which Yamuna continues to offer with joy\, light\, and her uplifting playlists and spirit. Have a strap\, scarf\, or belt handy and experience time to heal your body\, mind\, and spirit. \nCommune with the Divine through breath\, gentle stretches\, mindful music\, and guided meditation. See you on the mat! Om shanti and Namaste. \nA donation from the heart\, to the church\, is very much appreciated. \nJoin via Zoom
URL:https://cathedralofhope.org/event/cathedral-yoga/2031-02-19/
LOCATION:ELPC – Sanctuary\, 116 South Highland Avenue\, Pittsburgh\, PA\, 15206\, United States
CATEGORIES:Church Life,Educational & Spiritual Life,Health
ATTACH;FMTTYPE=image/jpeg:https://cathedralofhope.org/wp-content/uploads/2015/09/img_cathedral-yoga.jpg
GEO:40.461033;-79.925503
X-APPLE-STRUCTURED-LOCATION;VALUE=URI;X-ADDRESS=ELPC – Sanctuary 116 South Highland Avenue Pittsburgh PA 15206 United States;X-APPLE-RADIUS=500;X-TITLE=116 South Highland Avenue:geo:-79.925503,40.461033
END:VEVENT
BEGIN:VEVENT
DTSTART;TZID=America/Halifax:20310221T190000
DTEND;TZID=America/Halifax:20310221T203000
DTSTAMP:20260425T221754
CREATED:20200402T130239Z
LAST-MODIFIED:20231102T142137Z
UID:10005089-1929466800-1929472200@cathedralofhope.org
SUMMARY:JourneyDance Class
DESCRIPTION:Join Yamuna Morgenstern for JourneyDance on the third Friday of every month from 7–8:30 pm. \nCome experience one of ELPC’s unique spiritual practices and offerings. JourneyDance takes you on a journey within through playful dance in a non-judgmental environment. The playlists are designed to open up your chakras\, move your Spirit\, experience positive vibes\, and have fun! JourneyDance is all about responding to music the way you want to respond—no rules\, no groping\, no ugly lyrics. Join us and dance in healthy community to release tension\, feel good\, relax\, restore\, and renew your body\, mind\, and spirit. \nAll ages and bodies are welcome. No dance experience necessary\, just a joy of moving. Young children should be accompanied by their care givers. Wear comfortable clothing\, and you may want to have a water bottle handy! \nA donation from the heart\, to the church\, is very much appreciated.
URL:https://cathedralofhope.org/event/journeydance/2031-02-21/
LOCATION:PA
CATEGORIES:Church Life,Community,Educational & Spiritual Life,Health
ATTACH;FMTTYPE=image/jpeg:https://cathedralofhope.org/wp-content/uploads/2020/04/img_journey-dance.jpg
END:VEVENT
BEGIN:VEVENT
DTSTART;TZID=America/New_York:20310226T180000
DTEND;TZID=America/New_York:20310226T190000
DTSTAMP:20260425T221754
CREATED:20221115T004955Z
LAST-MODIFIED:20251219T201431Z
UID:10006195-1929895200-1929898800@cathedralofhope.org
SUMMARY:Cathedral Yoga
DESCRIPTION:Yamuna Morgenstern offers Cathedral Yoga class on Wednesdays\, 6–7 pm! Join her and others in the ELPC Sanctuary or your own home via Zoom (password: Yamuna) as she guides you through gentle poses. No yoga experience is necessary to enjoy the class\, which Yamuna continues to offer with joy\, light\, and her uplifting playlists and spirit. Have a strap\, scarf\, or belt handy and experience time to heal your body\, mind\, and spirit. \nCommune with the Divine through breath\, gentle stretches\, mindful music\, and guided meditation. See you on the mat! Om shanti and Namaste. \nA donation from the heart\, to the church\, is very much appreciated. \nJoin via Zoom
URL:https://cathedralofhope.org/event/cathedral-yoga/2031-02-26/
LOCATION:ELPC – Sanctuary\, 116 South Highland Avenue\, Pittsburgh\, PA\, 15206\, United States
CATEGORIES:Church Life,Educational & Spiritual Life,Health
ATTACH;FMTTYPE=image/jpeg:https://cathedralofhope.org/wp-content/uploads/2015/09/img_cathedral-yoga.jpg
GEO:40.461033;-79.925503
X-APPLE-STRUCTURED-LOCATION;VALUE=URI;X-ADDRESS=ELPC – Sanctuary 116 South Highland Avenue Pittsburgh PA 15206 United States;X-APPLE-RADIUS=500;X-TITLE=116 South Highland Avenue:geo:-79.925503,40.461033
END:VEVENT
BEGIN:VEVENT
DTSTART;TZID=America/New_York:20310305T180000
DTEND;TZID=America/New_York:20310305T190000
DTSTAMP:20260425T221754
CREATED:20221115T004955Z
LAST-MODIFIED:20251219T201431Z
UID:10006196-1930500000-1930503600@cathedralofhope.org
SUMMARY:Cathedral Yoga
DESCRIPTION:Yamuna Morgenstern offers Cathedral Yoga class on Wednesdays\, 6–7 pm! Join her and others in the ELPC Sanctuary or your own home via Zoom (password: Yamuna) as she guides you through gentle poses. No yoga experience is necessary to enjoy the class\, which Yamuna continues to offer with joy\, light\, and her uplifting playlists and spirit. Have a strap\, scarf\, or belt handy and experience time to heal your body\, mind\, and spirit. \nCommune with the Divine through breath\, gentle stretches\, mindful music\, and guided meditation. See you on the mat! Om shanti and Namaste. \nA donation from the heart\, to the church\, is very much appreciated. \nJoin via Zoom
URL:https://cathedralofhope.org/event/cathedral-yoga/2031-03-05/
LOCATION:ELPC – Sanctuary\, 116 South Highland Avenue\, Pittsburgh\, PA\, 15206\, United States
CATEGORIES:Church Life,Educational & Spiritual Life,Health
ATTACH;FMTTYPE=image/jpeg:https://cathedralofhope.org/wp-content/uploads/2015/09/img_cathedral-yoga.jpg
GEO:40.461033;-79.925503
X-APPLE-STRUCTURED-LOCATION;VALUE=URI;X-ADDRESS=ELPC – Sanctuary 116 South Highland Avenue Pittsburgh PA 15206 United States;X-APPLE-RADIUS=500;X-TITLE=116 South Highland Avenue:geo:-79.925503,40.461033
END:VEVENT
BEGIN:VEVENT
DTSTART;TZID=America/New_York:20310312T180000
DTEND;TZID=America/New_York:20310312T190000
DTSTAMP:20260425T221754
CREATED:20221115T004955Z
LAST-MODIFIED:20251219T201431Z
UID:10006197-1931104800-1931108400@cathedralofhope.org
SUMMARY:Cathedral Yoga
DESCRIPTION:Yamuna Morgenstern offers Cathedral Yoga class on Wednesdays\, 6–7 pm! Join her and others in the ELPC Sanctuary or your own home via Zoom (password: Yamuna) as she guides you through gentle poses. No yoga experience is necessary to enjoy the class\, which Yamuna continues to offer with joy\, light\, and her uplifting playlists and spirit. Have a strap\, scarf\, or belt handy and experience time to heal your body\, mind\, and spirit. \nCommune with the Divine through breath\, gentle stretches\, mindful music\, and guided meditation. See you on the mat! Om shanti and Namaste. \nA donation from the heart\, to the church\, is very much appreciated. \nJoin via Zoom
URL:https://cathedralofhope.org/event/cathedral-yoga/2031-03-12/
LOCATION:ELPC – Sanctuary\, 116 South Highland Avenue\, Pittsburgh\, PA\, 15206\, United States
CATEGORIES:Church Life,Educational & Spiritual Life,Health
ATTACH;FMTTYPE=image/jpeg:https://cathedralofhope.org/wp-content/uploads/2015/09/img_cathedral-yoga.jpg
GEO:40.461033;-79.925503
X-APPLE-STRUCTURED-LOCATION;VALUE=URI;X-ADDRESS=ELPC – Sanctuary 116 South Highland Avenue Pittsburgh PA 15206 United States;X-APPLE-RADIUS=500;X-TITLE=116 South Highland Avenue:geo:-79.925503,40.461033
END:VEVENT
BEGIN:VEVENT
DTSTART;TZID=America/New_York:20310319T180000
DTEND;TZID=America/New_York:20310319T190000
DTSTAMP:20260425T221754
CREATED:20221115T004955Z
LAST-MODIFIED:20251219T201431Z
UID:10006198-1931709600-1931713200@cathedralofhope.org
SUMMARY:Cathedral Yoga
DESCRIPTION:Yamuna Morgenstern offers Cathedral Yoga class on Wednesdays\, 6–7 pm! Join her and others in the ELPC Sanctuary or your own home via Zoom (password: Yamuna) as she guides you through gentle poses. No yoga experience is necessary to enjoy the class\, which Yamuna continues to offer with joy\, light\, and her uplifting playlists and spirit. Have a strap\, scarf\, or belt handy and experience time to heal your body\, mind\, and spirit. \nCommune with the Divine through breath\, gentle stretches\, mindful music\, and guided meditation. See you on the mat! Om shanti and Namaste. \nA donation from the heart\, to the church\, is very much appreciated. \nJoin via Zoom
URL:https://cathedralofhope.org/event/cathedral-yoga/2031-03-19/
LOCATION:ELPC – Sanctuary\, 116 South Highland Avenue\, Pittsburgh\, PA\, 15206\, United States
CATEGORIES:Church Life,Educational & Spiritual Life,Health
ATTACH;FMTTYPE=image/jpeg:https://cathedralofhope.org/wp-content/uploads/2015/09/img_cathedral-yoga.jpg
GEO:40.461033;-79.925503
X-APPLE-STRUCTURED-LOCATION;VALUE=URI;X-ADDRESS=ELPC – Sanctuary 116 South Highland Avenue Pittsburgh PA 15206 United States;X-APPLE-RADIUS=500;X-TITLE=116 South Highland Avenue:geo:-79.925503,40.461033
END:VEVENT
BEGIN:VEVENT
DTSTART;TZID=America/Halifax:20310321T190000
DTEND;TZID=America/Halifax:20310321T203000
DTSTAMP:20260425T221754
CREATED:20200402T130239Z
LAST-MODIFIED:20231102T142137Z
UID:10005090-1931886000-1931891400@cathedralofhope.org
SUMMARY:JourneyDance Class
DESCRIPTION:Join Yamuna Morgenstern for JourneyDance on the third Friday of every month from 7–8:30 pm. \nCome experience one of ELPC’s unique spiritual practices and offerings. JourneyDance takes you on a journey within through playful dance in a non-judgmental environment. The playlists are designed to open up your chakras\, move your Spirit\, experience positive vibes\, and have fun! JourneyDance is all about responding to music the way you want to respond—no rules\, no groping\, no ugly lyrics. Join us and dance in healthy community to release tension\, feel good\, relax\, restore\, and renew your body\, mind\, and spirit. \nAll ages and bodies are welcome. No dance experience necessary\, just a joy of moving. Young children should be accompanied by their care givers. Wear comfortable clothing\, and you may want to have a water bottle handy! \nA donation from the heart\, to the church\, is very much appreciated.
URL:https://cathedralofhope.org/event/journeydance/2031-03-21/
LOCATION:PA
CATEGORIES:Church Life,Community,Educational & Spiritual Life,Health
ATTACH;FMTTYPE=image/jpeg:https://cathedralofhope.org/wp-content/uploads/2020/04/img_journey-dance.jpg
END:VEVENT
END:VCALENDAR