BEGIN:VCALENDAR
VERSION:2.0
PRODID:-//East Liberty Presbyterian Church - ECPv6.15.20//NONSGML v1.0//EN
CALSCALE:GREGORIAN
METHOD:PUBLISH
X-ORIGINAL-URL:https://cathedralofhope.org
X-WR-CALDESC:Events for East Liberty Presbyterian Church
REFRESH-INTERVAL;VALUE=DURATION:PT1H
X-Robots-Tag:noindex
X-PUBLISHED-TTL:PT1H
BEGIN:VTIMEZONE
TZID:America/Halifax
BEGIN:DAYLIGHT
TZOFFSETFROM:-0400
TZOFFSETTO:-0300
TZNAME:ADT
DTSTART:20130310T060000
END:DAYLIGHT
BEGIN:STANDARD
TZOFFSETFROM:-0300
TZOFFSETTO:-0400
TZNAME:AST
DTSTART:20131103T050000
END:STANDARD
BEGIN:DAYLIGHT
TZOFFSETFROM:-0400
TZOFFSETTO:-0300
TZNAME:ADT
DTSTART:20140309T060000
END:DAYLIGHT
BEGIN:STANDARD
TZOFFSETFROM:-0300
TZOFFSETTO:-0400
TZNAME:AST
DTSTART:20141102T050000
END:STANDARD
BEGIN:DAYLIGHT
TZOFFSETFROM:-0400
TZOFFSETTO:-0300
TZNAME:ADT
DTSTART:20150308T060000
END:DAYLIGHT
BEGIN:STANDARD
TZOFFSETFROM:-0300
TZOFFSETTO:-0400
TZNAME:AST
DTSTART:20151101T050000
END:STANDARD
END:VTIMEZONE
BEGIN:VEVENT
DTSTART;VALUE=DATE:20140916
DTEND;VALUE=DATE:20140917
DTSTAMP:20260424T181925
CREATED:20140916T154613Z
LAST-MODIFIED:20140916T154613Z
UID:10001992-1410825600-1410911999@cathedralofhope.org
SUMMARY:First Day of Hope Academy's Fall Term
DESCRIPTION:Hope Academy classes and private lessons begin today! If you haven’t already registered\, and if you are interested in doing so\, please fill out this online form for more information.
URL:https://cathedralofhope.org/event/first-day-hope-academy-fall-term/
LOCATION:East Liberty Presbyterian Church\, 116 S. Highland Avenue\, Pittsburgh\, PA\, 15206\, United States
CATEGORIES:Featured Events,Hope Academy
ATTACH;FMTTYPE=image/jpeg:https://cathedralofhope.org/wp-content/uploads/2014/09/HAT-Co-Group-Photo-1st-day.jpg
GEO:40.4609708;-79.9253554
X-APPLE-STRUCTURED-LOCATION;VALUE=URI;X-ADDRESS=East Liberty Presbyterian Church 116 S. Highland Avenue Pittsburgh PA 15206 United States;X-APPLE-RADIUS=500;X-TITLE=116 S. Highland Avenue:geo:-79.9253554,40.4609708
END:VEVENT
BEGIN:VEVENT
DTSTART;TZID=America/Halifax:20140906T120000
DTEND;TZID=America/Halifax:20140906T150000
DTSTAMP:20260424T181925
CREATED:20140809T230754Z
LAST-MODIFIED:20140809T230754Z
UID:10001972-1410004800-1410015600@cathedralofhope.org
SUMMARY:Hope Academy Teen Theater Company (HAT Co) Auditions
DESCRIPTION:We are looking for strong and committed singers\, dancers\, actors and musicians who will fearlessly throw themselves into creating artistic work together.  \nDownload HAT Co’s Calendar and Schedule for the year\, to make sure that you will be able to commit to all of the scheduled classes\, ensembles\, rehearsals and performances. Then complete this online HAT Co Application\, and we will\ncontact you with more info about the audition.\n \nABOUT HAT Co \nThis audition-only company provides a more intensive\, ensemble- and performance-based experience for students in grades 6 through 12 who are interested in the performing arts. HAT Co members are encouraged to make their own work\, as they learn to think about and respect dance\, theater and music as art forms — and themselves as artists and creators. \nThis program is uniquely suited for teens who are motivated to study and perform across a range of disciplines; and who have an interest in being part of an inclusive\, supportive\, non-competitive group. \nEnsemble members receive private\, class and ensemble training in acting\, singing\, dance and instrumental music (keyboard\, drum set\, guitar\, bass\, violin\, and any other instrument that can be incorporated into the rock band). Classes and ensembles meet all day on Saturday and Thursdays after school; private lessons take place after school\, during the week. Students are required to make a yearlong commitment (September to mid-June) and to sign a contract indicating their ability and willingness to attend all scheduled classes\, private lessons\, rehearsals and performances. \nMusicians who are proficient in one or more instruments\, may audition for HAT Co (and also participate in the singing\, dance and acting components) or opt to only participate in HAT Co Rock Band. Middle school students (6th and 7th grade) will be placed in HAT Co Jr. \nWe will email complete audition information to everyone who completes the online HAT Co Application\, but here are the basic requirements.\n \n\nPlease arrive promptly at 12 noon\nMake sure you have completed the online application (download HAT Co Application 2014-2015)\nPrepare a 1 minute monologue or poem (memorized is best\, although you could do a reading if necessary);\nBe ready to sing a song of your choice\, A cappella (unaccompanied)\, or accompany yourself on your instrument;\nWear loose\, comfortable clothing to take a movement class;\nBring your instrument\, and play a song of your choice\, if you are auditioning for HAT Co band\n\nApplicants who are accepted into HAT Co will be required to have a parent or guardian attend an orientation session.
URL:https://cathedralofhope.org/event/hope-academy-teen-theater-company-hat-co-auditions/
LOCATION:East Liberty Presbyterian Church\, 116 S. Highland Avenue\, Pittsburgh\, PA\, 15206\, United States
CATEGORIES:Children & Youth,Featured Events,Hope Academy
ATTACH;FMTTYPE=image/jpeg:https://cathedralofhope.org/wp-content/uploads/2014/08/HAT-CO-EVENT-Photo-2014-2015-registration.jpg
GEO:40.4609708;-79.9253554
X-APPLE-STRUCTURED-LOCATION;VALUE=URI;X-ADDRESS=East Liberty Presbyterian Church 116 S. Highland Avenue Pittsburgh PA 15206 United States;X-APPLE-RADIUS=500;X-TITLE=116 S. Highland Avenue:geo:-79.9253554,40.4609708
END:VEVENT
BEGIN:VEVENT
DTSTART;TZID=America/Halifax:20140906T100000
DTEND;TZID=America/Halifax:20140906T120000
DTSTAMP:20260424T181925
CREATED:20140809T234508Z
LAST-MODIFIED:20140809T234508Z
UID:10001977-1409997600-1410004800@cathedralofhope.org
SUMMARY:Hope Academy On-Site Registration
DESCRIPTION:If you would like to pay your tuition with cash\, or talk to someone in-person about your child’s involvement with Hope Academy\, there are 3 days this week to do so. Otherwise\, it is perfectly fine to mail your registration form and payment to us.  \nON-SITE REGISTRATION DAYS AND TIMES\nTuesday\, Sept 2 (6 to 8 pm)\nFriday\, Sept 5 (6 to 8 pm)\nSaturday\, Sept 6 (10 am to 12 noon)
URL:https://cathedralofhope.org/event/hope-academy-site-registration-3/
LOCATION:East Liberty Presbyterian Church\, 116 S. Highland Avenue\, Pittsburgh\, PA\, 15206\, United States
CATEGORIES:Children & Youth,Hope Academy
ATTACH;FMTTYPE=image/jpeg:https://cathedralofhope.org/wp-content/uploads/2014/08/Onsite-Registration-Event-Photo-Piano-and-Ballet.jpg
GEO:40.4609708;-79.9253554
X-APPLE-STRUCTURED-LOCATION;VALUE=URI;X-ADDRESS=East Liberty Presbyterian Church 116 S. Highland Avenue Pittsburgh PA 15206 United States;X-APPLE-RADIUS=500;X-TITLE=116 S. Highland Avenue:geo:-79.9253554,40.4609708
END:VEVENT
BEGIN:VEVENT
DTSTART;TZID=America/Halifax:20140906T100000
DTEND;TZID=America/Halifax:20140906T110000
DTSTAMP:20260424T181925
CREATED:20140809T224839Z
LAST-MODIFIED:20140809T224839Z
UID:10001474-1409997600-1410001200@cathedralofhope.org
SUMMARY:PBT Dance Placement Auditions + Recycle\, Donate and Swap Dance Clothes
DESCRIPTION:Students who would like to be considered for acceptance into the Pittsburgh Ballet Theatre (PBT) Bridge Ballet 1 class at Hope Academy should attend this placement audition. Students who were selected to participate in the Bridge Ballet 1 class during the Spring 2014 term do not need to attend this audition (they are invited to register for the class). \nFor all other PBT classes at Hope Academy\, students should register for the level that corresponds to their age as of Sept 1. If you feel that your child should be in a different class for some reason\, please attend this placement session.PBT instructors will assess the students and may re-assigned them to  different levels\, if appropriate. \nRECYCLE\, DONATE & SWAP FOR GENTLY USED DANCE CLOTHING & SHOES – 11 am \nAlyssa Melby Herzog\, the Director of Education and Community Engagement from Pittsburgh Ballet Theatre\, organized a collection there in order to provide dance clothing and shoes for our students who might not otherwise be able to afford them. We will have dance clothing and shoes in a wide range of sizes available in the Harambe room at the entrance of East Liberty Presbyterian Church. Please come\, with your child\, to try on shoes and find appropriate leotards and tights. We will be accepting cash donations (pay what you can) that will be used to purchase additional shoes and clothing. \nAdditionally\, if you have any dance clothes or shoes that your child has outgrown\, please bring them to contribute so that another child can put them to good use. \non Saturday\, September 6 at 10 am.
URL:https://cathedralofhope.org/event/pbt-dance-placement-auditions/
LOCATION:ELPC – Gym\, 116 S. Highland Avenue\, Pittsburgh\, 15206\, United States
CATEGORIES:Children & Youth,Featured Events,Hope Academy
ATTACH;FMTTYPE=image/jpeg:https://cathedralofhope.org/wp-content/uploads/2014/08/PBT-Dance-Placement-Event.jpg
GEO:40.4609708;-79.9253554
X-APPLE-STRUCTURED-LOCATION;VALUE=URI;X-ADDRESS=ELPC – Gym 116 S. Highland Avenue Pittsburgh 15206 United States;X-APPLE-RADIUS=500;X-TITLE=116 S. Highland Avenue:geo:-79.9253554,40.4609708
END:VEVENT
BEGIN:VEVENT
DTSTART;TZID=America/Halifax:20140905T180000
DTEND;TZID=America/Halifax:20140905T200000
DTSTAMP:20260424T181925
CREATED:20140809T234410Z
LAST-MODIFIED:20140809T234410Z
UID:10001976-1409940000-1409947200@cathedralofhope.org
SUMMARY:Hope Academy On-Site Registration
DESCRIPTION:If you would like to pay your tuition with cash\, or talk to someone in-person about your child’s involvement with Hope Academy\, there are 3 days this week to do so. Otherwise\, it is perfectly fine to mail your registration form and payment to us. \nON-SITE REGISTRATION DAYS AND TIMES\nTuesday\, Sept 2 (6 to 8 pm)\nFriday\, Sept 5 (6 to 8 pm)\nSaturday\, Sept 6 (10 am to 12 noon)
URL:https://cathedralofhope.org/event/hope-academy-site-registration-2/
LOCATION:East Liberty Presbyterian Church\, 116 S. Highland Avenue\, Pittsburgh\, PA\, 15206\, United States
CATEGORIES:Children & Youth,Featured Events,Hope Academy
ATTACH;FMTTYPE=image/jpeg:https://cathedralofhope.org/wp-content/uploads/2014/08/Onsite-Registration-Event-Photo-Piano-and-Ballet.jpg
GEO:40.4609708;-79.9253554
X-APPLE-STRUCTURED-LOCATION;VALUE=URI;X-ADDRESS=East Liberty Presbyterian Church 116 S. Highland Avenue Pittsburgh PA 15206 United States;X-APPLE-RADIUS=500;X-TITLE=116 S. Highland Avenue:geo:-79.9253554,40.4609708
END:VEVENT
BEGIN:VEVENT
DTSTART;TZID=America/Halifax:20140902T180000
DTEND;TZID=America/Halifax:20140902T200000
DTSTAMP:20260424T181925
CREATED:20140809T234232Z
LAST-MODIFIED:20140809T234232Z
UID:10001974-1409680800-1409688000@cathedralofhope.org
SUMMARY:Hope Academy On-Site Registration
DESCRIPTION:If you would like to pay your tuition with cash\, or talk to someone in-person about your child’s involvement with Hope Academy\, there are 3 days this week to do so. Otherwise\, it is perfectly fine to mail your registration form and payment to us.  \nON-SITE REGISTRATION DAYS AND TIMES\nTuesday\, Sept 2 (6 to 8 pm)\nFriday\, Sept 5 (6 to 8 pm)\nSaturday\, Sept 6 (10 am to 12 noon)
URL:https://cathedralofhope.org/event/hope-academy-site-registration/
LOCATION:East Liberty Presbyterian Church\, 116 S. Highland Avenue\, Pittsburgh\, PA\, 15206\, United States
CATEGORIES:Children & Youth,Hope Academy
ATTACH;FMTTYPE=image/jpeg:https://cathedralofhope.org/wp-content/uploads/2014/08/Onsite-Registration-Event-Photo-Piano-and-Ballet.jpg
GEO:40.4609708;-79.9253554
X-APPLE-STRUCTURED-LOCATION;VALUE=URI;X-ADDRESS=East Liberty Presbyterian Church 116 S. Highland Avenue Pittsburgh PA 15206 United States;X-APPLE-RADIUS=500;X-TITLE=116 S. Highland Avenue:geo:-79.9253554,40.4609708
END:VEVENT
BEGIN:VEVENT
DTSTART;VALUE=DATE:20140815
DTEND;VALUE=DATE:20140816
DTSTAMP:20260424T181925
CREATED:20140809T210904Z
LAST-MODIFIED:20140809T210904Z
UID:10001473-1408060800-1408147199@cathedralofhope.org
SUMMARY:Deadline for HAT Co Applications
DESCRIPTION:Make sure you’ve completed the online HAT Co Application for HAT Co\, HAT Co Jr and HAT Co Rock Band\, so that we can schedule your audition on Saturday\, September 6.  \nDownload HAT Co’s Calendar and Schedule for the year\, to see if you will be able to make the necessary commitment. Then complete the online HAT Co Application\, and we’ll get back to you with more information. \nABOUT HAT Co: \nThis audition-only company provides a more intensive\, ensemble- and performance-based experience for students in grades 6 through 12 who are interested in the performing arts. HAT Co members are encouraged to make their own work\, as they learn to think about and respect dance\, theater and music as art forms — and themselves as artists and creators. \nSelected students receive individual\, class and ensemble training in acting\, dance\, vocal and instrumental music. Classes and ensembles meet all day on Saturday (tap\, vocal ensemble\, rock band\, theater ensemble\, extra coaching sessions) and Thursdays after school (ukulele and core dance); private voice and instrument lessons take place after school\, during the week. \nHAT Co Jr is a new program for 6th and 7th grade students; and HAT Co Rock Band offers musicians who are proficient in their instrument the opportunity to play in the band without having to participate in the theater and dance ensembles. \nStudents are required to make a yearlong commitment and sign a contract indicating their ability and willingness to attend all scheduled classes\, private lessons\, rehearsals and performances.
URL:https://cathedralofhope.org/event/deadline-hat-co-applications/
LOCATION:PA
CATEGORIES:Children & Youth,Featured Events,Hope Academy
ATTACH;FMTTYPE=image/jpeg:https://cathedralofhope.org/wp-content/uploads/2014/08/HAT-CO-EVENT-Photo-2014-2015-registration.jpg
END:VEVENT
BEGIN:VEVENT
DTSTART;VALUE=DATE:20140815
DTEND;VALUE=DATE:20140816
DTSTAMP:20260424T181925
CREATED:20140809T172317Z
LAST-MODIFIED:20140809T172317Z
UID:10001470-1408060800-1408147199@cathedralofhope.org
SUMMARY:Deadline for Hope Academy Scholarship Applications
DESCRIPTION:Today is the deadline for scholarship applications for courses and private lessons at Hope Academy of Music and the Arts.  \nMerit- and need-based scholarships are awarded in August for the entire school year. Completed applications received on or before August 15\, 2014 will be given priority. Those received after the deadline may be considered\, if scholarship funds are still available. We will accept applications throughout the year to fill openings created by non-returning students and/or the receipt of additional funding or special gifts. Preference is given to returning Hope Academy students\, and those who qualify as being low income and/or who represent a racial\, ethnic\, or cultural minority. \nDownload the 2014-2015 Course Brochure for details about our courses and private lessons and then use one of the online scholarship application forms to submit your information electronically. \nThere are two scholarship application forms: \n\nGeneral Scholarship Application 2014-2015 – for theater\, music and dance courses\nDiscover the Talent Scholarship Application 2014-2015 – for private music instruction (voice and instrumental)\n\n 
URL:https://cathedralofhope.org/event/deadline-hope-academy-scholarship-applications-2014-2015/
LOCATION:PA
CATEGORIES:Children & Youth,Featured Events,Hope Academy
ATTACH;FMTTYPE=image/jpeg:https://cathedralofhope.org/wp-content/uploads/2014/08/Full-Page-Cover-Image.jpg
END:VEVENT
BEGIN:VEVENT
DTSTART;TZID=America/Halifax:20140628T140000
DTEND;TZID=America/Halifax:20140628T230000
DTSTAMP:20260424T181925
CREATED:20140624T163131Z
LAST-MODIFIED:20140624T163131Z
UID:10002444-1403964000-1403996400@cathedralofhope.org
SUMMARY:HAT Co @ WYEP Summer Music Festival
DESCRIPTION:Hope Academy’s teen theater company band\, HAT Co\, is performing on SAT June 28 at 2 pm as part of WYEP’s 2014 Summer Music Festival. The afternoon will feature HAT Co\, plus three other local teen bands –  winners of WYEP’s Reimagination Contest. Bring your blanket and join us at Schenley Plaza (the park in front of the Carnegie Library in Oakland). HAT Co is first up at 2 pm and will feature Anna Lowe\, Sam Gardner\, Candace Burgess\, Mimi Thomas\, Zoe Zielinski\, Lawrence White and Michael Chapman. \nBesides the opportunity to perform\, each band selected for WYEP’s Reimagine project received the opportunity to record one song at The Church Recording Studio. HAT Co was matched with producer\, Jake Hanner\, from the band Donora to record Zoe Zielinski’s original song\, “Gold Chains\, Diamonds.” The song is included on a WYEP Reimagination Compilation CD. \nWYEP’s blog says: \nEach of bands could not sound more different\, but their songs on the CD exhibit a high level of professionalism\, energy\, and musical talent. \nHat Co’s song featuring Zoe Z.\, “Gold Chains\,” has an R&B / Soul flavor. Zoe sings with a mature confidence\, emotion\, and power\, which is usually difficult for young musicians to convey through a recording\, but Zoe does it successfully. \nWYEP’s Summer Music Festival evening performances (starting at 6 pm) include The Red Western\, Elizabeth & The Catapult\, Valerie June and The Sam Roberts Band. \nCONNECT AND SHARE \n#HATCoWYEP is the hashtag for this event. To share your experience\, use #HATCoWYEP on Twitter\, Instagram and other social media sites. Follow us on Instagram (hopeacademyarts); Twitter (@HopeAcademyArts); and facebook (facebook.com/HopeAcademy). HAT Co has a new bandcamp page: http://hatco.bandcamp.com.\n \nCheck us out! \n \n 
URL:https://cathedralofhope.org/event/hat-co-wyep-summer-music-festival/
LOCATION:Schenley Plaza\, 4100 Forbes Avenue\, Pittsburgh\, 15260\, United States
CATEGORIES:Featured Events,Hope Academy,Music
ATTACH;FMTTYPE=image/jpeg:https://cathedralofhope.org/wp-content/uploads/2014/06/schenley-plaza.jpg
GEO:40.4435295;-79.9521286
X-APPLE-STRUCTURED-LOCATION;VALUE=URI;X-ADDRESS=Schenley Plaza 4100 Forbes Avenue Pittsburgh 15260 United States;X-APPLE-RADIUS=500;X-TITLE=4100 Forbes Avenue:geo:-79.9521286,40.4435295
END:VEVENT
BEGIN:VEVENT
DTSTART;TZID=America/Halifax:20140607T130000
DTEND;TZID=America/Halifax:20140607T153000
DTSTAMP:20260424T181925
CREATED:20140509T002253Z
LAST-MODIFIED:20140509T002253Z
UID:10002343-1402146000-1402155000@cathedralofhope.org
SUMMARY:Getting Started in Music and Dance: An Open House for Families with Young Children
DESCRIPTION:Do you have a young child who loves music and/or dance\, but you’re not sure how to help them get started? Join us for an afternoon session of demonstrations\, presentations and hand-on activities designed to answer your questions and give you the information you need to get your child ready to begin learning how to sing\, dance\, or play an instrument. \n1:00 to 2:30 pm – Music Program at Hope Academy\nChildren love music and movement; it’s natural – almost instinctual – for them to sing\, clap\, make rhythms\, and move. But how early should they get started in more formal classes and lessons? What instrument should they play? How do you know if they are ready? How long of a lesson should they take and often should they practice? To help answer these questions\, teaching artists\, from Hope Academy of Music and the Arts\, will give presentations on piano\, strings (violin\, viola\, cello)\, flute\, guitar\, drums/percussion and voice. Children will be able to listen to and touch various instruments. Families will be invited to observe a Suzuki violin class in action and learn more about our new Suzuki piano program. Scholarship applications (for Fall 2014) will be accepted and appointments for interviews will be scheduled. \n2:30 to 3:30 pm – Pittsburgh Ballet Theatre Dance Program @ Hope Academy\nAn early introduction to dance can foster a lifelong interest in\, if not a love for\, movement\, music\, rhythm and dance. However\, it’s important that the introduction be fun and stimulating; and that it engage the child’s body\, mind and imagination. There are many different methods and approaches to dance training for young children. To find out about Hope Academy’s\, join us for an “open class” for 6- to 8-year-old dancers; and meet Alyssa Herzog Melby\, Pittsburgh Ballet Theatre’s Director of Education and Community Engagement. \nAll events are free\, but space is limited and families must RSVP online at www.brownpapertickets.com (click on the link below) or by calling 412-441-3800 x11.
URL:https://cathedralofhope.org/event/getting-started-music-dance-open-house-families-young-children/
LOCATION:PA
CATEGORIES:Children & Youth,Featured Events,Hope Academy,Music
ATTACH;FMTTYPE=image/jpeg:https://cathedralofhope.org/wp-content/uploads/2014/05/Music-Dance-Image.jpg
END:VEVENT
BEGIN:VEVENT
DTSTART;TZID=America/Halifax:20140607T093000
DTEND;TZID=America/Halifax:20140607T120000
DTSTAMP:20260424T181925
CREATED:20140510T005252Z
LAST-MODIFIED:20140510T005252Z
UID:10000701-1402133400-1402142400@cathedralofhope.org
SUMMARY:HAT Co Auditions
DESCRIPTION:We are looking for strong and committed singers\, dancers\, actors and musicians who will fearlessly throw themselves into creating artistic work together. \nABOUT HAT Co \nThis audition-only company provides a more intensive\, ensemble- and performance-based experience for students in grades 6 through 12 who are interested in the performing arts. HAT Co members are encouraged to make their own work\, as they learn to think about and respect dance\, theater and music as art forms — and themselves as artists and creators. \nThis program is uniquely suited for teens who are motivated to study and perform across a range of disciplines; and who have an interest in being part of an inclusive\, supportive\, non-competitive group. \nEnsemble members receive private\, class and ensemble training in acting\, singing\, dance and instrumental music (keyboard\, drum set\, guitar\, bass\, violin\, and any other instrument that can be incorporated into the rock band). Classes and ensembles meet all day on Saturday and Thursdays after school; private lessons take place after school\, during the week. Students are required to make a yearlong commitment (September to mid-June) and to sign a contract indicating their ability and willingness to attend all scheduled classes\, private lessons\, rehearsals and performances. \nAUDITION ON SATURDAY\, JUNE 7 \n\nPlease arrive promptly at 9:30 am\nBring your completed application (download HAT Co Application 2014-2015)\nPrepare a 1 minute monologue or poem (memorized);\nBe ready to sing a song of your choice\, A cappella (unaccompanied)\, or accompany yourself on your instrument;\nWear loose\, comfortable clothing to take a movement class;\nBring your instrument\, and play a song of your choice\, if you are auditioning for HAT Co band\n\nApplicants who are accepted into HAT Co will be required to have a parent or guardian attend an orientation session
URL:https://cathedralofhope.org/event/hat-co-auditions/
LOCATION:PA
CATEGORIES:Featured Events,Hope Academy
ATTACH;FMTTYPE=image/png:https://cathedralofhope.org/wp-content/uploads/2014/05/HAT-Co-Auditions-2014-Flyer-small.png
END:VEVENT
BEGIN:VEVENT
DTSTART;TZID=America/Halifax:20140531T093000
DTEND;TZID=America/Halifax:20140531T160000
DTSTAMP:20260424T181925
CREATED:20140530T154842Z
LAST-MODIFIED:20140530T154842Z
UID:10002427-1401528600-1401552000@cathedralofhope.org
SUMMARY:NO BOUNDaries Young Artist Workshop
DESCRIPTION:Calling all musicians\, singers\, rappers\, poets and writers\, ages 12-18! \nYoung musicians and writers will have the opportunity to collaborate and create with each other under the direction of three of Pittsburgh’s most accomplished and talented artists. Vocalist and Hope Academy teaching artist\, Anqwenique Wingfield; pianist  and composer Dr. Alton Merrell; and literary artist\, Yona Harvey\, are hosting the NO BOUNDaries Young Artist Workshop at East Liberty Presbyterian Church\, in partnership with Hope Academy of Music and the Arts. Make new friends and new music at this FREE event. Lunch will be provided. \nFor more information\, and to reserve your spot\,  please call Anqwenique Wingfield @ 240-277-1985 or email sopranowing@gmail.com
URL:https://cathedralofhope.org/event/boundaries-young-artist-workshop/
LOCATION:PA
CATEGORIES:Children & Youth,Featured Events,Hope Academy,Hope Academy Teaching Artists,Music
ATTACH;FMTTYPE=image/jpeg:https://cathedralofhope.org/wp-content/uploads/2014/05/NoBoundaries-Photo1.jpg
END:VEVENT
BEGIN:VEVENT
DTSTART;TZID=America/Halifax:20140517T090000
DTEND;TZID=America/Halifax:20140517T210000
DTSTAMP:20260424T181925
CREATED:20140516T230413Z
LAST-MODIFIED:20140516T230413Z
UID:10000776-1400317200-1400360400@cathedralofhope.org
SUMMARY:Hope Academy Spring Music Festival
DESCRIPTION:Hope Academy’s young singers and musicians are presenting an entire day of recitals and performances on Saturday\, May 17. \nInstrumental and vocal recitals will take place throughout the ELPC building from 10 am to 5 pm (see schedule with rooms below)\nEL CEO (East Liberty Community Engagement Orchestra) and Suzuki Violin students will perform in the Sanctuary at 5:00 pm.\nHAT Co (Hope Academy Teen Theater Company) and The HAMS (Hope Academy Middle School) Band will rock it out in the Social Hall from 7 to 9 pm. \nEveryone is invited and it’s all FREE! \n\n SPRING MUSIC FESTIVAL SCHEDULE \n9 am     Music Room (3rd Floor)\nPiano\, voice guitar and cello students of Doug Levine\, Mike Borowski and Ana Diaz \n1 pm     Music Room (3rd Floor)\nGuitar\, piano\, voice\, ukulele\, brass and oboe students of Michael Chapman\, Federico Garcia de Castro\, Naoko Hirai\, Monica Stephenson and Lenny Young \n2 pm     Sanctuary (1st Floor)\nPiano\, guitar\, clarinet\, percussion\, violin and flute students of Gabe Katz\, Ryan Leonard\, Jack Ragu\, David Robbins\, Margaux Pisula and Kristine Rominsky \n4 pm     Music Room (3rd Floor)\nPiano\, voice and guitar students of Lee Kikuchi\, Carly Noel Black\, Anqwenique Wingfield\, Gabe Katz and Emma Cox \n5 pm     Sanctuary (1st Floor)\nEL CEO (East Liberty Community Engagement Orchestra)\, under the direction of Federico Garcia-de Castro and Suzuki Violin students of Kathleen Andrews  and Jennifer Vinsel; with performances by teaching artists\, Gabe D’Abruzzo and Kristine Rominsky \n7 pm     Social Hall (Basement)\nHAT Co voice and instrument recitals – students of Carly Noel Black\, Emma Cox and Monica Stephenson; vocal ensemble under the direction of Anqwenique Wingfield; The HAMS Band (Hope Academy Middle School Band)\, under the direction of Emma Cox; HAT Co Band\, under the direction of Michael Chapman.
URL:https://cathedralofhope.org/event/hope-academy-spring-music-festival/
LOCATION:PA
CATEGORIES:Concerts,Featured Events,Hope Academy,Music,Special Events
ATTACH;FMTTYPE=image/jpeg:https://cathedralofhope.org/wp-content/uploads/2014/05/Spring-Music-Festival-Poster.jpg
END:VEVENT
END:VCALENDAR