BEGIN:VCALENDAR
VERSION:2.0
PRODID:-//East Liberty Presbyterian Church - ECPv6.15.20//NONSGML v1.0//EN
CALSCALE:GREGORIAN
METHOD:PUBLISH
X-WR-CALNAME:East Liberty Presbyterian Church
X-ORIGINAL-URL:https://cathedralofhope.org
X-WR-CALDESC:Events for East Liberty Presbyterian Church
REFRESH-INTERVAL;VALUE=DURATION:PT1H
X-Robots-Tag:noindex
X-PUBLISHED-TTL:PT1H
BEGIN:VTIMEZONE
TZID:America/New_York
BEGIN:DAYLIGHT
TZOFFSETFROM:-0500
TZOFFSETTO:-0400
TZNAME:EDT
DTSTART:20230312T070000
END:DAYLIGHT
BEGIN:STANDARD
TZOFFSETFROM:-0400
TZOFFSETTO:-0500
TZNAME:EST
DTSTART:20231105T060000
END:STANDARD
BEGIN:DAYLIGHT
TZOFFSETFROM:-0500
TZOFFSETTO:-0400
TZNAME:EDT
DTSTART:20240310T070000
END:DAYLIGHT
BEGIN:STANDARD
TZOFFSETFROM:-0400
TZOFFSETTO:-0500
TZNAME:EST
DTSTART:20241103T060000
END:STANDARD
BEGIN:DAYLIGHT
TZOFFSETFROM:-0500
TZOFFSETTO:-0400
TZNAME:EDT
DTSTART:20250309T070000
END:DAYLIGHT
BEGIN:STANDARD
TZOFFSETFROM:-0400
TZOFFSETTO:-0500
TZNAME:EST
DTSTART:20251102T060000
END:STANDARD
END:VTIMEZONE
BEGIN:VEVENT
DTSTART;TZID=America/New_York:20240310T094500
DTEND;TZID=America/New_York:20240310T140000
DTSTAMP:20260425T203834
CREATED:20240228T111946Z
LAST-MODIFIED:20240228T111946Z
UID:10003467-1710063900-1710079200@cathedralofhope.org
SUMMARY:Tie Dye T-Shirt Sale
DESCRIPTION:We’re selling ELPC rainbow tie-dye t-shirts. The front says “East Liberty Presbyterian Church” and the back says “God created you. God loves you. Be yourself.” They’re perfect for upcoming June Pittsburgh Pride marches or for wearing around as you share God’s love for all in a colorful\, stylish way. Shirts are available in short- and long-sleeve options\, in sizes ranging from S–4XL. \nPurchase one at tiny.cc/elpcpride from March 1–17\, for $16 ($15 plus a convenience fee) paid by credit card\, or in person right after our Journey and Sanctuary services on Sunday\, March 10\, for $15 paid via cash/check. \nYou will be contacted when the shirts are ready for pick up at the church. For more details\, please contact Wil Forrest at 412.441.3800 x218. \nBuy Online
URL:https://cathedralofhope.org/event/tie-dye-t-shirt-sale/
LOCATION:PA
CATEGORIES:Featured Events,LGBTQIA+
ATTACH;FMTTYPE=image/jpeg:https://cathedralofhope.org/wp-content/uploads/2024/02/shirts-2.jpg
END:VEVENT
BEGIN:VEVENT
DTSTART;TZID=America/New_York:20240317T123000
DTEND;TZID=America/New_York:20240317T143000
DTSTAMP:20260425T203834
CREATED:20231116T171318Z
LAST-MODIFIED:20231116T171318Z
UID:10006451-1710678600-1710685800@cathedralofhope.org
SUMMARY:March LGBTQIA+ Ministry Spiritual Gathering
DESCRIPTION:You are invited to the next Spiritual Gathering of ELPC’s LGBTQIA+ Ministry to share food and fellowship at the church. Allies and LGBTQIA+ folks alike are welcome. \nContact Wil Forrest at 412.441.3800 X218 or Wil@coh.net to learn more\, to RSVP\, and/or to participate.  A Zoom option will be available if expressed need is communicated to Wil before the Friday preceding the gathering. \nGOD CREATED YOU. GOD LOVES YOU.  BE YOURSELF.
URL:https://cathedralofhope.org/event/march-lgbtqia-ministry-spiritual-gathering/
LOCATION:East Liberty Presbyterian Church\, 116 S. Highland Avenue\, Pittsburgh\, PA\, 15206\, United States
CATEGORIES:LGBTQIA+
ORGANIZER;CN="Wil Forrest":MAILTO:Wil@coh.net
GEO:40.4609708;-79.9253554
X-APPLE-STRUCTURED-LOCATION;VALUE=URI;X-ADDRESS=East Liberty Presbyterian Church 116 S. Highland Avenue Pittsburgh PA 15206 United States;X-APPLE-RADIUS=500;X-TITLE=116 S. Highland Avenue:geo:-79.9253554,40.4609708
END:VEVENT
END:VCALENDAR